BEGIN:VCALENDAR
VERSION:2.0
PRODID:-//YMCA of Ashland, Ohio - ECPv6.5.0//NONSGML v1.0//EN
CALSCALE:GREGORIAN
METHOD:PUBLISH
X-WR-CALNAME:YMCA of Ashland, Ohio
X-ORIGINAL-URL:https://www.ashlandy.org
X-WR-CALDESC:Events for YMCA of Ashland, Ohio
REFRESH-INTERVAL;VALUE=DURATION:PT1H
X-Robots-Tag:noindex
X-PUBLISHED-TTL:PT1H
BEGIN:VTIMEZONE
TZID:America/New_York
BEGIN:DAYLIGHT
TZOFFSETFROM:-0500
TZOFFSETTO:-0400
TZNAME:EDT
DTSTART:20240310T070000
END:DAYLIGHT
BEGIN:STANDARD
TZOFFSETFROM:-0400
TZOFFSETTO:-0500
TZNAME:EST
DTSTART:20241103T060000
END:STANDARD
END:VTIMEZONE
BEGIN:VEVENT
DTSTART;TZID=America/New_York:20240502T051500
DTEND;TZID=America/New_York:20240502T060000
DTSTAMP:20260421T134646
CREATED:20240403T122253Z
LAST-MODIFIED:20240422T065230Z
UID:10000455-1714626900-1714629600@www.ashlandy.org
SUMMARY:Cycling-w/Michelle McDonald
DESCRIPTION:First come. First served.
URL:https://www.ashlandy.org/event/cycling-w-michelle-mcdonald-10/
LOCATION:Cycling Room
CATEGORIES:Group Ex-Schedule
END:VEVENT
BEGIN:VEVENT
DTSTART;TZID=America/New_York:20240502T060000
DTEND;TZID=America/New_York:20240502T110000
DTSTAMP:20260421T134646
CREATED:20240329T144116Z
LAST-MODIFIED:20240422T064959Z
UID:10000075-1714629600-1714647600@www.ashlandy.org
SUMMARY:Pickle Ball
DESCRIPTION:
URL:https://www.ashlandy.org/event/pickle-ball-25/
LOCATION:Gymnasium- 1 court
CATEGORIES:Gymnasium
END:VEVENT
BEGIN:VEVENT
DTSTART;TZID=America/New_York:20240502T060000
DTEND;TZID=America/New_York:20240502T110000
DTSTAMP:20260421T134646
CREATED:20240403T122255Z
LAST-MODIFIED:20240422T065231Z
UID:10000459-1714629600-1714647600@www.ashlandy.org
SUMMARY:PickleBall\, Gym Court 1
DESCRIPTION:
URL:https://www.ashlandy.org/event/pickleball-gym-court-1-32/
CATEGORIES:Group Ex-Schedule
END:VEVENT
BEGIN:VEVENT
DTSTART;TZID=America/New_York:20240502T070000
DTEND;TZID=America/New_York:20240502T080000
DTSTAMP:20260421T134646
CREATED:20240403T122253Z
LAST-MODIFIED:20240422T065230Z
UID:10000456-1714633200-1714636800@www.ashlandy.org
SUMMARY:Tai-Chi
DESCRIPTION:Instructor: Haiyan  \nDescription:  Ta-Chi is a mind-body exercise that combines movements\, meditation\, and deep breathing. 
URL:https://www.ashlandy.org/event/tai-chi-6/
LOCATION:Ballet Room
CATEGORIES:Group Ex-Schedule
END:VEVENT
BEGIN:VEVENT
DTSTART;TZID=America/New_York:20240502T083000
DTEND;TZID=America/New_York:20240502T093000
DTSTAMP:20260421T134646
CREATED:20240403T122254Z
LAST-MODIFIED:20240422T065231Z
UID:10000457-1714638600-1714642200@www.ashlandy.org
SUMMARY:Zumba
DESCRIPTION:Instructor: Erica  \nDescription: Each Dance/Zumba® class is designed to bring people together to sweat it on. We take the “work” out of a workout\, by mixing low-intensity and high-intensity moves for an interval-style\, calorie-burning dance fitness party. Once the Latin and World rhythms take over\, you’ll see why Dance/Zumba classes are often called exercise in disguise. Super effective? Check. Super fun? Check.
URL:https://www.ashlandy.org/event/zumba-10/
LOCATION:Multi-Purpose Room
CATEGORIES:Group Ex-Schedule
END:VEVENT
BEGIN:VEVENT
DTSTART;TZID=America/New_York:20240502T100000
DTEND;TZID=America/New_York:20240502T110000
DTSTAMP:20260421T134646
CREATED:20240329T144116Z
LAST-MODIFIED:20240422T064959Z
UID:10000076-1714644000-1714647600@www.ashlandy.org
SUMMARY:SilverSneakers
DESCRIPTION:
URL:https://www.ashlandy.org/event/silversneakers-25/
LOCATION:Gymnasium- 2 courts
CATEGORIES:Gymnasium
END:VEVENT
BEGIN:VEVENT
DTSTART;TZID=America/New_York:20240502T100000
DTEND;TZID=America/New_York:20240502T110000
DTSTAMP:20260421T134646
CREATED:20240403T122254Z
LAST-MODIFIED:20240422T065231Z
UID:10000458-1714644000-1714647600@www.ashlandy.org
SUMMARY:SilverSneakers Classic
DESCRIPTION:Instructor: Hannah  \nClass Description: Have fun and move to the music through a variety of exercises designed to increase muscular strength\, range of movement\, and activities for daily living. Hand-held weights\, elastic tubing with handles\, and a SilverSneakers ball are offered for resistance.
URL:https://www.ashlandy.org/event/silversneakers-classic-10/
LOCATION:Multi-Purpose Room
CATEGORIES:Group Ex-Schedule
END:VEVENT
BEGIN:VEVENT
DTSTART;TZID=America/New_York:20240502T130000
DTEND;TZID=America/New_York:20240502T150000
DTSTAMP:20260421T134646
CREATED:20240329T144117Z
LAST-MODIFIED:20240422T065000Z
UID:10000077-1714654800-1714662000@www.ashlandy.org
SUMMARY:Pickleball
DESCRIPTION:
URL:https://www.ashlandy.org/event/pickleball-10/
LOCATION:Gymnasium- 1 court
CATEGORIES:Gymnasium
END:VEVENT
BEGIN:VEVENT
DTSTART;TZID=America/New_York:20240502T130000
DTEND;TZID=America/New_York:20240502T150000
DTSTAMP:20260421T134646
CREATED:20240403T122255Z
LAST-MODIFIED:20240422T065232Z
UID:10000460-1714654800-1714662000@www.ashlandy.org
SUMMARY:Pickleball\, Gym Court 1
DESCRIPTION:
URL:https://www.ashlandy.org/event/pickleball-gym-court-1-33/
CATEGORIES:Group Ex-Schedule
END:VEVENT
BEGIN:VEVENT
DTSTART;TZID=America/New_York:20240502T183000
DTEND;TZID=America/New_York:20240502T213000
DTSTAMP:20260421T134646
CREATED:20240329T144117Z
LAST-MODIFIED:20240422T065001Z
UID:10000078-1714674600-1714685400@www.ashlandy.org
SUMMARY:Adult Basketball (Both Courts)
DESCRIPTION:
URL:https://www.ashlandy.org/event/adult-basketball-both-courts-5/
LOCATION:both courts
CATEGORIES:Gymnasium
END:VEVENT
END:VCALENDAR