BEGIN:VCALENDAR
VERSION:2.0
PRODID:-//YMCA of Ashland, Ohio - ECPv6.5.0//NONSGML v1.0//EN
CALSCALE:GREGORIAN
METHOD:PUBLISH
X-ORIGINAL-URL:https://www.ashlandy.org
X-WR-CALDESC:Events for YMCA of Ashland, Ohio
REFRESH-INTERVAL;VALUE=DURATION:PT1H
X-Robots-Tag:noindex
X-PUBLISHED-TTL:PT1H
BEGIN:VTIMEZONE
TZID:America/New_York
BEGIN:DAYLIGHT
TZOFFSETFROM:-0500
TZOFFSETTO:-0400
TZNAME:EDT
DTSTART:20240310T070000
END:DAYLIGHT
BEGIN:STANDARD
TZOFFSETFROM:-0400
TZOFFSETTO:-0500
TZNAME:EST
DTSTART:20241103T060000
END:STANDARD
END:VTIMEZONE
BEGIN:VEVENT
DTSTART;TZID=America/New_York:20240508T060000
DTEND;TZID=America/New_York:20240508T110000
DTSTAMP:20260421T134632
CREATED:20240329T144120Z
LAST-MODIFIED:20240507T183136Z
UID:10000086-1715148000-1715166000@www.ashlandy.org
SUMMARY:Pickle Ball
DESCRIPTION:
URL:https://www.ashlandy.org/event/pickle-ball-29/
LOCATION:Gymnasium- 1 court
CATEGORIES:Gymnasium
END:VEVENT
BEGIN:VEVENT
DTSTART;TZID=America/New_York:20240508T060000
DTEND;TZID=America/New_York:20240508T110000
DTSTAMP:20260421T134632
CREATED:20240403T122309Z
LAST-MODIFIED:20240507T160413Z
UID:10000485-1715148000-1715166000@www.ashlandy.org
SUMMARY:PickleBall\, Gym Court 1
DESCRIPTION:
URL:https://www.ashlandy.org/event/pickleball-gym-court-1-38/
CATEGORIES:Group Ex-Schedule
END:VEVENT
BEGIN:VEVENT
DTSTART;TZID=America/New_York:20240508T083000
DTEND;TZID=America/New_York:20240508T090000
DTSTAMP:20260421T134632
CREATED:20240403T122310Z
LAST-MODIFIED:20240507T160414Z
UID:10000486-1715157000-1715158800@www.ashlandy.org
SUMMARY:Cycle Strong
DESCRIPTION:Instructor: Shelly \nSpots: 19 \nDescription: Intervals\, rolling hills\, sprints\, climbs\, runs\, surges and jumps all to music hand-picked to motivate and inspire! This is a great workout if you want to burn calories and increase endurance.
URL:https://www.ashlandy.org/event/cycle-strong-22/
LOCATION:Cycling Room
CATEGORIES:Group Ex-Schedule
END:VEVENT
BEGIN:VEVENT
DTSTART;TZID=America/New_York:20240508T083000
DTEND;TZID=America/New_York:20240508T091500
DTSTAMP:20260421T134632
CREATED:20240403T122309Z
LAST-MODIFIED:20240507T160412Z
UID:10000484-1715157000-1715159700@www.ashlandy.org
SUMMARY:Circuit Training
DESCRIPTION:Instructor: Jennifer  \nDescription: Circuit training is a workout that involves rotating through various exercises targeting different parts of the body. Focusing on different muscle groups in a short amount of time is an effective exercise that can be incorporated into a healthy lifestyle. Come try it out!
URL:https://www.ashlandy.org/event/circuit-training-7/
LOCATION:Multi-Purpose Room
CATEGORIES:Group Ex-Schedule
END:VEVENT
BEGIN:VEVENT
DTSTART;TZID=America/New_York:20240508T091000
DTEND;TZID=America/New_York:20240508T094500
DTSTAMP:20260421T134632
CREATED:20240403T122309Z
LAST-MODIFIED:20240507T160415Z
UID:10000483-1715159400-1715161500@www.ashlandy.org
SUMMARY:Dance Fitness
DESCRIPTION:Instructor: Shelly \nDescription: A fun Aerobic workout for all fitness levels. It provides the ultimate fat burn with different intensities to motivating music.
URL:https://www.ashlandy.org/event/dance-fitness-7/
LOCATION:Multi-Purpose Room
CATEGORIES:Group Ex-Schedule
END:VEVENT
BEGIN:VEVENT
DTSTART;TZID=America/New_York:20240508T100000
DTEND;TZID=America/New_York:20240508T110000
DTSTAMP:20260421T134632
CREATED:20240329T144120Z
LAST-MODIFIED:20240507T183135Z
UID:10000087-1715162400-1715166000@www.ashlandy.org
SUMMARY:SilverSneakers
DESCRIPTION:
URL:https://www.ashlandy.org/event/silversneakers-29/
LOCATION:Gymnasium- 2 courts
CATEGORIES:Gymnasium
END:VEVENT
BEGIN:VEVENT
DTSTART;TZID=America/New_York:20240508T100000
DTEND;TZID=America/New_York:20240508T110000
DTSTAMP:20260421T134632
CREATED:20240403T122311Z
LAST-MODIFIED:20240507T160416Z
UID:10000487-1715162400-1715166000@www.ashlandy.org
SUMMARY:SilverSneakers Boom Mind
DESCRIPTION:Instructor: Louise  \nDescription: Fusion class designed to relax your body and mind. The focus is on core muscles\, lower-body strength\, and balance.
URL:https://www.ashlandy.org/event/silversneakers-boom-mind-7/
LOCATION:Multi-Purpose Room
CATEGORIES:Group Ex-Schedule
END:VEVENT
BEGIN:VEVENT
DTSTART;TZID=America/New_York:20240508T190000
DTEND;TZID=America/New_York:20240508T210000
DTSTAMP:20260421T134632
CREATED:20240329T144120Z
LAST-MODIFIED:20240507T183136Z
UID:10000088-1715194800-1715202000@www.ashlandy.org
SUMMARY:Private Pickleball
DESCRIPTION:
URL:https://www.ashlandy.org/event/private-pickleball-6/
LOCATION:Gymnasium-1 court
CATEGORIES:Gymnasium
END:VEVENT
END:VCALENDAR