BEGIN:VCALENDAR
VERSION:2.0
PRODID:-//YMCA of Ashland, Ohio - ECPv6.5.0//NONSGML v1.0//EN
CALSCALE:GREGORIAN
METHOD:PUBLISH
X-WR-CALNAME:YMCA of Ashland, Ohio
X-ORIGINAL-URL:https://www.ashlandy.org
X-WR-CALDESC:Events for YMCA of Ashland, Ohio
REFRESH-INTERVAL;VALUE=DURATION:PT1H
X-Robots-Tag:noindex
X-PUBLISHED-TTL:PT1H
BEGIN:VTIMEZONE
TZID:America/New_York
BEGIN:DAYLIGHT
TZOFFSETFROM:-0500
TZOFFSETTO:-0400
TZNAME:EDT
DTSTART:20240310T070000
END:DAYLIGHT
BEGIN:STANDARD
TZOFFSETFROM:-0400
TZOFFSETTO:-0500
TZNAME:EST
DTSTART:20241103T060000
END:STANDARD
END:VTIMEZONE
BEGIN:VEVENT
DTSTART;TZID=America/New_York:20240509T051500
DTEND;TZID=America/New_York:20240509T060000
DTSTAMP:20260421T134622
CREATED:20240403T122311Z
LAST-MODIFIED:20240509T064948Z
UID:10000488-1715231700-1715234400@www.ashlandy.org
SUMMARY:Cycling-w/Michelle McDonald
DESCRIPTION:First come. First served.
URL:https://www.ashlandy.org/event/cycling-w-michelle-mcdonald-12/
LOCATION:Cycling Room
CATEGORIES:Group Ex-Schedule
END:VEVENT
BEGIN:VEVENT
DTSTART;TZID=America/New_York:20240509T060000
DTEND;TZID=America/New_York:20240509T110000
DTSTAMP:20260421T134622
CREATED:20240329T144121Z
LAST-MODIFIED:20240507T183137Z
UID:10000089-1715234400-1715252400@www.ashlandy.org
SUMMARY:Pickle Ball
DESCRIPTION:
URL:https://www.ashlandy.org/event/pickle-ball-30/
LOCATION:Gymnasium- 1 court
CATEGORIES:Gymnasium
END:VEVENT
BEGIN:VEVENT
DTSTART;TZID=America/New_York:20240509T060000
DTEND;TZID=America/New_York:20240509T110000
DTSTAMP:20260421T134622
CREATED:20240403T122313Z
LAST-MODIFIED:20240509T064947Z
UID:10000492-1715234400-1715252400@www.ashlandy.org
SUMMARY:PickleBall\, Gym Court 1
DESCRIPTION:
URL:https://www.ashlandy.org/event/pickleball-gym-court-1-39/
CATEGORIES:Group Ex-Schedule
END:VEVENT
BEGIN:VEVENT
DTSTART;TZID=America/New_York:20240509T070000
DTEND;TZID=America/New_York:20240509T080000
DTSTAMP:20260421T134622
CREATED:20240403T122311Z
LAST-MODIFIED:20240509T064948Z
UID:10000489-1715238000-1715241600@www.ashlandy.org
SUMMARY:Tai-Chi
DESCRIPTION:Instructor: Haiyan  \nDescription:  Ta-Chi is a mind-body exercise that combines movements\, meditation\, and deep breathing. 
URL:https://www.ashlandy.org/event/tai-chi-7/
LOCATION:Ballet Room
CATEGORIES:Group Ex-Schedule
END:VEVENT
BEGIN:VEVENT
DTSTART;TZID=America/New_York:20240509T083000
DTEND;TZID=America/New_York:20240509T093000
DTSTAMP:20260421T134622
CREATED:20240403T122312Z
LAST-MODIFIED:20240509T064948Z
UID:10000490-1715243400-1715247000@www.ashlandy.org
SUMMARY:Zumba
DESCRIPTION:Instructor: Erica  \nDescription: Each Dance/Zumba® class is designed to bring people together to sweat it on. We take the “work” out of a workout\, by mixing low-intensity and high-intensity moves for an interval-style\, calorie-burning dance fitness party. Once the Latin and World rhythms take over\, you’ll see why Dance/Zumba classes are often called exercise in disguise. Super effective? Check. Super fun? Check.
URL:https://www.ashlandy.org/event/zumba-12/
LOCATION:Multi-Purpose Room
CATEGORIES:Group Ex-Schedule
END:VEVENT
BEGIN:VEVENT
DTSTART;TZID=America/New_York:20240509T100000
DTEND;TZID=America/New_York:20240509T110000
DTSTAMP:20260421T134622
CREATED:20240329T144121Z
LAST-MODIFIED:20240507T183137Z
UID:10000090-1715248800-1715252400@www.ashlandy.org
SUMMARY:SilverSneakers
DESCRIPTION:
URL:https://www.ashlandy.org/event/silversneakers-30/
LOCATION:Gymnasium- 2 courts
CATEGORIES:Gymnasium
END:VEVENT
BEGIN:VEVENT
DTSTART;TZID=America/New_York:20240509T100000
DTEND;TZID=America/New_York:20240509T110000
DTSTAMP:20260421T134622
CREATED:20240403T122312Z
LAST-MODIFIED:20240509T064949Z
UID:10000491-1715248800-1715252400@www.ashlandy.org
SUMMARY:SilverSneakers Classic
DESCRIPTION:Instructor: Hannah  \nClass Description: Have fun and move to the music through a variety of exercises designed to increase muscular strength\, range of movement\, and activities for daily living. Hand-held weights\, elastic tubing with handles\, and a SilverSneakers ball are offered for resistance.
URL:https://www.ashlandy.org/event/silversneakers-classic-12/
LOCATION:Multi-Purpose Room
CATEGORIES:Group Ex-Schedule
END:VEVENT
BEGIN:VEVENT
DTSTART;TZID=America/New_York:20240509T130000
DTEND;TZID=America/New_York:20240509T150000
DTSTAMP:20260421T134622
CREATED:20240329T144121Z
LAST-MODIFIED:20240507T183137Z
UID:10000091-1715259600-1715266800@www.ashlandy.org
SUMMARY:Pickleball
DESCRIPTION:
URL:https://www.ashlandy.org/event/pickleball-12/
LOCATION:Gymnasium- 1 court
CATEGORIES:Gymnasium
END:VEVENT
BEGIN:VEVENT
DTSTART;TZID=America/New_York:20240509T130000
DTEND;TZID=America/New_York:20240509T150000
DTSTAMP:20260421T134622
CREATED:20240403T122313Z
LAST-MODIFIED:20240507T160432Z
UID:10000493-1715259600-1715266800@www.ashlandy.org
SUMMARY:Pickleball\, Gym Court 1
DESCRIPTION:
URL:https://www.ashlandy.org/event/pickleball-gym-court-1-40/
CATEGORIES:Group Ex-Schedule
END:VEVENT
BEGIN:VEVENT
DTSTART;TZID=America/New_York:20240509T183000
DTEND;TZID=America/New_York:20240509T213000
DTSTAMP:20260421T134622
CREATED:20240329T144122Z
LAST-MODIFIED:20240509T194821Z
UID:10000092-1715279400-1715290200@www.ashlandy.org
SUMMARY:Adult Basketball (Both Courts)
DESCRIPTION:
URL:https://www.ashlandy.org/event/adult-basketball-both-courts-6/
LOCATION:both courts
CATEGORIES:Gymnasium
END:VEVENT
END:VCALENDAR