BEGIN:VCALENDAR
VERSION:2.0
PRODID:-//YMCA of Ashland, Ohio - ECPv6.5.0//NONSGML v1.0//EN
CALSCALE:GREGORIAN
METHOD:PUBLISH
X-ORIGINAL-URL:https://www.ashlandy.org
X-WR-CALDESC:Events for YMCA of Ashland, Ohio
REFRESH-INTERVAL;VALUE=DURATION:PT1H
X-Robots-Tag:noindex
X-PUBLISHED-TTL:PT1H
BEGIN:VTIMEZONE
TZID:America/New_York
BEGIN:DAYLIGHT
TZOFFSETFROM:-0500
TZOFFSETTO:-0400
TZNAME:EDT
DTSTART:20240310T070000
END:DAYLIGHT
BEGIN:STANDARD
TZOFFSETFROM:-0400
TZOFFSETTO:-0500
TZNAME:EST
DTSTART:20241103T060000
END:STANDARD
END:VTIMEZONE
BEGIN:VEVENT
DTSTART;TZID=America/New_York:20240527T060000
DTEND;TZID=America/New_York:20240527T110000
DTSTAMP:20260421T134659
CREATED:20240329T144134Z
LAST-MODIFIED:20240527T125505Z
UID:10000123-1716789600-1716807600@www.ashlandy.org
SUMMARY:Pickle Ball
DESCRIPTION:
URL:https://www.ashlandy.org/event/pickle-ball-42/
LOCATION:Gymnasium- 1 court
CATEGORIES:Gymnasium
END:VEVENT
BEGIN:VEVENT
DTSTART;TZID=America/New_York:20240527T060000
DTEND;TZID=America/New_York:20240527T110000
DTSTAMP:20260421T134659
CREATED:20240403T122342Z
LAST-MODIFIED:20240527T064955Z
UID:10000568-1716789600-1716807600@www.ashlandy.org
SUMMARY:PickleBall\, Gym Court 1
DESCRIPTION:
URL:https://www.ashlandy.org/event/pickleball-gym-court-1-56/
CATEGORIES:Group Ex-Schedule
END:VEVENT
BEGIN:VEVENT
DTSTART;TZID=America/New_York:20240527T083000
DTEND;TZID=America/New_York:20240527T090000
DTSTAMP:20260421T134659
CREATED:20240403T122341Z
LAST-MODIFIED:20240507T160625Z
UID:10000567-1716798600-1716800400@www.ashlandy.org
SUMMARY:Cycle Strong
DESCRIPTION:Instructor: Shelly \nSpots: 19 \nDescription: We combine 30 minutes of intensity\, challenge\, strength-building\, and stamina in this class for advanced students. An interval training workout. This class takes you on a great ride and adds strength and endurance moves for the upper and lower body.
URL:https://www.ashlandy.org/event/cycle-strong-33/
LOCATION:Cycling Room
CATEGORIES:Group Ex-Schedule
END:VEVENT
BEGIN:VEVENT
DTSTART;TZID=America/New_York:20240527T083000
DTEND;TZID=America/New_York:20240527T090000
DTSTAMP:20260421T134659
CREATED:20240509T065129Z
LAST-MODIFIED:20240527T064954Z
UID:10000861-1716798600-1716800400@www.ashlandy.org
SUMMARY:Total Body Cycle
DESCRIPTION:Instructor: Shelly \nSpots: 19 \nDescription: Intervals\, rolling hills\, sprints\, climbs\, runs\, surges and jumps all to music hand-picked to motivate and inspire! This is a great workout if you want to burn calories and increase endurance.
URL:https://www.ashlandy.org/event/total-body-cycle-3/
CATEGORIES:Group Ex-Schedule
END:VEVENT
BEGIN:VEVENT
DTSTART;TZID=America/New_York:20240527T091000
DTEND;TZID=America/New_York:20240527T094500
DTSTAMP:20260421T134659
CREATED:20240403T122342Z
LAST-MODIFIED:20240527T064954Z
UID:10000569-1716801000-1716803100@www.ashlandy.org
SUMMARY:Total Body Strength
DESCRIPTION:Instructor: ShellyDescription: Work all muscle groups with a variety of strengthening and conditioning exercises. This athletic-based sculpting class tones upper and lower body using resistance like hand weights\, body bars and your own body weight.
URL:https://www.ashlandy.org/event/total-body-strength-8/
LOCATION:Multi-Purpose Room
CATEGORIES:Group Ex-Schedule
END:VEVENT
BEGIN:VEVENT
DTSTART;TZID=America/New_York:20240527T100000
DTEND;TZID=America/New_York:20240527T110000
DTSTAMP:20260421T134659
CREATED:20240329T144134Z
LAST-MODIFIED:20240527T125505Z
UID:10000124-1716804000-1716807600@www.ashlandy.org
SUMMARY:SilverSneakers
DESCRIPTION:
URL:https://www.ashlandy.org/event/silversneakers-42/
LOCATION:Gymnasium- 2 courts
CATEGORIES:Gymnasium
END:VEVENT
BEGIN:VEVENT
DTSTART;TZID=America/New_York:20240527T100000
DTEND;TZID=America/New_York:20240527T110000
DTSTAMP:20260421T134659
CREATED:20240403T122342Z
LAST-MODIFIED:20240527T064955Z
UID:10000570-1716804000-1716807600@www.ashlandy.org
SUMMARY:SilverSneakers Yoga
DESCRIPTION:Instructor: Christy  \nClass Description: Move through a complete series of seated and standing yoga poses while you enjoy restorative breathing exercises that promote stress reduction and mental clarity.
URL:https://www.ashlandy.org/event/silversneakers-yoga-8/
LOCATION:Multi-Purpose Room
CATEGORIES:Group Ex-Schedule
END:VEVENT
BEGIN:VEVENT
DTSTART;TZID=America/New_York:20240527T173000
DTEND;TZID=America/New_York:20240527T183000
DTSTAMP:20260421T134659
CREATED:20240403T122343Z
LAST-MODIFIED:20240527T064955Z
UID:10000571-1716831000-1716834600@www.ashlandy.org
SUMMARY:Zumba
DESCRIPTION:Instructor: Erica  \nDescription: Each Dance/Zumba® class is designed to bring people together to sweat it on. We take the “work” out of workout\, by mixing low-intensity and high-intensity moves for an interval-style\, calorie-burning dance fitness party. Once the Latin and World rhythms take over\, you’ll see why Dance/Zumba classes are often called exercise in disguise. Super effective? Check. Super fun? Check.
URL:https://www.ashlandy.org/event/zumba-17/
LOCATION:Multi-Purpose Room
CATEGORIES:Group Ex-Schedule
END:VEVENT
BEGIN:VEVENT
DTSTART;TZID=America/New_York:20240527T183000
DTEND;TZID=America/New_York:20240527T193000
DTSTAMP:20260421T134659
CREATED:20240403T122343Z
LAST-MODIFIED:20240527T064955Z
UID:10000572-1716834600-1716838200@www.ashlandy.org
SUMMARY:Yoga Faith
DESCRIPTION:Join us for gentle yoga and movement to benefit balance\, strength\, flexibility\, recovery\, and harmony. Bring your mat or use one provided. Or you may use a chair for support. Each session will include The Serenity Prayer and reading of scriptures. 6:30-7:30 pm Mondays\, Multi-purpose room.
URL:https://www.ashlandy.org/event/yoga-faith-8/
CATEGORIES:Group Ex-Schedule
END:VEVENT
END:VCALENDAR