BEGIN:VCALENDAR
VERSION:2.0
PRODID:-//YMCA of Ashland, Ohio - ECPv6.5.0//NONSGML v1.0//EN
CALSCALE:GREGORIAN
METHOD:PUBLISH
X-ORIGINAL-URL:https://www.ashlandy.org
X-WR-CALDESC:Events for YMCA of Ashland, Ohio
REFRESH-INTERVAL;VALUE=DURATION:PT1H
X-Robots-Tag:noindex
X-PUBLISHED-TTL:PT1H
BEGIN:VTIMEZONE
TZID:America/New_York
BEGIN:DAYLIGHT
TZOFFSETFROM:-0500
TZOFFSETTO:-0400
TZNAME:EDT
DTSTART:20240310T070000
END:DAYLIGHT
BEGIN:STANDARD
TZOFFSETFROM:-0400
TZOFFSETTO:-0500
TZNAME:EST
DTSTART:20241103T060000
END:STANDARD
END:VTIMEZONE
BEGIN:VEVENT
DTSTART;TZID=America/New_York:20240612T060000
DTEND;TZID=America/New_York:20240612T110000
DTSTAMP:20260425T101225
CREATED:20240329T144155Z
LAST-MODIFIED:20240611T230939Z
UID:10000156-1718172000-1718190000@www.ashlandy.org
SUMMARY:Pickle Ball
DESCRIPTION:
URL:https://www.ashlandy.org/event/pickle-ball-54/
LOCATION:Gymnasium- 1 court
CATEGORIES:Gymnasium
END:VEVENT
BEGIN:VEVENT
DTSTART;TZID=America/New_York:20240612T060000
DTEND;TZID=America/New_York:20240612T110000
DTSTAMP:20260425T101225
CREATED:20240411T025532Z
LAST-MODIFIED:20240611T230938Z
UID:10000675-1718172000-1718190000@www.ashlandy.org
SUMMARY:PickleBall\, Gym Court 1
DESCRIPTION:
URL:https://www.ashlandy.org/event/pickleball-gym-court-1-73/
CATEGORIES:Group Ex-Schedule
END:VEVENT
BEGIN:VEVENT
DTSTART;TZID=America/New_York:20240612T083000
DTEND;TZID=America/New_York:20240612T090000
DTSTAMP:20260425T101225
CREATED:20240411T025529Z
LAST-MODIFIED:20240611T230938Z
UID:10000671-1718181000-1718182800@www.ashlandy.org
SUMMARY:Cycle Strong
DESCRIPTION:Instructor: Shelly \nSpots: 19 \nDescription: Intervals\, rolling hills\, sprints\, climbs\, runs\, surges and jumps all to music hand-picked to motivate and inspire! This is a great workout if you want to burn calories and increase endurance.
URL:https://www.ashlandy.org/event/cycle-strong-42/
LOCATION:Cycling Room
CATEGORIES:Group Ex-Schedule
END:VEVENT
BEGIN:VEVENT
DTSTART;TZID=America/New_York:20240612T083000
DTEND;TZID=America/New_York:20240612T091500
DTSTAMP:20260425T101225
CREATED:20240411T025530Z
LAST-MODIFIED:20240507T160853Z
UID:10000672-1718181000-1718183700@www.ashlandy.org
SUMMARY:Circuit Training
DESCRIPTION:Instructor: Jennifer  \nDescription: Circuit training is a workout that involves rotating through various exercises targeting different parts of the body. Focusing on different muscle groups in a short amount of time is an effective exercise that can be incorporated into a healthy lifestyle. Come try it out!
URL:https://www.ashlandy.org/event/circuit-training-12/
LOCATION:Multi-Purpose Room
CATEGORIES:Group Ex-Schedule
END:VEVENT
BEGIN:VEVENT
DTSTART;TZID=America/New_York:20240612T091000
DTEND;TZID=America/New_York:20240612T094500
DTSTAMP:20260425T101225
CREATED:20240411T025531Z
LAST-MODIFIED:20240611T230939Z
UID:10000673-1718183400-1718185500@www.ashlandy.org
SUMMARY:Dance Fitness
DESCRIPTION:Instructor: Shelly \nDescription: A fun Aerobic workout for all fitness levels. It provides the ultimate fat burn with different intensities to motivating music.
URL:https://www.ashlandy.org/event/dance-fitness-12/
LOCATION:Multi-Purpose Room
CATEGORIES:Group Ex-Schedule
END:VEVENT
BEGIN:VEVENT
DTSTART;TZID=America/New_York:20240612T100000
DTEND;TZID=America/New_York:20240612T110000
DTSTAMP:20260425T101225
CREATED:20240329T144155Z
LAST-MODIFIED:20240611T230938Z
UID:10000157-1718186400-1718190000@www.ashlandy.org
SUMMARY:SilverSneakers
DESCRIPTION:
URL:https://www.ashlandy.org/event/silversneakers-54/
LOCATION:Gymnasium- 2 courts
CATEGORIES:Gymnasium
END:VEVENT
BEGIN:VEVENT
DTSTART;TZID=America/New_York:20240612T100000
DTEND;TZID=America/New_York:20240612T110000
DTSTAMP:20260425T101225
CREATED:20240411T025531Z
LAST-MODIFIED:20240611T230939Z
UID:10000674-1718186400-1718190000@www.ashlandy.org
SUMMARY:SilverSneakers Boom Mind
DESCRIPTION:Instructor: Louise  \nDescription: Fusion class designed to relax your body and mind. The focus is on core muscles\, lower-body strength\, and balance.
URL:https://www.ashlandy.org/event/silversneakers-boom-mind-12/
LOCATION:Multi-Purpose Room
CATEGORIES:Group Ex-Schedule
END:VEVENT
BEGIN:VEVENT
DTSTART;TZID=America/New_York:20240612T190000
DTEND;TZID=America/New_York:20240612T210000
DTSTAMP:20260425T101225
CREATED:20240329T144156Z
LAST-MODIFIED:20240611T230939Z
UID:10000158-1718218800-1718226000@www.ashlandy.org
SUMMARY:Private Pickleball
DESCRIPTION:
URL:https://www.ashlandy.org/event/private-pickleball-11/
LOCATION:Gymnasium-1 court
CATEGORIES:Gymnasium
END:VEVENT
END:VCALENDAR