BEGIN:VCALENDAR
VERSION:2.0
PRODID:-//YMCA of Ashland, Ohio - ECPv6.5.0//NONSGML v1.0//EN
CALSCALE:GREGORIAN
METHOD:PUBLISH
X-WR-CALNAME:YMCA of Ashland, Ohio
X-ORIGINAL-URL:https://www.ashlandy.org
X-WR-CALDESC:Events for YMCA of Ashland, Ohio
REFRESH-INTERVAL;VALUE=DURATION:PT1H
X-Robots-Tag:noindex
X-PUBLISHED-TTL:PT1H
BEGIN:VTIMEZONE
TZID:America/New_York
BEGIN:DAYLIGHT
TZOFFSETFROM:-0500
TZOFFSETTO:-0400
TZNAME:EDT
DTSTART:20240310T070000
END:DAYLIGHT
BEGIN:STANDARD
TZOFFSETFROM:-0400
TZOFFSETTO:-0500
TZNAME:EST
DTSTART:20241103T060000
END:STANDARD
END:VTIMEZONE
BEGIN:VEVENT
DTSTART;TZID=America/New_York:20240626T060000
DTEND;TZID=America/New_York:20240626T110000
DTSTAMP:20260425T101011
CREATED:20240329T144206Z
LAST-MODIFIED:20240626T140913Z
UID:10000184-1719381600-1719399600@www.ashlandy.org
SUMMARY:Pickle Ball
DESCRIPTION:
URL:https://www.ashlandy.org/event/pickle-ball-64/
LOCATION:Gymnasium- 1 court
CATEGORIES:Gymnasium
END:VEVENT
BEGIN:VEVENT
DTSTART;TZID=America/New_York:20240626T060000
DTEND;TZID=America/New_York:20240626T110000
DTSTAMP:20260425T101011
CREATED:20240503T123637Z
LAST-MODIFIED:20240626T053937Z
UID:10000764-1719381600-1719399600@www.ashlandy.org
SUMMARY:PickleBall\, Gym Court 1
DESCRIPTION:
URL:https://www.ashlandy.org/event/pickleball-gym-court-1-87/
CATEGORIES:Group Ex-Schedule
END:VEVENT
BEGIN:VEVENT
DTSTART;TZID=America/New_York:20240626T083000
DTEND;TZID=America/New_York:20240626T090000
DTSTAMP:20260425T101011
CREATED:20240503T123636Z
LAST-MODIFIED:20240626T053936Z
UID:10000762-1719390600-1719392400@www.ashlandy.org
SUMMARY:Cycle Strong
DESCRIPTION:Instructor: Shelly \nSpots: 19 \nDescription: Intervals\, rolling hills\, sprints\, climbs\, runs\, surges and jumps all to music hand-picked to motivate and inspire! This is a great workout if you want to burn calories and increase endurance.
URL:https://www.ashlandy.org/event/cycle-strong-50/
LOCATION:Cycling Room
CATEGORIES:Group Ex-Schedule
END:VEVENT
BEGIN:VEVENT
DTSTART;TZID=America/New_York:20240626T083000
DTEND;TZID=America/New_York:20240626T091500
DTSTAMP:20260425T101011
CREATED:20240503T123637Z
LAST-MODIFIED:20240507T161030Z
UID:10000765-1719390600-1719393300@www.ashlandy.org
SUMMARY:Circuit Training
DESCRIPTION:Instructor: Jennifer  \nDescription: Circuit training is a workout that involves rotating through various exercises targeting different parts of the body. Focusing on different muscle groups in a short amount of time is an effective exercise that can be incorporated into a healthy lifestyle. Come try it out!
URL:https://www.ashlandy.org/event/circuit-training-14/
LOCATION:Multi-Purpose Room
CATEGORIES:Group Ex-Schedule
END:VEVENT
BEGIN:VEVENT
DTSTART;TZID=America/New_York:20240626T091000
DTEND;TZID=America/New_York:20240626T094500
DTSTAMP:20260425T101011
CREATED:20240503T123636Z
LAST-MODIFIED:20240626T053936Z
UID:10000763-1719393000-1719395100@www.ashlandy.org
SUMMARY:Dance Fitness
DESCRIPTION:Instructor: Shelly \nDescription: A fun Aerobic workout for all fitness levels. It provides the ultimate fat burn with different intensities to motivating music.
URL:https://www.ashlandy.org/event/dance-fitness-14/
LOCATION:Multi-Purpose Room
CATEGORIES:Group Ex-Schedule
END:VEVENT
BEGIN:VEVENT
DTSTART;TZID=America/New_York:20240626T100000
DTEND;TZID=America/New_York:20240626T110000
DTSTAMP:20260425T101011
CREATED:20240329T144206Z
LAST-MODIFIED:20240626T140913Z
UID:10000185-1719396000-1719399600@www.ashlandy.org
SUMMARY:SilverSneakers
DESCRIPTION:
URL:https://www.ashlandy.org/event/silversneakers-64/
LOCATION:Gymnasium- 2 courts
CATEGORIES:Gymnasium
END:VEVENT
BEGIN:VEVENT
DTSTART;TZID=America/New_York:20240626T100000
DTEND;TZID=America/New_York:20240626T110000
DTSTAMP:20260425T101011
CREATED:20240503T123638Z
LAST-MODIFIED:20240626T053937Z
UID:10000766-1719396000-1719399600@www.ashlandy.org
SUMMARY:SilverSneakers Boom Mind
DESCRIPTION:Instructor: Louise  \nDescription: Fusion class designed to relax your body and mind. The focus is on core muscles\, lower-body strength\, and balance.
URL:https://www.ashlandy.org/event/silversneakers-boom-mind-14/
LOCATION:Multi-Purpose Room
CATEGORIES:Group Ex-Schedule
END:VEVENT
BEGIN:VEVENT
DTSTART;TZID=America/New_York:20240626T190000
DTEND;TZID=America/New_York:20240626T210000
DTSTAMP:20260425T101011
CREATED:20240329T144207Z
LAST-MODIFIED:20240626T140914Z
UID:10000186-1719428400-1719435600@www.ashlandy.org
SUMMARY:Private Pickleball
DESCRIPTION:
URL:https://www.ashlandy.org/event/private-pickleball-13/
LOCATION:Gymnasium-1 court
CATEGORIES:Gymnasium
END:VEVENT
END:VCALENDAR