BEGIN:VCALENDAR
VERSION:2.0
PRODID:-//YMCA of Ashland, Ohio - ECPv6.5.0//NONSGML v1.0//EN
CALSCALE:GREGORIAN
METHOD:PUBLISH
X-WR-CALNAME:YMCA of Ashland, Ohio
X-ORIGINAL-URL:https://www.ashlandy.org
X-WR-CALDESC:Events for YMCA of Ashland, Ohio
REFRESH-INTERVAL;VALUE=DURATION:PT1H
X-Robots-Tag:noindex
X-PUBLISHED-TTL:PT1H
BEGIN:VTIMEZONE
TZID:America/New_York
BEGIN:DAYLIGHT
TZOFFSETFROM:-0500
TZOFFSETTO:-0400
TZNAME:EDT
DTSTART:20250309T070000
END:DAYLIGHT
BEGIN:STANDARD
TZOFFSETFROM:-0400
TZOFFSETTO:-0500
TZNAME:EST
DTSTART:20251102T060000
END:STANDARD
END:VTIMEZONE
BEGIN:VEVENT
DTSTART;TZID=America/New_York:20250909T180000
DTEND;TZID=America/New_York:20250909T210000
DTSTAMP:20260420T180205
CREATED:20250906T110937Z
LAST-MODIFIED:20250909T110941Z
UID:10004499-1757440800-1757451600@www.ashlandy.org
SUMMARY:First Aid Class
DESCRIPTION:Join with Google Meet: https://meet.google.com/nkt-owxo-ikf\nOr dial: (US) +1 234-978-2218 PIN: 661429424#\nMore joining options: https://tel.meet/nkt-owxo-ikf?pin=8814977381703&hs=7\nLearn more about Meet at: https://support.google.com/a/users/answer/9282720
URL:https://www.ashlandy.org/event/first-aid-class/
LOCATION:Conference Room
CATEGORIES:General
ORGANIZER;CN="membership@ashlandy.org":MAILTO:membership@ashlandy.org
END:VEVENT
BEGIN:VEVENT
DTSTART;TZID=America/New_York:20250912T070000
DTEND;TZID=America/New_York:20250913T000000
DTSTAMP:20260420T180205
CREATED:20250826T100933Z
LAST-MODIFIED:20250912T113909Z
UID:10004417-1757660400-1757721600@www.ashlandy.org
SUMMARY:NO RENTALS
DESCRIPTION:
URL:https://www.ashlandy.org/event/no-rentals-2/
CATEGORIES:General
END:VEVENT
BEGIN:VEVENT
DTSTART;TZID=America/New_York:20250913T070000
DTEND;TZID=America/New_York:20250914T000000
DTSTAMP:20260420T180205
CREATED:20250826T100934Z
LAST-MODIFIED:20250913T113933Z
UID:10004418-1757746800-1757808000@www.ashlandy.org
SUMMARY:NO RENTALS
DESCRIPTION:
URL:https://www.ashlandy.org/event/no-rentals-3/
CATEGORIES:General
END:VEVENT
BEGIN:VEVENT
DTSTART;TZID=America/New_York:20250920T120000
DTEND;TZID=America/New_York:20250920T140000
DTSTAMP:20260420T180205
CREATED:20250723T233908Z
LAST-MODIFIED:20250902T110939Z
UID:10004190-1758369600-1758376800@www.ashlandy.org
SUMMARY:Gymnastic Party/ Caitlin Artrip /approved/ pending payment
DESCRIPTION:15 people for gymnastics / 40 people for party  \n8 tables
URL:https://www.ashlandy.org/event/gymnastic-party-caitlin-artrip-waiting-on-approval-7-23-25/
CATEGORIES:General
END:VEVENT
BEGIN:VEVENT
DTSTART;TZID=America/New_York:20250927T130000
DTEND;TZID=America/New_York:20250927T160000
DTSTAMP:20260420T180205
CREATED:20250809T090910Z
LAST-MODIFIED:20250927T123932Z
UID:10004308-1758978000-1758988800@www.ashlandy.org
SUMMARY:Kendra Hicks/ Pool Party 1PM-4PM Approved/Paid
DESCRIPTION:7 Tables\n1 cake Table\n1 gift table \n20-25 people for pool \n40 total for party\n(requested 8/8/25)\nliability agreement received
URL:https://www.ashlandy.org/event/kendra-hicks-pool-party-2pm-4pm-pending-request/
CATEGORIES:General
END:VEVENT
END:VCALENDAR