BEGIN:VCALENDAR
VERSION:2.0
PRODID:-//YMCA of Ashland, Ohio - ECPv6.5.0//NONSGML v1.0//EN
CALSCALE:GREGORIAN
METHOD:PUBLISH
X-ORIGINAL-URL:https://www.ashlandy.org
X-WR-CALDESC:Events for YMCA of Ashland, Ohio
REFRESH-INTERVAL;VALUE=DURATION:PT1H
X-Robots-Tag:noindex
X-PUBLISHED-TTL:PT1H
BEGIN:VTIMEZONE
TZID:America/New_York
BEGIN:DAYLIGHT
TZOFFSETFROM:-0500
TZOFFSETTO:-0400
TZNAME:EDT
DTSTART:20250309T070000
END:DAYLIGHT
BEGIN:STANDARD
TZOFFSETFROM:-0400
TZOFFSETTO:-0500
TZNAME:EST
DTSTART:20251102T060000
END:STANDARD
END:VTIMEZONE
BEGIN:VEVENT
DTSTART;TZID=America/New_York:20251102T130000
DTEND;TZID=America/New_York:20251102T153000
DTSTAMP:20260420T150008
CREATED:20251002T123933Z
LAST-MODIFIED:20251102T150938Z
UID:10004674-1762088400-1762097400@www.ashlandy.org
SUMMARY:Kaitlin Parsons /approved /paid in full/sports party
DESCRIPTION:30 people\n6 tables \n1 cake table \n1 food table banquet\nwaiver sent 10/06/25\nwaiver received 10/08/25
URL:https://www.ashlandy.org/event/kaitlin-parsons-pending-approval-sports-party/
CATEGORIES:General
END:VEVENT
BEGIN:VEVENT
DTSTART;TZID=America/New_York:20251108T070000
DTEND;TZID=America/New_York:20251108T180000
DTSTAMP:20260420T150008
CREATED:20251009T140936Z
LAST-MODIFIED:20251108T153936Z
UID:10004725-1762585200-1762624800@www.ashlandy.org
SUMMARY:Aqua Aces Swim Meet
DESCRIPTION:
URL:https://www.ashlandy.org/event/aqua-aces-swim-meet/
CATEGORIES:General
END:VEVENT
BEGIN:VEVENT
DTSTART;TZID=America/New_York:20251108T070000
DTEND;TZID=America/New_York:20251108T180000
DTSTAMP:20260420T150008
CREATED:20251012T143935Z
LAST-MODIFIED:20251108T153936Z
UID:10004750-1762585200-1762624800@www.ashlandy.org
SUMMARY:multi purpose room aces 7AM - 6PM
DESCRIPTION:
URL:https://www.ashlandy.org/event/multi-purpose-room-aces-7am-6pm/
CATEGORIES:General
END:VEVENT
BEGIN:VEVENT
DTSTART;TZID=America/New_York:20251108T140000
DTEND;TZID=America/New_York:20251108T160000
DTSTAMP:20260420T150008
CREATED:20250928T123937Z
LAST-MODIFIED:20251108T153937Z
UID:10004648-1762610400-1762617600@www.ashlandy.org
SUMMARY:Ashlee Tutko/Pool Party 2PM-4PM approved/PD IN FULL
DESCRIPTION:cake table\nfood table \n6 banquet tables\nagreement signed
URL:https://www.ashlandy.org/event/ashlee-tutko-pool-party-2pm-4pm-pending/
CATEGORIES:General
END:VEVENT
BEGIN:VEVENT
DTSTART;TZID=America/New_York:20251109T150000
DTEND;TZID=America/New_York:20251109T170000
DTSTAMP:20260420T150008
CREATED:20251028T143941Z
LAST-MODIFIED:20251109T153934Z
UID:10004873-1762700400-1762707600@www.ashlandy.org
SUMMARY:Casey Hendershott/approved/Paid In Full/pool party
DESCRIPTION:30 people for pool \n6 tables \n1 cake table \n1 food table \n1 xtra life guard $$ \nwaiver received 11/3/25
URL:https://www.ashlandy.org/event/casey-pool-party/
CATEGORIES:General
END:VEVENT
BEGIN:VEVENT
DTSTART;TZID=America/New_York:20251116T150000
DTEND;TZID=America/New_York:20251116T170000
DTSTAMP:20260420T150008
CREATED:20251022T143934Z
LAST-MODIFIED:20251116T153934Z
UID:10004816-1763305200-1763312400@www.ashlandy.org
SUMMARY:Allyson Parnell/ Pool Party /Paid In Full/ approved
DESCRIPTION:4 Banquet Tables\n1 Cake table \n1 food table \nwaiver sent 10/21/25\nwaiver received 10/28/25\nPD In Full
URL:https://www.ashlandy.org/event/allyson-parnell-pool-party-pending-payment-approved/
CATEGORIES:General
END:VEVENT
BEGIN:VEVENT
DTSTART;TZID=America/New_York:20251122T080000
DTEND;TZID=America/New_York:20251122T180000
DTSTAMP:20260420T150008
CREATED:20251009T140937Z
LAST-MODIFIED:20251122T161000Z
UID:10004726-1763798400-1763834400@www.ashlandy.org
SUMMARY:Aqua Aces Swim Meet
DESCRIPTION:
URL:https://www.ashlandy.org/event/aqua-aces-swim-meet-2/
CATEGORIES:General
END:VEVENT
BEGIN:VEVENT
DTSTART;TZID=America/New_York:20251122T080000
DTEND;TZID=America/New_York:20251122T180000
DTSTAMP:20260420T150008
CREATED:20251012T143936Z
LAST-MODIFIED:20251122T161003Z
UID:10004751-1763798400-1763834400@www.ashlandy.org
SUMMARY:Multi Purpose /Aqua Aces Swim Meet  8AM - 6PM
DESCRIPTION:
URL:https://www.ashlandy.org/event/multi-purpose-aqua-aces-swim-meet-8am-6pm/
CATEGORIES:General
END:VEVENT
BEGIN:VEVENT
DTSTART;TZID=America/New_York:20251123T140000
DTEND;TZID=America/New_York:20251123T160000
DTSTAMP:20260420T150008
CREATED:20251022T143948Z
LAST-MODIFIED:20251123T160935Z
UID:10004817-1763906400-1763913600@www.ashlandy.org
SUMMARY:Ashley Houston/ Approved/Paid in Full/  Gymnastics Party
DESCRIPTION:10 tables \n1 cake table \n1 food table \nwaiting on approval from Gymnastics / sent 10/21/25\n50 people  Banquet Room
URL:https://www.ashlandy.org/event/ashley-houston-pending-approval-gymnastics-party/
CATEGORIES:General
END:VEVENT
BEGIN:VEVENT
DTSTART;TZID=America/New_York:20251123T140000
DTEND;TZID=America/New_York:20251123T160000
DTSTAMP:20260420T150008
CREATED:20251030T143943Z
LAST-MODIFIED:20251123T160936Z
UID:10004888-1763906400-1763913600@www.ashlandy.org
SUMMARY:Sherri Gross/Pool Party/Approved/Paid In Full/Set up Multipurpose room
DESCRIPTION:party multi purpose room \n1 Cake table \n1 food table \n6 banquet tables\nsent waiver 10/29/25
URL:https://www.ashlandy.org/event/sherri-gross-pool-party-approved-pending-payment-set-up-multipurpose-room/
CATEGORIES:General
END:VEVENT
BEGIN:VEVENT
DTSTART;TZID=America/New_York:20251129T140000
DTEND;TZID=America/New_York:20251129T160000
DTSTAMP:20260420T150008
CREATED:20251021T143934Z
LAST-MODIFIED:20251129T160937Z
UID:10004808-1764424800-1764432000@www.ashlandy.org
SUMMARY:Haley Barker/Pool Party /Paid in Full /Approved
DESCRIPTION:8 Tables \n1 cake table \n1 food table \n30 people\n15 for swimming estimate \nreceived waiver
URL:https://www.ashlandy.org/event/haley-barker-pool-party-pending-payment-approved/
CATEGORIES:General
END:VEVENT
BEGIN:VEVENT
DTSTART;TZID=America/New_York:20251130T090000
DTEND;TZID=America/New_York:20251130T170000
DTSTAMP:20260420T150008
CREATED:20251129T160937Z
LAST-MODIFIED:20251130T160936Z
UID:10005213-1764493200-1764522000@www.ashlandy.org
SUMMARY:Both Courts closed all day
DESCRIPTION:
URL:https://www.ashlandy.org/event/both-courts-closed-all-day/
CATEGORIES:General
END:VEVENT
BEGIN:VEVENT
DTSTART;TZID=America/New_York:20251130T130000
DTEND;TZID=America/New_York:20251130T150000
DTSTAMP:20260420T150008
CREATED:20251027T143936Z
LAST-MODIFIED:20251130T160937Z
UID:10004866-1764507600-1764514800@www.ashlandy.org
SUMMARY:Christy Harter/Gymnastic Party/Approved /Paid In Full/ Employee
DESCRIPTION:15-20 people for gymnastics \n1 cake table\n1 food table \n6 banquet tables\napproved \nwaiver received 10/29/25
URL:https://www.ashlandy.org/event/christy-harter-gymnastic-party-pending-payment-pending/
CATEGORIES:General
END:VEVENT
END:VCALENDAR