BEGIN:VCALENDAR
VERSION:2.0
PRODID:-//YMCA of Ashland, Ohio - ECPv6.5.0//NONSGML v1.0//EN
CALSCALE:GREGORIAN
METHOD:PUBLISH
X-WR-CALNAME:YMCA of Ashland, Ohio
X-ORIGINAL-URL:https://www.ashlandy.org
X-WR-CALDESC:Events for YMCA of Ashland, Ohio
REFRESH-INTERVAL;VALUE=DURATION:PT1H
X-Robots-Tag:noindex
X-PUBLISHED-TTL:PT1H
BEGIN:VTIMEZONE
TZID:America/New_York
BEGIN:DAYLIGHT
TZOFFSETFROM:-0500
TZOFFSETTO:-0400
TZNAME:EDT
DTSTART:20260308T070000
END:DAYLIGHT
BEGIN:STANDARD
TZOFFSETFROM:-0400
TZOFFSETTO:-0500
TZNAME:EST
DTSTART:20261101T060000
END:STANDARD
END:VTIMEZONE
BEGIN:VEVENT
DTSTART;TZID=America/New_York:20260102T090000
DTEND;TZID=America/New_York:20260102T150000
DTSTAMP:20260420T120522
CREATED:20251120T160957Z
LAST-MODIFIED:20260102T193937Z
UID:10005153-1767344400-1767366000@www.ashlandy.org
SUMMARY:Confernce Room/Gymnastic Training
DESCRIPTION:
URL:https://www.ashlandy.org/event/confernce-room-gymnastic-training/
CATEGORIES:General
END:VEVENT
BEGIN:VEVENT
DTSTART;TZID=America/New_York:20260103T130000
DTEND;TZID=America/New_York:20260103T150000
DTSTAMP:20260420T120522
CREATED:20251115T153950Z
LAST-MODIFIED:20251117T153950Z
UID:10005112-1767445200-1767452400@www.ashlandy.org
SUMMARY:Kerri McCormick/ Gymnastics Party/ Pending Approval/Pending Payment
DESCRIPTION:4 Tables \n1 Cake table\n1 Food table \npending confirmation from gymnastics /sent 11/14/25
URL:https://www.ashlandy.org/event/kerri-mccormick-gymnastics-party-pending-approval-pending-payment/
CATEGORIES:General
END:VEVENT
BEGIN:VEVENT
DTSTART;TZID=America/New_York:20260103T140000
DTEND;TZID=America/New_York:20260103T160000
DTSTAMP:20260420T120522
CREATED:20251212T163956Z
LAST-MODIFIED:20260103T193924Z
UID:10005293-1767448800-1767456000@www.ashlandy.org
SUMMARY:Jessi Adams/ Pool Party/Approved/ Paid In full
DESCRIPTION:7 Tables\n1 cake Table\n1 food Table\nrental agreement received 12/11/2025
URL:https://www.ashlandy.org/event/jessi-adams-pool-party-approved-pending-payment/
CATEGORIES:General
END:VEVENT
BEGIN:VEVENT
DTSTART;TZID=America/New_York:20260110T140000
DTEND;TZID=America/New_York:20260110T160000
DTSTAMP:20260420T120522
CREATED:20251104T150952Z
LAST-MODIFIED:20251104T150952Z
UID:10004912-1768053600-1768060800@www.ashlandy.org
SUMMARY:Kayla Walsh/ Pending Approval/ Sports Party
DESCRIPTION:
URL:https://www.ashlandy.org/event/kayla-walsh-pending-approval-sports-party/
CATEGORIES:General
END:VEVENT
BEGIN:VEVENT
DTSTART;TZID=America/New_York:20260110T140000
DTEND;TZID=America/New_York:20260110T160000
DTSTAMP:20260420T120522
CREATED:20251107T153954Z
LAST-MODIFIED:20260110T193935Z
UID:10004935-1768053600-1768060800@www.ashlandy.org
SUMMARY:Kayla Walsh/Pool Party/Paid In Full/Approved
DESCRIPTION:6 Tables\n1 cake table\n1 food table \n25 People \nwaiver received 11/10/2025
URL:https://www.ashlandy.org/event/kayla-walsh-swim-party-pending-payment-approved/
CATEGORIES:General
END:VEVENT
BEGIN:VEVENT
DTSTART;TZID=America/New_York:20260111T150000
DTEND;TZID=America/New_York:20260111T170000
DTSTAMP:20260420T120522
CREATED:20251220T173935Z
LAST-MODIFIED:20260111T193934Z
UID:10005365-1768143600-1768150800@www.ashlandy.org
SUMMARY:Angel Thompson/ Approved /Paid In Full/Pool Party/2 Lifeguards
DESCRIPTION:10 Tables \n1 Cake Table\n1 Food Table \n1 additional lifeguard added \nrental agreements sent 12/19/25\nrental agreement received 12/26/25
URL:https://www.ashlandy.org/event/angel-thompson-approved-pending-payment-pool-party-2-lifeguards/
CATEGORIES:General
END:VEVENT
BEGIN:VEVENT
DTSTART;TZID=America/New_York:20260117T130000
DTEND;TZID=America/New_York:20260117T160000
DTSTAMP:20260420T120522
CREATED:20251211T160955Z
LAST-MODIFIED:20260117T200936Z
UID:10005279-1768654800-1768665600@www.ashlandy.org
SUMMARY:Courtney Brown/Gymnastic Party/Paid In Full /approved/Banquet RM
DESCRIPTION:5 Tables\n1 Cake table \n1 food table\nrental agreement received 12/11/25\nMulti Purpose Room
URL:https://www.ashlandy.org/event/courtney-brown-banquet-room-pending-payment-approved/
CATEGORIES:General
END:VEVENT
BEGIN:VEVENT
DTSTART;TZID=America/New_York:20260117T140000
DTEND;TZID=America/New_York:20260117T160000
DTSTAMP:20260420T120522
CREATED:20251224T180939Z
LAST-MODIFIED:20260117T200935Z
UID:10005393-1768658400-1768665600@www.ashlandy.org
SUMMARY:Kelsey Coffy/Multi-Purpose RM/Paid In Full/Approved
DESCRIPTION:8 Tables\n1 cake table \n1 Food table \nagreement sent 12/23/25\nagreement received 12/26/25
URL:https://www.ashlandy.org/event/kelsey-coffy-banquet-rm-pending-payment-approved/
CATEGORIES:General
END:VEVENT
BEGIN:VEVENT
DTSTART;TZID=America/New_York:20260118T130000
DTEND;TZID=America/New_York:20260118T160000
DTSTAMP:20260420T120522
CREATED:20251227T180951Z
LAST-MODIFIED:20260118T200940Z
UID:10005431-1768741200-1768752000@www.ashlandy.org
SUMMARY:Hayla Clark/Gymnastics Party/Approved /Paid In Full/Banquet RM
DESCRIPTION:7 Tables \n1 Cake Table \n1 Food Table \n30 People  \n10 Kids for Gymnastics \nwaiting on gymnastic approval   12/26/25/approved\nadd additional 1hr for banquet room\nrental agreement received 12/29/25
URL:https://www.ashlandy.org/event/hayla-clark-gymnastics-party-approved-pending-payment/
CATEGORIES:General
END:VEVENT
BEGIN:VEVENT
DTSTART;TZID=America/New_York:20260118T150000
DTEND;TZID=America/New_York:20260118T170000
DTSTAMP:20260420T120522
CREATED:20260107T193911Z
LAST-MODIFIED:20260118T200940Z
UID:10005505-1768748400-1768755600@www.ashlandy.org
SUMMARY:Selena Pryor/Pool Party/Employee/approved/Multi Purpose RM
DESCRIPTION:6 tables \n1 Cake \n1 food
URL:https://www.ashlandy.org/event/selena-pryor-pool-party-employee-approved/
CATEGORIES:General
END:VEVENT
BEGIN:VEVENT
DTSTART;TZID=America/New_York:20260124T080000
DTEND;TZID=America/New_York:20260124T180000
DTSTAMP:20260420T120522
CREATED:20251009T140951Z
LAST-MODIFIED:20260124T203935Z
UID:10004728-1769241600-1769277600@www.ashlandy.org
SUMMARY:Aqua Aces Swim Meet
DESCRIPTION:
URL:https://www.ashlandy.org/event/aqua-aces-swim-meet-4/
CATEGORIES:General
END:VEVENT
BEGIN:VEVENT
DTSTART;TZID=America/New_York:20260124T080000
DTEND;TZID=America/New_York:20260124T180000
DTSTAMP:20260420T120522
CREATED:20251012T143951Z
LAST-MODIFIED:20260124T203934Z
UID:10004753-1769241600-1769277600@www.ashlandy.org
SUMMARY:Multi Purpose/ Aqua Aces Swim Meet
DESCRIPTION:
URL:https://www.ashlandy.org/event/multi-purpose-aqua-aces-swim-meet/
CATEGORIES:General
END:VEVENT
BEGIN:VEVENT
DTSTART;TZID=America/New_York:20260124T140000
DTEND;TZID=America/New_York:20260124T160000
DTSTAMP:20260420T120522
CREATED:20250812T100936Z
LAST-MODIFIED:20260124T203935Z
UID:10004321-1769263200-1769270400@www.ashlandy.org
SUMMARY:Gabby Kinney/Birthday Party/  Banquet room only/ Employee
DESCRIPTION:30 to 40 people\n6 Tables\n1 cake table \n1 gift table \n419-908-5695
URL:https://www.ashlandy.org/event/gabby-kinney-birthday-party-banquet-room-only-employee/
CATEGORIES:General
END:VEVENT
BEGIN:VEVENT
DTSTART;TZID=America/New_York:20260131T120000
DTEND;TZID=America/New_York:20260131T160000
DTSTAMP:20260420T120522
CREATED:20251220T173948Z
LAST-MODIFIED:20260130T210913Z
UID:10005366-1769860800-1769875200@www.ashlandy.org
SUMMARY:Laura Masimore/Banquet Room Only/Approved/Paid In Full
DESCRIPTION:10 Tables / 8 chairs per table \nI cake table \n1 food table\nrental agrement received 12/22/25
URL:https://www.ashlandy.org/event/laura-masimore-banquet-room-only-approved-pending-payment/
CATEGORIES:General
END:VEVENT
BEGIN:VEVENT
DTSTART;TZID=America/New_York:20260131T130000
DTEND;TZID=America/New_York:20260131T150000
DTSTAMP:20260420T120522
CREATED:20251118T160955Z
LAST-MODIFIED:20260130T210913Z
UID:10005136-1769864400-1769871600@www.ashlandy.org
SUMMARY:Kerri McCormick/ Gymnastics Party/approved/Paid In Full/Multi-Purpose RM
DESCRIPTION:4 Tables/ 1 Cake table / 1 Food table\nmulti purpose rm / gymnastic party\nrental agreement received 11/22/25
URL:https://www.ashlandy.org/event/kerri-mccormick-gymnastics-party-pending-approved-pending-payment/
CATEGORIES:General
END:VEVENT
END:VCALENDAR