BEGIN:VCALENDAR
VERSION:2.0
PRODID:-//YMCA of Ashland, Ohio - ECPv6.5.0//NONSGML v1.0//EN
CALSCALE:GREGORIAN
METHOD:PUBLISH
X-ORIGINAL-URL:https://www.ashlandy.org
X-WR-CALDESC:Events for YMCA of Ashland, Ohio
REFRESH-INTERVAL;VALUE=DURATION:PT1H
X-Robots-Tag:noindex
X-PUBLISHED-TTL:PT1H
BEGIN:VTIMEZONE
TZID:America/New_York
BEGIN:DAYLIGHT
TZOFFSETFROM:-0500
TZOFFSETTO:-0400
TZNAME:EDT
DTSTART:20250309T070000
END:DAYLIGHT
BEGIN:STANDARD
TZOFFSETFROM:-0400
TZOFFSETTO:-0500
TZNAME:EST
DTSTART:20251102T060000
END:STANDARD
END:VTIMEZONE
BEGIN:VEVENT
DTSTART;TZID=America/New_York:20250920T120000
DTEND;TZID=America/New_York:20250920T140000
DTSTAMP:20260420T193504
CREATED:20250723T233908Z
LAST-MODIFIED:20250902T110939Z
UID:10004190-1758369600-1758376800@www.ashlandy.org
SUMMARY:Gymnastic Party/ Caitlin Artrip /approved/ pending payment
DESCRIPTION:15 people for gymnastics / 40 people for party  \n8 tables
URL:https://www.ashlandy.org/event/gymnastic-party-caitlin-artrip-waiting-on-approval-7-23-25/
CATEGORIES:General
END:VEVENT
END:VCALENDAR