BEGIN:VCALENDAR
VERSION:2.0
PRODID:-//YMCA of Ashland, Ohio - ECPv6.5.0//NONSGML v1.0//EN
CALSCALE:GREGORIAN
METHOD:PUBLISH
X-ORIGINAL-URL:https://www.ashlandy.org
X-WR-CALDESC:Events for YMCA of Ashland, Ohio
REFRESH-INTERVAL;VALUE=DURATION:PT1H
X-Robots-Tag:noindex
X-PUBLISHED-TTL:PT1H
BEGIN:VTIMEZONE
TZID:America/New_York
BEGIN:DAYLIGHT
TZOFFSETFROM:-0500
TZOFFSETTO:-0400
TZNAME:EDT
DTSTART:20250309T070000
END:DAYLIGHT
BEGIN:STANDARD
TZOFFSETFROM:-0400
TZOFFSETTO:-0500
TZNAME:EST
DTSTART:20251102T060000
END:STANDARD
END:VTIMEZONE
BEGIN:VEVENT
DTSTART;TZID=America/New_York:20251011T110000
DTEND;TZID=America/New_York:20251011T160000
DTSTAMP:20260420T180004
CREATED:20250806T090936Z
LAST-MODIFIED:20251011T143932Z
UID:10004279-1760180400-1760198400@www.ashlandy.org
SUMMARY:Confirmed/PD IN FULL / Susan Larussa / Surprise 50th Birthday Party Banquet room only
DESCRIPTION:set up 10am                                       liability form received 8/6/25\ngift table\ncake table\n12 tables\nPD in full 9.27.25
URL:https://www.ashlandy.org/event/confirmed-susan-larussa-surprise-50th-birthday-party-banquet-room-only/
CATEGORIES:General
END:VEVENT
END:VCALENDAR