BEGIN:VCALENDAR
VERSION:2.0
PRODID:-//YMCA of Ashland, Ohio - ECPv6.5.0//NONSGML v1.0//EN
CALSCALE:GREGORIAN
METHOD:PUBLISH
X-ORIGINAL-URL:https://www.ashlandy.org
X-WR-CALDESC:Events for YMCA of Ashland, Ohio
REFRESH-INTERVAL;VALUE=DURATION:PT1H
X-Robots-Tag:noindex
X-PUBLISHED-TTL:PT1H
BEGIN:VTIMEZONE
TZID:America/New_York
BEGIN:DAYLIGHT
TZOFFSETFROM:-0500
TZOFFSETTO:-0400
TZNAME:EDT
DTSTART:20250309T070000
END:DAYLIGHT
BEGIN:STANDARD
TZOFFSETFROM:-0400
TZOFFSETTO:-0500
TZNAME:EST
DTSTART:20251102T060000
END:STANDARD
END:VTIMEZONE
BEGIN:VEVENT
DTSTART;TZID=America/New_York:20251130T090000
DTEND;TZID=America/New_York:20251130T170000
DTSTAMP:20260420T150137
CREATED:20251129T160937Z
LAST-MODIFIED:20251130T160936Z
UID:10005213-1764493200-1764522000@www.ashlandy.org
SUMMARY:Both Courts closed all day
DESCRIPTION:
URL:https://www.ashlandy.org/event/both-courts-closed-all-day/
CATEGORIES:General
END:VEVENT
BEGIN:VEVENT
DTSTART;TZID=America/New_York:20251130T130000
DTEND;TZID=America/New_York:20251130T150000
DTSTAMP:20260420T150137
CREATED:20251027T143936Z
LAST-MODIFIED:20251130T160937Z
UID:10004866-1764507600-1764514800@www.ashlandy.org
SUMMARY:Christy Harter/Gymnastic Party/Approved /Paid In Full/ Employee
DESCRIPTION:15-20 people for gymnastics \n1 cake table\n1 food table \n6 banquet tables\napproved \nwaiver received 10/29/25
URL:https://www.ashlandy.org/event/christy-harter-gymnastic-party-pending-payment-pending/
CATEGORIES:General
END:VEVENT
END:VCALENDAR