BEGIN:VCALENDAR
VERSION:2.0
PRODID:-//YMCA of Ashland, Ohio - ECPv6.5.0//NONSGML v1.0//EN
CALSCALE:GREGORIAN
METHOD:PUBLISH
X-ORIGINAL-URL:https://www.ashlandy.org
X-WR-CALDESC:Events for YMCA of Ashland, Ohio
REFRESH-INTERVAL;VALUE=DURATION:PT1H
X-Robots-Tag:noindex
X-PUBLISHED-TTL:PT1H
BEGIN:VTIMEZONE
TZID:America/New_York
BEGIN:DAYLIGHT
TZOFFSETFROM:-0500
TZOFFSETTO:-0400
TZNAME:EDT
DTSTART:20250309T070000
END:DAYLIGHT
BEGIN:STANDARD
TZOFFSETFROM:-0400
TZOFFSETTO:-0500
TZNAME:EST
DTSTART:20251102T060000
END:STANDARD
END:VTIMEZONE
BEGIN:VEVENT
DTSTART;TZID=America/New_York:20251213T080000
DTEND;TZID=America/New_York:20251213T180000
DTSTAMP:20260420T150153
CREATED:20251009T140937Z
LAST-MODIFIED:20251213T170908Z
UID:10004727-1765612800-1765648800@www.ashlandy.org
SUMMARY:Aqua Aces Swim Meet
DESCRIPTION:
URL:https://www.ashlandy.org/event/aqua-aces-swim-meet-3/
CATEGORIES:General
END:VEVENT
BEGIN:VEVENT
DTSTART;TZID=America/New_York:20251213T080000
DTEND;TZID=America/New_York:20251213T180000
DTSTAMP:20260420T150153
CREATED:20251012T143949Z
LAST-MODIFIED:20251213T170908Z
UID:10004752-1765612800-1765648800@www.ashlandy.org
SUMMARY:Multi Purpose/ Aqua Aces Swim Meet 8AM - 6PM
DESCRIPTION:
URL:https://www.ashlandy.org/event/multi-purpose-aqua-aces-swim-meet-8am-6pm-2/
CATEGORIES:General
END:VEVENT
BEGIN:VEVENT
DTSTART;TZID=America/New_York:20251213T140000
DTEND;TZID=America/New_York:20251213T160000
DTSTAMP:20260420T150153
CREATED:20251118T160952Z
LAST-MODIFIED:20251213T170908Z
UID:10005134-1765634400-1765641600@www.ashlandy.org
SUMMARY:Matthew Grim/Pool Party/Paid In Full/ Approved
DESCRIPTION:30 Guests  / 25 for pool \n6 Tables \n1 cake table \n1 food table \nrental agreement received 11/17/25
URL:https://www.ashlandy.org/event/matthew-grim-pool-party-paid-in-full-approved/
CATEGORIES:General
END:VEVENT
END:VCALENDAR