BEGIN:VCALENDAR
VERSION:2.0
PRODID:-//YMCA of Ashland, Ohio - ECPv6.5.0//NONSGML v1.0//EN
CALSCALE:GREGORIAN
METHOD:PUBLISH
X-WR-CALNAME:YMCA of Ashland, Ohio
X-ORIGINAL-URL:https://www.ashlandy.org
X-WR-CALDESC:Events for YMCA of Ashland, Ohio
REFRESH-INTERVAL;VALUE=DURATION:PT1H
X-Robots-Tag:noindex
X-PUBLISHED-TTL:PT1H
BEGIN:VTIMEZONE
TZID:America/New_York
BEGIN:DAYLIGHT
TZOFFSETFROM:-0500
TZOFFSETTO:-0400
TZNAME:EDT
DTSTART:20260308T070000
END:DAYLIGHT
BEGIN:STANDARD
TZOFFSETFROM:-0400
TZOFFSETTO:-0500
TZNAME:EST
DTSTART:20261101T060000
END:STANDARD
END:VTIMEZONE
BEGIN:VEVENT
DTSTART;TZID=America/New_York:20260103T130000
DTEND;TZID=America/New_York:20260103T150000
DTSTAMP:20260420T133132
CREATED:20251115T153950Z
LAST-MODIFIED:20251117T153950Z
UID:10005112-1767445200-1767452400@www.ashlandy.org
SUMMARY:Kerri McCormick/ Gymnastics Party/ Pending Approval/Pending Payment
DESCRIPTION:4 Tables \n1 Cake table\n1 Food table \npending confirmation from gymnastics /sent 11/14/25
URL:https://www.ashlandy.org/event/kerri-mccormick-gymnastics-party-pending-approval-pending-payment/
CATEGORIES:General
END:VEVENT
BEGIN:VEVENT
DTSTART;TZID=America/New_York:20260103T140000
DTEND;TZID=America/New_York:20260103T160000
DTSTAMP:20260420T133132
CREATED:20251212T163956Z
LAST-MODIFIED:20260103T193924Z
UID:10005293-1767448800-1767456000@www.ashlandy.org
SUMMARY:Jessi Adams/ Pool Party/Approved/ Paid In full
DESCRIPTION:7 Tables\n1 cake Table\n1 food Table\nrental agreement received 12/11/2025
URL:https://www.ashlandy.org/event/jessi-adams-pool-party-approved-pending-payment/
CATEGORIES:General
END:VEVENT
END:VCALENDAR