BEGIN:VCALENDAR
VERSION:2.0
PRODID:-//YMCA of Ashland, Ohio - ECPv6.5.0//NONSGML v1.0//EN
CALSCALE:GREGORIAN
METHOD:PUBLISH
X-WR-CALNAME:YMCA of Ashland, Ohio
X-ORIGINAL-URL:https://www.ashlandy.org
X-WR-CALDESC:Events for YMCA of Ashland, Ohio
REFRESH-INTERVAL;VALUE=DURATION:PT1H
X-Robots-Tag:noindex
X-PUBLISHED-TTL:PT1H
BEGIN:VTIMEZONE
TZID:America/New_York
BEGIN:DAYLIGHT
TZOFFSETFROM:-0500
TZOFFSETTO:-0400
TZNAME:EDT
DTSTART:20260308T070000
END:DAYLIGHT
BEGIN:STANDARD
TZOFFSETFROM:-0400
TZOFFSETTO:-0500
TZNAME:EST
DTSTART:20261101T060000
END:STANDARD
END:VTIMEZONE
BEGIN:VEVENT
DTSTART;TZID=America/New_York:20260118T130000
DTEND;TZID=America/New_York:20260118T160000
DTSTAMP:20260420T133133
CREATED:20251227T180951Z
LAST-MODIFIED:20260118T200940Z
UID:10005431-1768741200-1768752000@www.ashlandy.org
SUMMARY:Hayla Clark/Gymnastics Party/Approved /Paid In Full/Banquet RM
DESCRIPTION:7 Tables \n1 Cake Table \n1 Food Table \n30 People  \n10 Kids for Gymnastics \nwaiting on gymnastic approval   12/26/25/approved\nadd additional 1hr for banquet room\nrental agreement received 12/29/25
URL:https://www.ashlandy.org/event/hayla-clark-gymnastics-party-approved-pending-payment/
CATEGORIES:General
END:VEVENT
BEGIN:VEVENT
DTSTART;TZID=America/New_York:20260118T150000
DTEND;TZID=America/New_York:20260118T170000
DTSTAMP:20260420T133133
CREATED:20260107T193911Z
LAST-MODIFIED:20260118T200940Z
UID:10005505-1768748400-1768755600@www.ashlandy.org
SUMMARY:Selena Pryor/Pool Party/Employee/approved/Multi Purpose RM
DESCRIPTION:6 tables \n1 Cake \n1 food
URL:https://www.ashlandy.org/event/selena-pryor-pool-party-employee-approved/
CATEGORIES:General
END:VEVENT
END:VCALENDAR