BEGIN:VCALENDAR
VERSION:2.0
PRODID:-//YMCA of Ashland, Ohio - ECPv6.5.0//NONSGML v1.0//EN
CALSCALE:GREGORIAN
METHOD:PUBLISH
X-WR-CALNAME:YMCA of Ashland, Ohio
X-ORIGINAL-URL:https://www.ashlandy.org
X-WR-CALDESC:Events for YMCA of Ashland, Ohio
REFRESH-INTERVAL;VALUE=DURATION:PT1H
X-Robots-Tag:noindex
X-PUBLISHED-TTL:PT1H
BEGIN:VTIMEZONE
TZID:America/New_York
BEGIN:DAYLIGHT
TZOFFSETFROM:-0500
TZOFFSETTO:-0400
TZNAME:EDT
DTSTART:20260308T070000
END:DAYLIGHT
BEGIN:STANDARD
TZOFFSETFROM:-0400
TZOFFSETTO:-0500
TZNAME:EST
DTSTART:20261101T060000
END:STANDARD
END:VTIMEZONE
BEGIN:VEVENT
DTSTART;TZID=America/New_York:20260214T140000
DTEND;TZID=America/New_York:20260214T160000
DTSTAMP:20260420T120539
CREATED:20251208T160929Z
LAST-MODIFIED:20260213T213935Z
UID:10005258-1771077600-1771084800@www.ashlandy.org
SUMMARY:Kaysi Keller/Gymnastic Party/Approved/Paid in Full/Multi-Purpose RM
DESCRIPTION:4 tables \n1 cake table\n1 food table\nrental agreement sent 12/8/2025\nrental agreement received 12/11/25
URL:https://www.ashlandy.org/event/kaysi-keller-gymnastic-party-pending-approval-pending-payment/
CATEGORIES:General
END:VEVENT
BEGIN:VEVENT
DTSTART;TZID=America/New_York:20260214T140000
DTEND;TZID=America/New_York:20260214T160000
DTSTAMP:20260420T120539
CREATED:20260117T200951Z
LAST-MODIFIED:20260213T213934Z
UID:10005628-1771077600-1771084800@www.ashlandy.org
SUMMARY:Janet Wilson/Banquet RM Only/Paid In Full/approved
DESCRIPTION:7 Tables\n1 Cake \n1 Food\nrental agreement sent to ashley 1/19/26\nrental agreement received 02/13/2026
URL:https://www.ashlandy.org/event/janet-wilson-banquet-rm-only-pending-payment-approved/
CATEGORIES:General
END:VEVENT
END:VCALENDAR