BEGIN:VCALENDAR
VERSION:2.0
PRODID:-//YMCA of Ashland, Ohio - ECPv6.5.0//NONSGML v1.0//EN
CALSCALE:GREGORIAN
METHOD:PUBLISH
X-WR-CALNAME:YMCA of Ashland, Ohio
X-ORIGINAL-URL:https://www.ashlandy.org
X-WR-CALDESC:Events for YMCA of Ashland, Ohio
REFRESH-INTERVAL;VALUE=DURATION:PT1H
X-Robots-Tag:noindex
X-PUBLISHED-TTL:PT1H
BEGIN:VTIMEZONE
TZID:America/New_York
BEGIN:DAYLIGHT
TZOFFSETFROM:-0500
TZOFFSETTO:-0400
TZNAME:EDT
DTSTART:20260308T070000
END:DAYLIGHT
BEGIN:STANDARD
TZOFFSETFROM:-0400
TZOFFSETTO:-0500
TZNAME:EST
DTSTART:20261101T060000
END:STANDARD
END:VTIMEZONE
BEGIN:VEVENT
DTSTART;TZID=America/New_York:20260222T130000
DTEND;TZID=America/New_York:20260222T160000
DTSTAMP:20260420T120540
CREATED:20260111T193951Z
LAST-MODIFIED:20260221T213909Z
UID:10005567-1771765200-1771776000@www.ashlandy.org
SUMMARY:Destinee Williams/Banquet RM Only/Approved/Paid In Full
DESCRIPTION:50 People\n10 Tables\n1` cake table\n1 food table\nRental agreement sent 01/15/26
URL:https://www.ashlandy.org/event/destinee-williams-banquet-rm-only-approved-pending-payment/
CATEGORIES:General
END:VEVENT
BEGIN:VEVENT
DTSTART;TZID=America/New_York:20260222T150000
DTEND;TZID=America/New_York:20260222T170000
DTSTAMP:20260420T120540
CREATED:20260207T213936Z
LAST-MODIFIED:20260221T213909Z
UID:10005817-1771772400-1771779600@www.ashlandy.org
SUMMARY:Alisa Ross/ Pool Party/Approved/Paid In Full/Multi Purpose RM
DESCRIPTION:4 Tables\n1 Cake table\n1 Food Table \nrental agreement sent 02/06/26\nrental agreement received 02/09/2026
URL:https://www.ashlandy.org/event/alisa-ross-pool-party-approved-pending-payment-multi-purpose-rm/
CATEGORIES:General
END:VEVENT
END:VCALENDAR