BEGIN:VCALENDAR
VERSION:2.0
PRODID:-//YMCA of Ashland, Ohio - ECPv6.5.0//NONSGML v1.0//EN
CALSCALE:GREGORIAN
METHOD:PUBLISH
X-ORIGINAL-URL:https://www.ashlandy.org
X-WR-CALDESC:Events for YMCA of Ashland, Ohio
REFRESH-INTERVAL;VALUE=DURATION:PT1H
X-Robots-Tag:noindex
X-PUBLISHED-TTL:PT1H
BEGIN:VTIMEZONE
TZID:America/New_York
BEGIN:DAYLIGHT
TZOFFSETFROM:-0500
TZOFFSETTO:-0400
TZNAME:EDT
DTSTART:20260308T070000
END:DAYLIGHT
BEGIN:STANDARD
TZOFFSETFROM:-0400
TZOFFSETTO:-0500
TZNAME:EST
DTSTART:20261101T060000
END:STANDARD
END:VTIMEZONE
BEGIN:VEVENT
DTSTART;TZID=America/New_York:20260228T140000
DTEND;TZID=America/New_York:20260228T160000
DTSTAMP:20260420T074955
CREATED:20260107T193927Z
LAST-MODIFIED:20260225T223932Z
UID:10005506-1772287200-1772294400@www.ashlandy.org
SUMMARY:Tia Hartsel /Pool Party/Paid in Full/Approved/Banquet RM
DESCRIPTION:8 Tables\n1 cake \n1 food\n15-20 pool\n40 party\nrental agreement sent 01/10/2026\nrental agreement received 02/17/26
URL:https://www.ashlandy.org/event/tia-hartsel-pool-party-pending-payment-pending-approval/
CATEGORIES:General
END:VEVENT
BEGIN:VEVENT
DTSTART;TZID=America/New_York:20260228T140000
DTEND;TZID=America/New_York:20260228T160000
DTSTAMP:20260420T074955
CREATED:20260220T213910Z
LAST-MODIFIED:20260222T220938Z
UID:10005917-1772287200-1772294400@www.ashlandy.org
SUMMARY:Evan James/Pending Payment /Approved/multi purpose only
DESCRIPTION:5 Tables \n1 cake \n1 food       multi purpose room \nagreement sent 02/20/2026\nagreement received 02/20/2026
URL:https://www.ashlandy.org/event/evan-james-pending-payment-approved-multi-purpose-only/
CATEGORIES:General
END:VEVENT
BEGIN:VEVENT
DTSTART;TZID=America/New_York:20260228T140000
DTEND;TZID=America/New_York:20260228T160000
DTSTAMP:20260420T074955
CREATED:20260221T213909Z
LAST-MODIFIED:20260225T223933Z
UID:10005924-1772287200-1772294400@www.ashlandy.org
SUMMARY:Kayla Walsh/Paid In Full/Approved/Multi Purpose RM Only
DESCRIPTION:5 Tables \n1 Cake \n1 Food\nrental agreement sent 02/20/2026    Multi Purpose RM\nrental agreement received 02/21/26
URL:https://www.ashlandy.org/event/kayla-walsh-paid-in-full-approved-multi-purpose-rm-only/
CATEGORIES:General
END:VEVENT
END:VCALENDAR