BEGIN:VCALENDAR
VERSION:2.0
PRODID:-//YMCA of Ashland, Ohio - ECPv6.5.0//NONSGML v1.0//EN
CALSCALE:GREGORIAN
METHOD:PUBLISH
X-WR-CALNAME:YMCA of Ashland, Ohio
X-ORIGINAL-URL:https://www.ashlandy.org
X-WR-CALDESC:Events for YMCA of Ashland, Ohio
REFRESH-INTERVAL;VALUE=DURATION:PT1H
X-Robots-Tag:noindex
X-PUBLISHED-TTL:PT1H
BEGIN:VTIMEZONE
TZID:America/New_York
BEGIN:DAYLIGHT
TZOFFSETFROM:-0500
TZOFFSETTO:-0400
TZNAME:EDT
DTSTART:20260308T070000
END:DAYLIGHT
BEGIN:STANDARD
TZOFFSETFROM:-0400
TZOFFSETTO:-0500
TZNAME:EST
DTSTART:20261101T060000
END:STANDARD
END:VTIMEZONE
BEGIN:VEVENT
DTSTART;TZID=America/New_York:20260301T150000
DTEND;TZID=America/New_York:20260301T170000
DTSTAMP:20260420T061834
CREATED:20260117T201006Z
LAST-MODIFIED:20260225T223933Z
UID:10005630-1772377200-1772384400@www.ashlandy.org
SUMMARY:Christal Porterfield/Pool Party/Approved/Pending Payment/Banque   t RM
DESCRIPTION:10 Tables\n1 Cake \n1 Food\nrental agreement sent 02/03/2026\nrental agreement received 02/03/2026\nX lifeguard $$
URL:https://www.ashlandy.org/event/christal-porterfield-pool-party-approved-pending-payment-banquet-rm/
CATEGORIES:General
END:VEVENT
END:VCALENDAR