BEGIN:VCALENDAR
VERSION:2.0
PRODID:-//YMCA of Ashland, Ohio - ECPv6.5.0//NONSGML v1.0//EN
CALSCALE:GREGORIAN
METHOD:PUBLISH
X-WR-CALNAME:YMCA of Ashland, Ohio
X-ORIGINAL-URL:https://www.ashlandy.org
X-WR-CALDESC:Events for YMCA of Ashland, Ohio
REFRESH-INTERVAL;VALUE=DURATION:PT1H
X-Robots-Tag:noindex
X-PUBLISHED-TTL:PT1H
BEGIN:VTIMEZONE
TZID:America/New_York
BEGIN:DAYLIGHT
TZOFFSETFROM:-0500
TZOFFSETTO:-0400
TZNAME:EDT
DTSTART:20240310T070000
END:DAYLIGHT
BEGIN:STANDARD
TZOFFSETFROM:-0400
TZOFFSETTO:-0500
TZNAME:EST
DTSTART:20241103T060000
END:STANDARD
END:VTIMEZONE
BEGIN:VEVENT
DTSTART;TZID=America/New_York:20241101T060000
DTEND;TZID=America/New_York:20241101T110000
DTSTAMP:20260420T004930
CREATED:20240820T084651Z
LAST-MODIFIED:20241031T190941Z
UID:10001549-1730440800-1730458800@www.ashlandy.org
SUMMARY:PickleBall\, Gym Court 1
DESCRIPTION:
URL:https://www.ashlandy.org/event/pickleball-gym-court-1-183/
CATEGORIES:Group Ex-Schedule
END:VEVENT
BEGIN:VEVENT
DTSTART;TZID=America/New_York:20241101T080000
DTEND;TZID=America/New_York:20241101T083000
DTSTAMP:20260420T004930
CREATED:20240820T084650Z
LAST-MODIFIED:20241002T051423Z
UID:10001546-1730448000-1730449800@www.ashlandy.org
SUMMARY:Cycle Strong
DESCRIPTION:Instructor: Jennifer  \nDescription: Cycle Strong is a 60-minute cycling experience brought indoors. Roll over hills\, chase the pack\, spin the flats\, climb mountains and sprint to the finish. You’ll feel the thrill of energetic music and group dynamics as you get all the benefits of authentic interval training.
URL:https://www.ashlandy.org/event/cycle-strong-107/
LOCATION:Cycling Room
CATEGORIES:Group Ex-Schedule
END:VEVENT
BEGIN:VEVENT
DTSTART;TZID=America/New_York:20241101T083000
DTEND;TZID=America/New_York:20241101T094500
DTSTAMP:20260420T004930
CREATED:20240820T084650Z
LAST-MODIFIED:20241031T190940Z
UID:10001547-1730449800-1730454300@www.ashlandy.org
SUMMARY:Strength Circuit
DESCRIPTION:Instructor: Clay \nDescription: A fast-paced class where you’re divided into small groups\, completing a series of exercises for 30- to 90-second intervals. There are multiple stations that combine functional resistance and cardiovascular training to give you a full-body workout—the perfect combination for strengthening your heart and muscles.
URL:https://www.ashlandy.org/event/strength-circuit-31/
LOCATION:Fitness Room (Downstairs)
CATEGORIES:Group Ex-Schedule
END:VEVENT
BEGIN:VEVENT
DTSTART;TZID=America/New_York:20241101T084500
DTEND;TZID=America/New_York:20241101T093000
DTSTAMP:20260420T004930
CREATED:20240820T084651Z
LAST-MODIFIED:20241031T190940Z
UID:10001548-1730450700-1730453400@www.ashlandy.org
SUMMARY:Gentle Yoga-w/Christy Mathatas
DESCRIPTION:
URL:https://www.ashlandy.org/event/gentle-yoga-w-christy-mathatas-31/
LOCATION:Ballet Room
CATEGORIES:Group Ex-Schedule
END:VEVENT
BEGIN:VEVENT
DTSTART;TZID=America/New_York:20241101T100000
DTEND;TZID=America/New_York:20241101T110000
DTSTAMP:20260420T004930
CREATED:20240821T091715Z
LAST-MODIFIED:20241031T190940Z
UID:10001552-1730455200-1730458800@www.ashlandy.org
SUMMARY:SilverSneakers Classic
DESCRIPTION:Instructor: Sherry \nDescription: Have fun and move to the music through a variety of exercises designed to increase muscular strength\, range of movement\, and activities for daily living. Hand-held weights\, elastic tubing with handles\, and a SilverSneakers ball are offered for resistance.
URL:https://www.ashlandy.org/event/silversneakers-classic-63/
LOCATION:Multi-Purpose Room
CATEGORIES:Group Ex-Schedule
END:VEVENT
BEGIN:VEVENT
DTSTART;TZID=America/New_York:20241102T083000
DTEND;TZID=America/New_York:20241102T090000
DTSTAMP:20260420T004930
CREATED:20240821T091716Z
LAST-MODIFIED:20241101T193912Z
UID:10001554-1730536200-1730538000@www.ashlandy.org
SUMMARY:Cycle Strong
DESCRIPTION:Instructor: Shelly \nClass Description: High-intensity interval training full-body workout\, with timed intervals with heart-thumping music designed to motivate and move you.
URL:https://www.ashlandy.org/event/cycle-strong-108/
LOCATION:Cycling Room
CATEGORIES:Group Ex-Schedule
END:VEVENT
BEGIN:VEVENT
DTSTART;TZID=America/New_York:20241102T090000
DTEND;TZID=America/New_York:20241102T100000
DTSTAMP:20260420T004930
CREATED:20240821T091716Z
LAST-MODIFIED:20241101T193912Z
UID:10001553-1730538000-1730541600@www.ashlandy.org
SUMMARY:YOGA
DESCRIPTION:Instructor: Louise  \nDescription: This class incorporates yoga postures\, gentle movement sequences\, breath work\, supported silent meditation\, and guided relaxation to support increased awareness and mindfulness of the breath and body\, and quieting of the nervous system.
URL:https://www.ashlandy.org/event/yoga-31/
LOCATION:Multi-Purpose Room
CATEGORIES:Group Ex-Schedule
END:VEVENT
BEGIN:VEVENT
DTSTART;TZID=America/New_York:20241104T060000
DTEND;TZID=America/New_York:20241104T110000
DTSTAMP:20260420T004930
CREATED:20240822T094712Z
LAST-MODIFIED:20241103T203939Z
UID:10001561-1730700000-1730718000@www.ashlandy.org
SUMMARY:PickleBall\, Gym Court 1
DESCRIPTION:
URL:https://www.ashlandy.org/event/pickleball-gym-court-1-184/
CATEGORIES:Group Ex-Schedule
END:VEVENT
BEGIN:VEVENT
DTSTART;TZID=America/New_York:20241104T083000
DTEND;TZID=America/New_York:20241104T090000
DTSTAMP:20260420T004930
CREATED:20240821T091716Z
LAST-MODIFIED:20241103T203939Z
UID:10001555-1730709000-1730710800@www.ashlandy.org
SUMMARY:Total Body Cycle
DESCRIPTION:Instructor: Shelly \nSpots: 19 \nDescription: Intervals\, rolling hills\, sprints\, climbs\, runs\, surges and jumps all to music hand-picked to motivate and inspire! This is a great workout if you want to burn calories and increase endurance.
URL:https://www.ashlandy.org/event/total-body-cycle-26/
CATEGORIES:Group Ex-Schedule
END:VEVENT
BEGIN:VEVENT
DTSTART;TZID=America/New_York:20241104T091000
DTEND;TZID=America/New_York:20241104T094500
DTSTAMP:20260420T004930
CREATED:20240821T091717Z
LAST-MODIFIED:20241103T203939Z
UID:10001556-1730711400-1730713500@www.ashlandy.org
SUMMARY:Total Body Strength
DESCRIPTION:Instructor: ShellyDescription: Work all muscle groups with a variety of strengthening and conditioning exercises. This athletic-based sculpting class tones upper and lower body using resistance like hand weights\, body bars and your own body weight.
URL:https://www.ashlandy.org/event/total-body-strength-31/
LOCATION:Multi-Purpose Room
CATEGORIES:Group Ex-Schedule
END:VEVENT
BEGIN:VEVENT
DTSTART;TZID=America/New_York:20241104T100000
DTEND;TZID=America/New_York:20241104T110000
DTSTAMP:20260420T004930
CREATED:20240821T091717Z
LAST-MODIFIED:20241103T203939Z
UID:10001557-1730714400-1730718000@www.ashlandy.org
SUMMARY:SilverSneakers Yoga
DESCRIPTION:Instructor: Christy  \nClass Description: Move through a complete series of seated and standing yoga poses while you enjoy restorative breathing exercises that promote stress reduction and mental clarity.
URL:https://www.ashlandy.org/event/silversneakers-yoga-31/
LOCATION:Multi-Purpose Room
CATEGORIES:Group Ex-Schedule
END:VEVENT
BEGIN:VEVENT
DTSTART;TZID=America/New_York:20241104T173000
DTEND;TZID=America/New_York:20241104T183000
DTSTAMP:20260420T004930
CREATED:20240822T094713Z
LAST-MODIFIED:20241104T210941Z
UID:10001562-1730741400-1730745000@www.ashlandy.org
SUMMARY:Zumba
DESCRIPTION:Instructor: Erica  \nDescription: Each Dance/Zumba® class is designed to bring people together to sweat it on. We take the “work” out of workout\, by mixing low-intensity and high-intensity moves for an interval-style\, calorie-burning dance fitness party. Once the Latin and World rhythms take over\, you’ll see why Dance/Zumba classes are often called exercise in disguise. Super effective? Check. Super fun? Check.
URL:https://www.ashlandy.org/event/zumba-63/
LOCATION:Multi-Purpose Room
CATEGORIES:Group Ex-Schedule
END:VEVENT
BEGIN:VEVENT
DTSTART;TZID=America/New_York:20241104T183000
DTEND;TZID=America/New_York:20241104T191500
DTSTAMP:20260420T004930
CREATED:20241003T054331Z
LAST-MODIFIED:20241104T210941Z
UID:10001852-1730745000-1730747700@www.ashlandy.org
SUMMARY:HIIT Strength
DESCRIPTION:
URL:https://www.ashlandy.org/event/hiit-strength-10/
CATEGORIES:Group Ex-Schedule
END:VEVENT
BEGIN:VEVENT
DTSTART;TZID=America/New_York:20241105T051500
DTEND;TZID=America/New_York:20241105T060000
DTSTAMP:20260420T004930
CREATED:20240822T094713Z
LAST-MODIFIED:20241104T210942Z
UID:10001563-1730783700-1730786400@www.ashlandy.org
SUMMARY:Cycling-w/Michelle McDonald
DESCRIPTION:First come. First served.
URL:https://www.ashlandy.org/event/cycling-w-michelle-mcdonald-63/
LOCATION:Cycling Room
CATEGORIES:Group Ex-Schedule
END:VEVENT
BEGIN:VEVENT
DTSTART;TZID=America/New_York:20241105T060000
DTEND;TZID=America/New_York:20241105T110000
DTSTAMP:20260420T004930
CREATED:20240822T094714Z
LAST-MODIFIED:20241104T210943Z
UID:10001564-1730786400-1730804400@www.ashlandy.org
SUMMARY:PickleBall\, Gym Court 1
DESCRIPTION:
URL:https://www.ashlandy.org/event/pickleball-gym-court-1-185/
CATEGORIES:Group Ex-Schedule
END:VEVENT
BEGIN:VEVENT
DTSTART;TZID=America/New_York:20241105T083000
DTEND;TZID=America/New_York:20241105T090000
DTSTAMP:20260420T004930
CREATED:20240822T094714Z
LAST-MODIFIED:20241002T051449Z
UID:10001565-1730795400-1730797200@www.ashlandy.org
SUMMARY:Power + Cycling
DESCRIPTION:Instructor: Shelly \nSpots: 19 \nDescription: Intervals\, rolling hills\, sprints\, climbs\, runs\, surges and jumps all to music hand-picked to motivate and inspire! This is a great workout if you want to burn calories and increase endurance
URL:https://www.ashlandy.org/event/power-cycling-31/
LOCATION:Cycling Room
CATEGORIES:Group Ex-Schedule
END:VEVENT
BEGIN:VEVENT
DTSTART;TZID=America/New_York:20241105T083000
DTEND;TZID=America/New_York:20241105T093000
DTSTAMP:20260420T004930
CREATED:20241003T054346Z
LAST-MODIFIED:20241104T210942Z
UID:10001853-1730795400-1730799000@www.ashlandy.org
SUMMARY:Weight Lifting 101
DESCRIPTION:Instructor: Clay \nDescription: Whether you’re new to lifting or want to fine-tune your technique\, this beginner-friendly class will teach you the fundamentals of weight lifting in a supportive environment. Clay Funk will guide you through proper form\, essential exercises\, and safe lifting techniques to help you build strength and confidence. Learn how to use free weights\, machines\, and your body weight to achieve your fitness goals. All fitness levels are welcome!
URL:https://www.ashlandy.org/event/weight-lifting-101-5/
LOCATION:Fitness Room(Downstairs)
CATEGORIES:Group Ex-Schedule
END:VEVENT
BEGIN:VEVENT
DTSTART;TZID=America/New_York:20241105T090000
DTEND;TZID=America/New_York:20241105T093000
DTSTAMP:20260420T004930
CREATED:20240823T101713Z
LAST-MODIFIED:20241002T051449Z
UID:10001569-1730797200-1730799000@www.ashlandy.org
SUMMARY:3.3. Strength-w/Clay Funk
DESCRIPTION:Instructor: Clay \nDescription: 3.3 Strength is a class based on full body strength building that introduces hypertrophy through 7 exercises that are 3 1/2 minutes long. This is based upon the principle of time under tension. The class is for everyone. Proper form is instructed and monitored to have max benefit to the exercises.
URL:https://www.ashlandy.org/event/3-3-strength-w-clay-funk-31/
LOCATION:Fitness Room(Downstairs)
CATEGORIES:Group Ex-Schedule
END:VEVENT
BEGIN:VEVENT
DTSTART;TZID=America/New_York:20241105T100000
DTEND;TZID=America/New_York:20241105T110000
DTSTAMP:20260420T004930
CREATED:20240823T101713Z
LAST-MODIFIED:20241104T210942Z
UID:10001570-1730800800-1730804400@www.ashlandy.org
SUMMARY:SilverSneakers Circuit
DESCRIPTION:Instructor: Sherry \nClass Description: SilverSneakers Circuit offers standing low-impact moves that alternate with standing upper-body strength. The class can be adapted for all fitness levels.
URL:https://www.ashlandy.org/event/silversneakers-circuit-31/
LOCATION:Multi-Purpose Room
CATEGORIES:Group Ex-Schedule
END:VEVENT
BEGIN:VEVENT
DTSTART;TZID=America/New_York:20241105T173000
DTEND;TZID=America/New_York:20241105T183000
DTSTAMP:20260420T004930
CREATED:20241003T054347Z
LAST-MODIFIED:20241105T213939Z
UID:10001855-1730827800-1730831400@www.ashlandy.org
SUMMARY:Zumba
DESCRIPTION:
URL:https://www.ashlandy.org/event/zumba-84/
LOCATION:Multi Purpose Room
CATEGORIES:Group Ex-Schedule
END:VEVENT
BEGIN:VEVENT
DTSTART;TZID=America/New_York:20241105T181500
DTEND;TZID=America/New_York:20241105T190000
DTSTAMP:20260420T004930
CREATED:20241003T054346Z
LAST-MODIFIED:20241105T213939Z
UID:10001854-1730830500-1730833200@www.ashlandy.org
SUMMARY:Power + Cycling
DESCRIPTION:Instructor: Shelly \nSpots: 19 \nDescription: Intervals\, rolling hills\, sprints\, climbs\, runs\, surges and jumps all to music hand-picked to motivate and inspire! This is a great workout if you want to burn calories and increase endurance
URL:https://www.ashlandy.org/event/power-cycling-41/
LOCATION:Cycling Room
CATEGORIES:Group Ex-Schedule
END:VEVENT
BEGIN:VEVENT
DTSTART;TZID=America/New_York:20241105T183000
DTEND;TZID=America/New_York:20241105T190000
DTSTAMP:20260420T004930
CREATED:20240823T101714Z
LAST-MODIFIED:20241002T051453Z
UID:10001571-1730831400-1730833200@www.ashlandy.org
SUMMARY:Power + Cycle
DESCRIPTION:Instructor: Shelly \nSpots: 19 \nDescription: A 30-minute High-Intensity Interval Training (HIIT) workout\, using an indoor bike to achieve fast results. It’s a short\, intense style of training where the thrill and motivation come from pushing your physical and mental limits. A high-intensity\, low-impact workout\, it’s scientifically proven to return rapid results.
URL:https://www.ashlandy.org/event/power-cycle-31/
LOCATION:Cycling Room
CATEGORIES:Group Ex-Schedule
END:VEVENT
BEGIN:VEVENT
DTSTART;TZID=America/New_York:20241106T060000
DTEND;TZID=America/New_York:20241106T110000
DTSTAMP:20260420T004930
CREATED:20240824T104807Z
LAST-MODIFIED:20241105T213941Z
UID:10001578-1730872800-1730890800@www.ashlandy.org
SUMMARY:PickleBall\, Gym Court 1
DESCRIPTION:
URL:https://www.ashlandy.org/event/pickleball-gym-court-1-186/
CATEGORIES:Group Ex-Schedule
END:VEVENT
BEGIN:VEVENT
DTSTART;TZID=America/New_York:20241106T083000
DTEND;TZID=America/New_York:20241106T090000
DTSTAMP:20260420T004930
CREATED:20240823T101714Z
LAST-MODIFIED:20241105T213940Z
UID:10001572-1730881800-1730883600@www.ashlandy.org
SUMMARY:Cycle Strong
DESCRIPTION:Instructor: Shelly \nSpots: 19 \nDescription: Intervals\, rolling hills\, sprints\, climbs\, runs\, surges and jumps all to music hand-picked to motivate and inspire! This is a great workout if you want to burn calories and increase endurance.
URL:https://www.ashlandy.org/event/cycle-strong-109/
LOCATION:Cycling Room
CATEGORIES:Group Ex-Schedule
END:VEVENT
BEGIN:VEVENT
DTSTART;TZID=America/New_York:20241106T091000
DTEND;TZID=America/New_York:20241106T094500
DTSTAMP:20260420T004930
CREATED:20240823T101715Z
LAST-MODIFIED:20241002T051509Z
UID:10001573-1730884200-1730886300@www.ashlandy.org
SUMMARY:Dance Fitness
DESCRIPTION:Instructor: Shelly \nDescription: A fun Aerobic workout for all fitness levels. It provides the ultimate fat burn with different intensities to motivating music.
URL:https://www.ashlandy.org/event/dance-fitness-33/
LOCATION:Multi-Purpose Room
CATEGORIES:Group Ex-Schedule
END:VEVENT
BEGIN:VEVENT
DTSTART;TZID=America/New_York:20241106T091500
DTEND;TZID=America/New_York:20241106T094500
DTSTAMP:20260420T004930
CREATED:20241003T054347Z
LAST-MODIFIED:20241105T213940Z
UID:10001856-1730884500-1730886300@www.ashlandy.org
SUMMARY:Dance Fitness
DESCRIPTION:Instructor: Shelly \nDescription: A fun Aerobic workout for all fitness levels. It provides the ultimate fat burn with different intensities to motivating music.
URL:https://www.ashlandy.org/event/dance-fitness-43/
LOCATION:Multi-Purpose Room
CATEGORIES:Group Ex-Schedule
END:VEVENT
BEGIN:VEVENT
DTSTART;TZID=America/New_York:20241106T100000
DTEND;TZID=America/New_York:20241106T110000
DTSTAMP:20260420T004930
CREATED:20240824T104808Z
LAST-MODIFIED:20241105T213940Z
UID:10001579-1730887200-1730890800@www.ashlandy.org
SUMMARY:SilverSneakers Boom Mind
DESCRIPTION:Instructor: Louise  \nDescription: Fusion class designed to relax your body and mind. The focus is on core muscles\, lower-body strength\, and balance.
URL:https://www.ashlandy.org/event/silversneakers-boom-mind-33/
LOCATION:Multi-Purpose Room
CATEGORIES:Group Ex-Schedule
END:VEVENT
BEGIN:VEVENT
DTSTART;TZID=America/New_York:20241106T171500
DTEND;TZID=America/New_York:20241106T181500
DTSTAMP:20260420T004930
CREATED:20240824T104809Z
LAST-MODIFIED:20241106T220941Z
UID:10001580-1730913300-1730916900@www.ashlandy.org
SUMMARY:Tight & Tone
DESCRIPTION:
URL:https://www.ashlandy.org/event/tighten-tone-16/
LOCATION:Multi-Purpose Room
CATEGORIES:Group Ex-Schedule
END:VEVENT
BEGIN:VEVENT
DTSTART;TZID=America/New_York:20241106T183000
DTEND;TZID=America/New_York:20241106T193000
DTSTAMP:20260420T004930
CREATED:20241008T081323Z
LAST-MODIFIED:20241106T220941Z
UID:10001939-1730917800-1730921400@www.ashlandy.org
SUMMARY:Zumba
DESCRIPTION:Join Savannah Schar for a high-energy Zumba class that combines fun and fitness! Get ready to dance to Latin-inspired rhythms while burning calories and toning your whole body. This class is perfect for all fitness levels\, whether you’re a seasoned dancer or just looking for a fun way to stay active. Savannah’s enthusiastic teaching style will keep you moving\, smiling\, and sweating. Come shake it off and have a blast!
URL:https://www.ashlandy.org/event/zumba-99/
LOCATION:Multi-Purpose Room
CATEGORIES:Group Ex-Schedule
END:VEVENT
BEGIN:VEVENT
DTSTART;TZID=America/New_York:20241107T051500
DTEND;TZID=America/New_York:20241107T060000
DTSTAMP:20260420T004930
CREATED:20240824T104809Z
LAST-MODIFIED:20241106T220941Z
UID:10001581-1730956500-1730959200@www.ashlandy.org
SUMMARY:Cycling-w/Michelle McDonald
DESCRIPTION:First come. First served.
URL:https://www.ashlandy.org/event/cycling-w-michelle-mcdonald-64/
LOCATION:Cycling Room
CATEGORIES:Group Ex-Schedule
END:VEVENT
END:VCALENDAR