BEGIN:VCALENDAR
VERSION:2.0
PRODID:-//YMCA of Ashland, Ohio - ECPv6.5.0//NONSGML v1.0//EN
CALSCALE:GREGORIAN
METHOD:PUBLISH
X-WR-CALNAME:YMCA of Ashland, Ohio
X-ORIGINAL-URL:https://www.ashlandy.org
X-WR-CALDESC:Events for YMCA of Ashland, Ohio
REFRESH-INTERVAL;VALUE=DURATION:PT1H
X-Robots-Tag:noindex
X-PUBLISHED-TTL:PT1H
BEGIN:VTIMEZONE
TZID:America/New_York
BEGIN:DAYLIGHT
TZOFFSETFROM:-0500
TZOFFSETTO:-0400
TZNAME:EDT
DTSTART:20240310T070000
END:DAYLIGHT
BEGIN:STANDARD
TZOFFSETFROM:-0400
TZOFFSETTO:-0500
TZNAME:EST
DTSTART:20241103T060000
END:STANDARD
END:VTIMEZONE
BEGIN:VEVENT
DTSTART;TZID=America/New_York:20241230T060000
DTEND;TZID=America/New_York:20241230T110000
DTSTAMP:20260419T212452
CREATED:20241026T171659Z
LAST-MODIFIED:20241229T230940Z
UID:10002197-1735538400-1735556400@www.ashlandy.org
SUMMARY:PickleBall\, Gym Court 1
DESCRIPTION:
URL:https://www.ashlandy.org/event/pickleball-gym-court-1-224/
CATEGORIES:Group Ex-Schedule
END:VEVENT
BEGIN:VEVENT
DTSTART;TZID=America/New_York:20241230T083000
DTEND;TZID=America/New_York:20241230T090000
DTSTAMP:20260419T212452
CREATED:20241025T164731Z
LAST-MODIFIED:20241229T230941Z
UID:10002193-1735547400-1735549200@www.ashlandy.org
SUMMARY:Total Body Cycle
DESCRIPTION:Instructor: Shelly \nSpots: 19 \nDescription: Intervals\, rolling hills\, sprints\, climbs\, runs\, surges and jumps all to music hand-picked to motivate and inspire! This is a great workout if you want to burn calories and increase endurance.
URL:https://www.ashlandy.org/event/total-body-cycle-34/
CATEGORIES:Group Ex-Schedule
END:VEVENT
BEGIN:VEVENT
DTSTART;TZID=America/New_York:20241230T091000
DTEND;TZID=America/New_York:20241230T094500
DTSTAMP:20260419T212452
CREATED:20241026T171658Z
LAST-MODIFIED:20241229T230940Z
UID:10002195-1735549800-1735551900@www.ashlandy.org
SUMMARY:Total Body Strength
DESCRIPTION:Instructor: ShellyDescription: Work all muscle groups with a variety of strengthening and conditioning exercises. This athletic-based sculpting class tones upper and lower body using resistance like hand weights\, body bars and your own body weight.
URL:https://www.ashlandy.org/event/total-body-strength-39/
LOCATION:Multi-Purpose Room
CATEGORIES:Group Ex-Schedule
END:VEVENT
BEGIN:VEVENT
DTSTART;TZID=America/New_York:20241230T100000
DTEND;TZID=America/New_York:20241230T110000
DTSTAMP:20260419T212452
CREATED:20241026T171659Z
LAST-MODIFIED:20241229T230941Z
UID:10002196-1735552800-1735556400@www.ashlandy.org
SUMMARY:SilverSneakers Yoga
DESCRIPTION:Instructor: Christy  \nClass Description: Move through a complete series of seated and standing yoga poses while you enjoy restorative breathing exercises that promote stress reduction and mental clarity.
URL:https://www.ashlandy.org/event/silversneakers-yoga-39/
LOCATION:Multi-Purpose Room
CATEGORIES:Group Ex-Schedule
END:VEVENT
BEGIN:VEVENT
DTSTART;TZID=America/New_York:20241230T173000
DTEND;TZID=America/New_York:20241230T183000
DTSTAMP:20260419T212452
CREATED:20241028T181737Z
LAST-MODIFIED:20241229T230942Z
UID:10002198-1735579800-1735583400@www.ashlandy.org
SUMMARY:Zumba
DESCRIPTION:Instructor: Erica  \nDescription: Each Dance/Zumba® class is designed to bring people together to sweat it on. We take the “work” out of workout\, by mixing low-intensity and high-intensity moves for an interval-style\, calorie-burning dance fitness party. Once the Latin and World rhythms take over\, you’ll see why Dance/Zumba classes are often called exercise in disguise. Super effective? Check. Super fun? Check.
URL:https://www.ashlandy.org/event/zumba-116/
LOCATION:Multi-Purpose Room
CATEGORIES:Group Ex-Schedule
END:VEVENT
BEGIN:VEVENT
DTSTART;TZID=America/New_York:20241230T183000
DTEND;TZID=America/New_York:20241230T191500
DTSTAMP:20260419T212452
CREATED:20241028T181737Z
LAST-MODIFIED:20241230T233914Z
UID:10002199-1735583400-1735586100@www.ashlandy.org
SUMMARY:HIIT Strength
DESCRIPTION:
URL:https://www.ashlandy.org/event/hiit-strength-26/
CATEGORIES:Group Ex-Schedule
END:VEVENT
END:VCALENDAR