BEGIN:VCALENDAR
VERSION:2.0
PRODID:-//YMCA of Ashland, Ohio - ECPv6.5.0//NONSGML v1.0//EN
CALSCALE:GREGORIAN
METHOD:PUBLISH
X-WR-CALNAME:YMCA of Ashland, Ohio
X-ORIGINAL-URL:https://www.ashlandy.org
X-WR-CALDESC:Events for YMCA of Ashland, Ohio
REFRESH-INTERVAL;VALUE=DURATION:PT1H
X-Robots-Tag:noindex
X-PUBLISHED-TTL:PT1H
BEGIN:VTIMEZONE
TZID:America/New_York
BEGIN:DAYLIGHT
TZOFFSETFROM:-0500
TZOFFSETTO:-0400
TZNAME:EDT
DTSTART:20250309T070000
END:DAYLIGHT
BEGIN:STANDARD
TZOFFSETFROM:-0400
TZOFFSETTO:-0500
TZNAME:EST
DTSTART:20251102T060000
END:STANDARD
END:VTIMEZONE
BEGIN:VEVENT
DTSTART;TZID=America/New_York:20250106T051500
DTEND;TZID=America/New_York:20250106T060000
DTSTAMP:20260419T212455
CREATED:20250103T010957Z
LAST-MODIFIED:20250106T020940Z
UID:10002652-1736140500-1736143200@www.ashlandy.org
SUMMARY:Cycling
DESCRIPTION:Class with Terrence Webb
URL:https://www.ashlandy.org/event/cycling-2/
LOCATION:Cycling Room
CATEGORIES:Group Ex-Schedule
END:VEVENT
BEGIN:VEVENT
DTSTART;TZID=America/New_York:20250106T060000
DTEND;TZID=America/New_York:20250106T110000
DTSTAMP:20260419T212455
CREATED:20241102T201711Z
LAST-MODIFIED:20250106T020942Z
UID:10002237-1736143200-1736161200@www.ashlandy.org
SUMMARY:PickleBall\, Gym Court 1
DESCRIPTION:
URL:https://www.ashlandy.org/event/pickleball-gym-court-1-229/
CATEGORIES:Group Ex-Schedule
END:VEVENT
BEGIN:VEVENT
DTSTART;TZID=America/New_York:20250106T083000
DTEND;TZID=America/New_York:20250106T090000
DTSTAMP:20260419T212455
CREATED:20241101T194724Z
LAST-MODIFIED:20250106T020941Z
UID:10002234-1736152200-1736154000@www.ashlandy.org
SUMMARY:Total Body Cycle
DESCRIPTION:Instructor: Shelly \nSpots: 19 \nDescription: Intervals\, rolling hills\, sprints\, climbs\, runs\, surges and jumps all to music hand-picked to motivate and inspire! This is a great workout if you want to burn calories and increase endurance.
URL:https://www.ashlandy.org/event/total-body-cycle-35/
CATEGORIES:Group Ex-Schedule
END:VEVENT
BEGIN:VEVENT
DTSTART;TZID=America/New_York:20250106T091000
DTEND;TZID=America/New_York:20250106T094500
DTSTAMP:20260419T212455
CREATED:20241102T201710Z
LAST-MODIFIED:20250106T020941Z
UID:10002235-1736154600-1736156700@www.ashlandy.org
SUMMARY:Total Body Strength
DESCRIPTION:Instructor: ShellyDescription: Work all muscle groups with a variety of strengthening and conditioning exercises. This athletic-based sculpting class tones upper and lower body using resistance like hand weights\, body bars and your own body weight.
URL:https://www.ashlandy.org/event/total-body-strength-40/
LOCATION:Multi-Purpose Room
CATEGORIES:Group Ex-Schedule
END:VEVENT
BEGIN:VEVENT
DTSTART;TZID=America/New_York:20250106T100000
DTEND;TZID=America/New_York:20250106T110000
DTSTAMP:20260419T212455
CREATED:20241102T201711Z
LAST-MODIFIED:20250106T020942Z
UID:10002236-1736157600-1736161200@www.ashlandy.org
SUMMARY:SilverSneakers Yoga
DESCRIPTION:Instructor: Christy  \nClass Description: Move through a complete series of seated and standing yoga poses while you enjoy restorative breathing exercises that promote stress reduction and mental clarity.
URL:https://www.ashlandy.org/event/silversneakers-yoga-40/
LOCATION:Multi-Purpose Room
CATEGORIES:Group Ex-Schedule
END:VEVENT
BEGIN:VEVENT
DTSTART;TZID=America/New_York:20250106T173000
DTEND;TZID=America/New_York:20250106T183000
DTSTAMP:20260419T212455
CREATED:20241104T211747Z
LAST-MODIFIED:20250106T020943Z
UID:10002238-1736184600-1736188200@www.ashlandy.org
SUMMARY:Zumba
DESCRIPTION:Instructor: Erica  \nDescription: Each Dance/Zumba® class is designed to bring people together to sweat it on. We take the “work” out of workout\, by mixing low-intensity and high-intensity moves for an interval-style\, calorie-burning dance fitness party. Once the Latin and World rhythms take over\, you’ll see why Dance/Zumba classes are often called exercise in disguise. Super effective? Check. Super fun? Check.
URL:https://www.ashlandy.org/event/zumba-121/
LOCATION:Multi-Purpose Room
CATEGORIES:Group Ex-Schedule
END:VEVENT
BEGIN:VEVENT
DTSTART;TZID=America/New_York:20250106T174500
DTEND;TZID=America/New_York:20250106T181500
DTSTAMP:20260419T212455
CREATED:20250103T010959Z
LAST-MODIFIED:20250106T020943Z
UID:10002653-1736185500-1736187300@www.ashlandy.org
SUMMARY:Cycling
DESCRIPTION:Instructor: Danielle Capaldi
URL:https://www.ashlandy.org/event/cycling-3/
CATEGORIES:Group Ex-Schedule
END:VEVENT
BEGIN:VEVENT
DTSTART;TZID=America/New_York:20250106T183000
DTEND;TZID=America/New_York:20250106T191500
DTSTAMP:20260419T212455
CREATED:20241104T211748Z
LAST-MODIFIED:20250106T020942Z
UID:10002239-1736188200-1736190900@www.ashlandy.org
SUMMARY:HIIT Strength
DESCRIPTION:
URL:https://www.ashlandy.org/event/hiit-strength-28/
LOCATION:Fitness Room
CATEGORIES:Group Ex-Schedule
END:VEVENT
END:VCALENDAR