BEGIN:VCALENDAR
VERSION:2.0
PRODID:-//YMCA of Ashland, Ohio - ECPv6.5.0//NONSGML v1.0//EN
CALSCALE:GREGORIAN
METHOD:PUBLISH
X-ORIGINAL-URL:https://www.ashlandy.org
X-WR-CALDESC:Events for YMCA of Ashland, Ohio
REFRESH-INTERVAL;VALUE=DURATION:PT1H
X-Robots-Tag:noindex
X-PUBLISHED-TTL:PT1H
BEGIN:VTIMEZONE
TZID:America/New_York
BEGIN:DAYLIGHT
TZOFFSETFROM:-0500
TZOFFSETTO:-0400
TZNAME:EDT
DTSTART:20240310T070000
END:DAYLIGHT
BEGIN:STANDARD
TZOFFSETFROM:-0400
TZOFFSETTO:-0500
TZNAME:EST
DTSTART:20241103T060000
END:STANDARD
END:VTIMEZONE
BEGIN:VEVENT
DTSTART;TZID=America/New_York:20241204T091500
DTEND;TZID=America/New_York:20241204T094500
DTSTAMP:20260420T022848
CREATED:20241003T054726Z
LAST-MODIFIED:20241204T105208Z
UID:10001892-1733303700-1733305500@www.ashlandy.org
SUMMARY:Dance Fitness
DESCRIPTION:Instructor: Shelly \nDescription: A fun Aerobic workout for all fitness levels. It provides the ultimate fat burn with different intensities to motivating music.
URL:https://www.ashlandy.org/event/dance-fitness-47/
LOCATION:Multi-Purpose Room
CATEGORIES:Group Ex-Schedule
END:VEVENT
BEGIN:VEVENT
DTSTART;TZID=America/New_York:20241204T100000
DTEND;TZID=America/New_York:20241204T110000
DTSTAMP:20260420T022848
CREATED:20240921T001732Z
LAST-MODIFIED:20241204T105209Z
UID:10001748-1733306400-1733310000@www.ashlandy.org
SUMMARY:SilverSneakers Boom Mind
DESCRIPTION:Instructor: Louise  \nDescription: Fusion class designed to relax your body and mind. The focus is on core muscles\, lower-body strength\, and balance.
URL:https://www.ashlandy.org/event/silversneakers-boom-mind-37/
LOCATION:Multi-Purpose Room
CATEGORIES:Group Ex-Schedule
END:VEVENT
BEGIN:VEVENT
DTSTART;TZID=America/New_York:20241204T171500
DTEND;TZID=America/New_York:20241204T181500
DTSTAMP:20260420T022848
CREATED:20240921T001733Z
LAST-MODIFIED:20241204T105209Z
UID:10001749-1733332500-1733336100@www.ashlandy.org
SUMMARY:Tight & Tone
DESCRIPTION:
URL:https://www.ashlandy.org/event/tighten-tone-20/
LOCATION:Multi-Purpose Room
CATEGORIES:Group Ex-Schedule
END:VEVENT
BEGIN:VEVENT
DTSTART;TZID=America/New_York:20241204T183000
DTEND;TZID=America/New_York:20241204T193000
DTSTAMP:20260420T022848
CREATED:20241008T081653Z
LAST-MODIFIED:20241204T105210Z
UID:10001943-1733337000-1733340600@www.ashlandy.org
SUMMARY:Zumba
DESCRIPTION:Join Savannah Schar for a high-energy Zumba class that combines fun and fitness! Get ready to dance to Latin-inspired rhythms while burning calories and toning your whole body. This class is perfect for all fitness levels\, whether you’re a seasoned dancer or just looking for a fun way to stay active. Savannah’s enthusiastic teaching style will keep you moving\, smiling\, and sweating. Come shake it off and have a blast!
URL:https://www.ashlandy.org/event/zumba-103/
LOCATION:Multi-Purpose Room
CATEGORIES:Group Ex-Schedule
END:VEVENT
BEGIN:VEVENT
DTSTART;TZID=America/New_York:20241205T051500
DTEND;TZID=America/New_York:20241205T060000
DTSTAMP:20260420T022848
CREATED:20240921T001733Z
LAST-MODIFIED:20241204T105210Z
UID:10001750-1733375700-1733378400@www.ashlandy.org
SUMMARY:Cycling-w/Michelle McDonald
DESCRIPTION:First come. First served.
URL:https://www.ashlandy.org/event/cycling-w-michelle-mcdonald-72/
LOCATION:Cycling Room
CATEGORIES:Group Ex-Schedule
END:VEVENT
BEGIN:VEVENT
DTSTART;TZID=America/New_York:20241205T060000
DTEND;TZID=America/New_York:20241205T110000
DTSTAMP:20260420T022848
CREATED:20240922T004708Z
LAST-MODIFIED:20241205T110943Z
UID:10001754-1733378400-1733396400@www.ashlandy.org
SUMMARY:PickleBall\, Gym Court 1
DESCRIPTION:
URL:https://www.ashlandy.org/event/pickleball-gym-court-1-207/
CATEGORIES:Group Ex-Schedule
END:VEVENT
BEGIN:VEVENT
DTSTART;TZID=America/New_York:20241205T070000
DTEND;TZID=America/New_York:20241205T080000
DTSTAMP:20260420T022848
CREATED:20240921T001734Z
LAST-MODIFIED:20241205T110941Z
UID:10001751-1733382000-1733385600@www.ashlandy.org
SUMMARY:Tai-Chi
DESCRIPTION:Instructor: Haiyan  \nDescription:  Ta-Chi is a mind-body exercise that combines movements\, meditation\, and deep breathing. 
URL:https://www.ashlandy.org/event/tai-chi-37/
LOCATION:Ballet Room
CATEGORIES:Group Ex-Schedule
END:VEVENT
BEGIN:VEVENT
DTSTART;TZID=America/New_York:20241205T080000
DTEND;TZID=America/New_York:20241205T083000
DTSTAMP:20260420T022848
CREATED:20241003T054740Z
LAST-MODIFIED:20241205T110942Z
UID:10001893-1733385600-1733387400@www.ashlandy.org
SUMMARY:Cycle Strong
DESCRIPTION:
URL:https://www.ashlandy.org/event/cycle-strong-136/
LOCATION:Cycling Room
CATEGORIES:Group Ex-Schedule
END:VEVENT
BEGIN:VEVENT
DTSTART;TZID=America/New_York:20241205T083000
DTEND;TZID=America/New_York:20241205T093000
DTSTAMP:20260420T022848
CREATED:20240922T004708Z
LAST-MODIFIED:20241205T110942Z
UID:10001755-1733387400-1733391000@www.ashlandy.org
SUMMARY:Zumba
DESCRIPTION:Instructor: Erica  \nDescription: Each Dance/Zumba® class is designed to bring people together to sweat it on. We take the “work” out of a workout\, by mixing low-intensity and high-intensity moves for an interval-style\, calorie-burning dance fitness party. Once the Latin and World rhythms take over\, you’ll see why Dance/Zumba classes are often called exercise in disguise. Super effective? Check. Super fun? Check.
URL:https://www.ashlandy.org/event/zumba-72/
LOCATION:Multi-Purpose Room
CATEGORIES:Group Ex-Schedule
END:VEVENT
BEGIN:VEVENT
DTSTART;TZID=America/New_York:20241205T100000
DTEND;TZID=America/New_York:20241205T110000
DTSTAMP:20260420T022848
CREATED:20240923T011713Z
LAST-MODIFIED:20241205T110942Z
UID:10001756-1733392800-1733396400@www.ashlandy.org
SUMMARY:SilverSneakers Classic
DESCRIPTION:Instructor: Hannah  \nClass Description: Have fun and move to the music through a variety of exercises designed to increase muscular strength\, range of movement\, and activities for daily living. Hand-held weights\, elastic tubing with handles\, and a SilverSneakers ball are offered for resistance.
URL:https://www.ashlandy.org/event/silversneakers-classic-72/
LOCATION:Multi-Purpose Room
CATEGORIES:Group Ex-Schedule
END:VEVENT
BEGIN:VEVENT
DTSTART;TZID=America/New_York:20241205T173000
DTEND;TZID=America/New_York:20241205T183000
DTSTAMP:20260420T022848
CREATED:20241003T054742Z
LAST-MODIFIED:20241205T110943Z
UID:10001896-1733419800-1733423400@www.ashlandy.org
SUMMARY:Zumba
DESCRIPTION:
URL:https://www.ashlandy.org/event/zumba-93/
LOCATION:Multi-Purpose Room
CATEGORIES:Group Ex-Schedule
END:VEVENT
BEGIN:VEVENT
DTSTART;TZID=America/New_York:20241205T183000
DTEND;TZID=America/New_York:20241205T191000
DTSTAMP:20260420T022848
CREATED:20241003T054742Z
LAST-MODIFIED:20241205T110944Z
UID:10001895-1733423400-1733425800@www.ashlandy.org
SUMMARY:Cardio Lifting
DESCRIPTION:
URL:https://www.ashlandy.org/event/cardio-lifting-10/
LOCATION:Fitness Room
CATEGORIES:Group Ex-Schedule
END:VEVENT
BEGIN:VEVENT
DTSTART;TZID=America/New_York:20241205T183000
DTEND;TZID=America/New_York:20241205T191500
DTSTAMP:20260420T022848
CREATED:20241003T054741Z
LAST-MODIFIED:20241205T110943Z
UID:10001894-1733423400-1733426100@www.ashlandy.org
SUMMARY:HIIT Strength
DESCRIPTION:
URL:https://www.ashlandy.org/event/hiit-strength-19/
LOCATION:Cycling Room
CATEGORIES:Group Ex-Schedule
END:VEVENT
BEGIN:VEVENT
DTSTART;TZID=America/New_York:20241206T060000
DTEND;TZID=America/New_York:20241206T110000
DTSTAMP:20260420T022848
CREATED:20240924T014720Z
LAST-MODIFIED:20241206T113915Z
UID:10001760-1733464800-1733482800@www.ashlandy.org
SUMMARY:PickleBall\, Gym Court 1
DESCRIPTION:
URL:https://www.ashlandy.org/event/pickleball-gym-court-1-208/
CATEGORIES:Group Ex-Schedule
END:VEVENT
BEGIN:VEVENT
DTSTART;TZID=America/New_York:20241206T080000
DTEND;TZID=America/New_York:20241206T083000
DTSTAMP:20260420T022848
CREATED:20240924T014719Z
LAST-MODIFIED:20241002T051938Z
UID:10001757-1733472000-1733473800@www.ashlandy.org
SUMMARY:Cycle Strong
DESCRIPTION:Instructor: Jennifer  \nDescription: Cycle Strong is a 60-minute cycling experience brought indoors. Roll over hills\, chase the pack\, spin the flats\, climb mountains and sprint to the finish. You’ll feel the thrill of energetic music and group dynamics as you get all the benefits of authentic interval training.
URL:https://www.ashlandy.org/event/cycle-strong-122/
LOCATION:Cycling Room
CATEGORIES:Group Ex-Schedule
END:VEVENT
BEGIN:VEVENT
DTSTART;TZID=America/New_York:20241206T083000
DTEND;TZID=America/New_York:20241206T094500
DTSTAMP:20260420T022848
CREATED:20240924T014720Z
LAST-MODIFIED:20241206T113915Z
UID:10001758-1733473800-1733478300@www.ashlandy.org
SUMMARY:Strength Circuit
DESCRIPTION:Instructor: Clay \nDescription: A fast-paced class where you’re divided into small groups\, completing a series of exercises for 30- to 90-second intervals. There are multiple stations that combine functional resistance and cardiovascular training to give you a full-body workout—the perfect combination for strengthening your heart and muscles.
URL:https://www.ashlandy.org/event/strength-circuit-36/
LOCATION:Fitness Room (Downstairs)
CATEGORIES:Group Ex-Schedule
END:VEVENT
BEGIN:VEVENT
DTSTART;TZID=America/New_York:20241206T084500
DTEND;TZID=America/New_York:20241206T093000
DTSTAMP:20260420T022848
CREATED:20240924T014720Z
LAST-MODIFIED:20241206T113914Z
UID:10001759-1733474700-1733477400@www.ashlandy.org
SUMMARY:Gentle Yoga-w/Christy Mathatas
DESCRIPTION:
URL:https://www.ashlandy.org/event/gentle-yoga-w-christy-mathatas-36/
LOCATION:Ballet Room
CATEGORIES:Group Ex-Schedule
END:VEVENT
BEGIN:VEVENT
DTSTART;TZID=America/New_York:20241206T100000
DTEND;TZID=America/New_York:20241206T110000
DTSTAMP:20260420T022848
CREATED:20240925T021721Z
LAST-MODIFIED:20241206T113916Z
UID:10001763-1733479200-1733482800@www.ashlandy.org
SUMMARY:SilverSneakers Classic
DESCRIPTION:Instructor: Sherry \nDescription: Have fun and move to the music through a variety of exercises designed to increase muscular strength\, range of movement\, and activities for daily living. Hand-held weights\, elastic tubing with handles\, and a SilverSneakers ball are offered for resistance.
URL:https://www.ashlandy.org/event/silversneakers-classic-73/
LOCATION:Multi-Purpose Room
CATEGORIES:Group Ex-Schedule
END:VEVENT
BEGIN:VEVENT
DTSTART;TZID=America/New_York:20241207T083000
DTEND;TZID=America/New_York:20241207T090000
DTSTAMP:20260420T022848
CREATED:20240925T021722Z
LAST-MODIFIED:20241207T120940Z
UID:10001765-1733560200-1733562000@www.ashlandy.org
SUMMARY:Cycle Strong
DESCRIPTION:Instructor: Shelly \nClass Description: High-intensity interval training full-body workout\, with timed intervals with heart-thumping music designed to motivate and move you.
URL:https://www.ashlandy.org/event/cycle-strong-123/
LOCATION:Cycling Room
CATEGORIES:Group Ex-Schedule
END:VEVENT
BEGIN:VEVENT
DTSTART;TZID=America/New_York:20241207T090000
DTEND;TZID=America/New_York:20241207T100000
DTSTAMP:20260420T022848
CREATED:20240925T021721Z
LAST-MODIFIED:20241207T120941Z
UID:10001764-1733562000-1733565600@www.ashlandy.org
SUMMARY:YOGA
DESCRIPTION:Instructor: Louise  \nDescription: This class incorporates yoga postures\, gentle movement sequences\, breath work\, supported silent meditation\, and guided relaxation to support increased awareness and mindfulness of the breath and body\, and quieting of the nervous system.
URL:https://www.ashlandy.org/event/yoga-36/
LOCATION:Multi-Purpose Room
CATEGORIES:Group Ex-Schedule
END:VEVENT
BEGIN:VEVENT
DTSTART;TZID=America/New_York:20241209T060000
DTEND;TZID=America/New_York:20241209T110000
DTSTAMP:20260420T022848
CREATED:20240926T024724Z
LAST-MODIFIED:20241209T130940Z
UID:10001772-1733724000-1733742000@www.ashlandy.org
SUMMARY:PickleBall\, Gym Court 1
DESCRIPTION:
URL:https://www.ashlandy.org/event/pickleball-gym-court-1-209/
CATEGORIES:Group Ex-Schedule
END:VEVENT
BEGIN:VEVENT
DTSTART;TZID=America/New_York:20241209T083000
DTEND;TZID=America/New_York:20241209T090000
DTSTAMP:20260420T022848
CREATED:20240925T021722Z
LAST-MODIFIED:20241209T130940Z
UID:10001766-1733733000-1733734800@www.ashlandy.org
SUMMARY:Total Body Cycle
DESCRIPTION:Instructor: Shelly \nSpots: 19 \nDescription: Intervals\, rolling hills\, sprints\, climbs\, runs\, surges and jumps all to music hand-picked to motivate and inspire! This is a great workout if you want to burn calories and increase endurance.
URL:https://www.ashlandy.org/event/total-body-cycle-31/
CATEGORIES:Group Ex-Schedule
END:VEVENT
BEGIN:VEVENT
DTSTART;TZID=America/New_York:20241209T091000
DTEND;TZID=America/New_York:20241209T094500
DTSTAMP:20260420T022848
CREATED:20240925T021723Z
LAST-MODIFIED:20241209T130940Z
UID:10001767-1733735400-1733737500@www.ashlandy.org
SUMMARY:Total Body Strength
DESCRIPTION:Instructor: ShellyDescription: Work all muscle groups with a variety of strengthening and conditioning exercises. This athletic-based sculpting class tones upper and lower body using resistance like hand weights\, body bars and your own body weight.
URL:https://www.ashlandy.org/event/total-body-strength-36/
LOCATION:Multi-Purpose Room
CATEGORIES:Group Ex-Schedule
END:VEVENT
BEGIN:VEVENT
DTSTART;TZID=America/New_York:20241209T100000
DTEND;TZID=America/New_York:20241209T110000
DTSTAMP:20260420T022848
CREATED:20240925T021724Z
LAST-MODIFIED:20241209T130941Z
UID:10001768-1733738400-1733742000@www.ashlandy.org
SUMMARY:SilverSneakers Yoga
DESCRIPTION:Instructor: Christy  \nClass Description: Move through a complete series of seated and standing yoga poses while you enjoy restorative breathing exercises that promote stress reduction and mental clarity.
URL:https://www.ashlandy.org/event/silversneakers-yoga-36/
LOCATION:Multi-Purpose Room
CATEGORIES:Group Ex-Schedule
END:VEVENT
BEGIN:VEVENT
DTSTART;TZID=America/New_York:20241209T173000
DTEND;TZID=America/New_York:20241209T183000
DTSTAMP:20260420T022848
CREATED:20240926T024725Z
LAST-MODIFIED:20241209T130941Z
UID:10001773-1733765400-1733769000@www.ashlandy.org
SUMMARY:Zumba
DESCRIPTION:Instructor: Erica  \nDescription: Each Dance/Zumba® class is designed to bring people together to sweat it on. We take the “work” out of workout\, by mixing low-intensity and high-intensity moves for an interval-style\, calorie-burning dance fitness party. Once the Latin and World rhythms take over\, you’ll see why Dance/Zumba classes are often called exercise in disguise. Super effective? Check. Super fun? Check.
URL:https://www.ashlandy.org/event/zumba-73/
LOCATION:Multi-Purpose Room
CATEGORIES:Group Ex-Schedule
END:VEVENT
BEGIN:VEVENT
DTSTART;TZID=America/New_York:20241209T183000
DTEND;TZID=America/New_York:20241209T191500
DTSTAMP:20260420T022848
CREATED:20241004T061725Z
LAST-MODIFIED:20241209T130941Z
UID:10001926-1733769000-1733771700@www.ashlandy.org
SUMMARY:HIIT Strength
DESCRIPTION:
URL:https://www.ashlandy.org/event/hiit-strength-20/
CATEGORIES:Group Ex-Schedule
END:VEVENT
BEGIN:VEVENT
DTSTART;TZID=America/New_York:20241210T051500
DTEND;TZID=America/New_York:20241210T060000
DTSTAMP:20260420T022848
CREATED:20240926T024725Z
LAST-MODIFIED:20241209T130941Z
UID:10001774-1733807700-1733810400@www.ashlandy.org
SUMMARY:Cycling-w/Michelle McDonald
DESCRIPTION:First come. First served.
URL:https://www.ashlandy.org/event/cycling-w-michelle-mcdonald-73/
LOCATION:Cycling Room
CATEGORIES:Group Ex-Schedule
END:VEVENT
BEGIN:VEVENT
DTSTART;TZID=America/New_York:20241210T060000
DTEND;TZID=America/New_York:20241210T110000
DTSTAMP:20260420T022848
CREATED:20240926T024726Z
LAST-MODIFIED:20241210T133940Z
UID:10001775-1733810400-1733828400@www.ashlandy.org
SUMMARY:PickleBall\, Gym Court 1
DESCRIPTION:
URL:https://www.ashlandy.org/event/pickleball-gym-court-1-210/
CATEGORIES:Group Ex-Schedule
END:VEVENT
BEGIN:VEVENT
DTSTART;TZID=America/New_York:20241210T083000
DTEND;TZID=America/New_York:20241210T090000
DTSTAMP:20260420T022848
CREATED:20240926T024726Z
LAST-MODIFIED:20241002T052007Z
UID:10001776-1733819400-1733821200@www.ashlandy.org
SUMMARY:Power + Cycling
DESCRIPTION:Instructor: Shelly \nSpots: 19 \nDescription: Intervals\, rolling hills\, sprints\, climbs\, runs\, surges and jumps all to music hand-picked to motivate and inspire! This is a great workout if you want to burn calories and increase endurance
URL:https://www.ashlandy.org/event/power-cycling-36/
LOCATION:Cycling Room
CATEGORIES:Group Ex-Schedule
END:VEVENT
BEGIN:VEVENT
DTSTART;TZID=America/New_York:20241210T083000
DTEND;TZID=America/New_York:20241210T093000
DTSTAMP:20260420T022848
CREATED:20241005T064713Z
LAST-MODIFIED:20241210T133941Z
UID:10001930-1733819400-1733823000@www.ashlandy.org
SUMMARY:Weight Lifting 101
DESCRIPTION:Instructor: Clay \nDescription: Whether you’re new to lifting or want to fine-tune your technique\, this beginner-friendly class will teach you the fundamentals of weight lifting in a supportive environment. Clay Funk will guide you through proper form\, essential exercises\, and safe lifting techniques to help you build strength and confidence. Learn how to use free weights\, machines\, and your body weight to achieve your fitness goals. All fitness levels are welcome!
URL:https://www.ashlandy.org/event/weight-lifting-101-10/
LOCATION:Fitness Room(Downstairs)
CATEGORIES:Group Ex-Schedule
END:VEVENT
END:VCALENDAR