BEGIN:VCALENDAR
VERSION:2.0
PRODID:-//YMCA of Ashland, Ohio - ECPv6.5.0//NONSGML v1.0//EN
CALSCALE:GREGORIAN
METHOD:PUBLISH
X-ORIGINAL-URL:https://www.ashlandy.org
X-WR-CALDESC:Events for YMCA of Ashland, Ohio
REFRESH-INTERVAL;VALUE=DURATION:PT1H
X-Robots-Tag:noindex
X-PUBLISHED-TTL:PT1H
BEGIN:VTIMEZONE
TZID:America/New_York
BEGIN:DAYLIGHT
TZOFFSETFROM:-0500
TZOFFSETTO:-0400
TZNAME:EDT
DTSTART:20250309T070000
END:DAYLIGHT
BEGIN:STANDARD
TZOFFSETFROM:-0400
TZOFFSETTO:-0500
TZNAME:EST
DTSTART:20251102T060000
END:STANDARD
END:VTIMEZONE
BEGIN:VEVENT
DTSTART;TZID=America/New_York:20250125T083000
DTEND;TZID=America/New_York:20250125T090000
DTSTAMP:20260420T034415
CREATED:20241123T054723Z
LAST-MODIFIED:20250115T061114Z
UID:10002350-1737793800-1737795600@www.ashlandy.org
SUMMARY:Cycle Strong
DESCRIPTION:Instructor: Shelly \nClass Description: High-intensity interval training full-body workout\, with timed intervals with heart-thumping music designed to motivate and move you.
URL:https://www.ashlandy.org/event/cycle-strong-155/
LOCATION:Cycling Room
CATEGORIES:Group Ex-Schedule
END:VEVENT
BEGIN:VEVENT
DTSTART;TZID=America/New_York:20250125T083000
DTEND;TZID=America/New_York:20250125T091500
DTSTAMP:20260420T034415
CREATED:20250116T064105Z
LAST-MODIFIED:20250125T110939Z
UID:10002799-1737793800-1737796500@www.ashlandy.org
SUMMARY:Spin w/Shelly Briggs
DESCRIPTION:
URL:https://www.ashlandy.org/event/spin-w-shelly-briggs-2/
CATEGORIES:Group Ex-Schedule
END:VEVENT
BEGIN:VEVENT
DTSTART;TZID=America/New_York:20250125T090000
DTEND;TZID=America/New_York:20250125T100000
DTSTAMP:20260420T034415
CREATED:20241123T054723Z
LAST-MODIFIED:20250125T110940Z
UID:10002351-1737795600-1737799200@www.ashlandy.org
SUMMARY:YOGA
DESCRIPTION:Instructor: Louise  \nDescription: This class incorporates yoga postures\, gentle movement sequences\, breath work\, supported silent meditation\, and guided relaxation to support increased awareness and mindfulness of the breath and body\, and quieting of the nervous system.
URL:https://www.ashlandy.org/event/yoga-43/
LOCATION:Banquet Room
CATEGORIES:Group Ex-Schedule
END:VEVENT
BEGIN:VEVENT
DTSTART;TZID=America/New_York:20250127T051500
DTEND;TZID=America/New_York:20250127T060000
DTSTAMP:20260420T034415
CREATED:20250103T011302Z
LAST-MODIFIED:20250126T113938Z
UID:10002673-1737954900-1737957600@www.ashlandy.org
SUMMARY:Cycling
DESCRIPTION:Class with Terrence Webb
URL:https://www.ashlandy.org/event/cycling-14/
LOCATION:Cycling Room
CATEGORIES:Group Ex-Schedule
END:VEVENT
BEGIN:VEVENT
DTSTART;TZID=America/New_York:20250127T060000
DTEND;TZID=America/New_York:20250127T110000
DTSTAMP:20260420T034415
CREATED:20241123T054724Z
LAST-MODIFIED:20250127T120914Z
UID:10002352-1737957600-1737975600@www.ashlandy.org
SUMMARY:PickleBall\, Gym Court 1
DESCRIPTION:
URL:https://www.ashlandy.org/event/pickleball-gym-court-1-244/
CATEGORIES:Group Ex-Schedule
END:VEVENT
BEGIN:VEVENT
DTSTART;TZID=America/New_York:20250127T083000
DTEND;TZID=America/New_York:20250127T090000
DTSTAMP:20260420T034415
CREATED:20241124T061638Z
LAST-MODIFIED:20250127T120914Z
UID:10002353-1737966600-1737968400@www.ashlandy.org
SUMMARY:Total Body Cycle
DESCRIPTION:Instructor: Shelly \nSpots: 19 \nDescription: Intervals\, rolling hills\, sprints\, climbs\, runs\, surges and jumps all to music hand-picked to motivate and inspire! This is a great workout if you want to burn calories and increase endurance.
URL:https://www.ashlandy.org/event/total-body-cycle-38/
CATEGORIES:Group Ex-Schedule
END:VEVENT
BEGIN:VEVENT
DTSTART;TZID=America/New_York:20250127T091000
DTEND;TZID=America/New_York:20250127T094500
DTSTAMP:20260420T034415
CREATED:20241124T061638Z
LAST-MODIFIED:20250127T120914Z
UID:10002354-1737969000-1737971100@www.ashlandy.org
SUMMARY:Total Body Strength
DESCRIPTION:Instructor: ShellyDescription: Work all muscle groups with a variety of strengthening and conditioning exercises. This athletic-based sculpting class tones upper and lower body using resistance like hand weights\, body bars and your own body weight.
URL:https://www.ashlandy.org/event/total-body-strength-43/
LOCATION:Multi-Purpose Room
CATEGORIES:Group Ex-Schedule
END:VEVENT
BEGIN:VEVENT
DTSTART;TZID=America/New_York:20250127T100000
DTEND;TZID=America/New_York:20250127T110000
DTSTAMP:20260420T034415
CREATED:20241126T071741Z
LAST-MODIFIED:20250127T120915Z
UID:10002355-1737972000-1737975600@www.ashlandy.org
SUMMARY:SilverSneakers Yoga
DESCRIPTION:Instructor: Christy  \nClass Description: Move through a complete series of seated and standing yoga poses while you enjoy restorative breathing exercises that promote stress reduction and mental clarity.
URL:https://www.ashlandy.org/event/silversneakers-yoga-43/
LOCATION:Multi-Purpose Room
CATEGORIES:Group Ex-Schedule
END:VEVENT
BEGIN:VEVENT
DTSTART;TZID=America/New_York:20250127T173000
DTEND;TZID=America/New_York:20250127T183000
DTSTAMP:20260420T034415
CREATED:20241126T071742Z
LAST-MODIFIED:20250127T120916Z
UID:10002356-1737999000-1738002600@www.ashlandy.org
SUMMARY:Zumba
DESCRIPTION:Instructor: Erica  \nDescription: Each Dance/Zumba® class is designed to bring people together to sweat it on. We take the “work” out of workout\, by mixing low-intensity and high-intensity moves for an interval-style\, calorie-burning dance fitness party. Once the Latin and World rhythms take over\, you’ll see why Dance/Zumba classes are often called exercise in disguise. Super effective? Check. Super fun? Check.
URL:https://www.ashlandy.org/event/zumba-136/
LOCATION:Multi-Purpose Room
CATEGORIES:Group Ex-Schedule
END:VEVENT
BEGIN:VEVENT
DTSTART;TZID=America/New_York:20250127T174500
DTEND;TZID=America/New_York:20250127T181500
DTSTAMP:20260420T034415
CREATED:20250103T011303Z
LAST-MODIFIED:20250127T120915Z
UID:10002674-1737999900-1738001700@www.ashlandy.org
SUMMARY:Cycling
DESCRIPTION:Instructor: Danielle Capaldi
URL:https://www.ashlandy.org/event/cycling-15/
CATEGORIES:Group Ex-Schedule
END:VEVENT
BEGIN:VEVENT
DTSTART;TZID=America/New_York:20250127T183000
DTEND;TZID=America/New_York:20250127T191500
DTSTAMP:20260420T034415
CREATED:20241126T071743Z
LAST-MODIFIED:20250127T120915Z
UID:10002357-1738002600-1738005300@www.ashlandy.org
SUMMARY:HIIT Strength
DESCRIPTION:
URL:https://www.ashlandy.org/event/hiit-strength-34/
LOCATION:Fitness Room
CATEGORIES:Group Ex-Schedule
END:VEVENT
BEGIN:VEVENT
DTSTART;TZID=America/New_York:20250128T051500
DTEND;TZID=America/New_York:20250128T060000
DTSTAMP:20260420T034415
CREATED:20241126T071743Z
LAST-MODIFIED:20250127T120916Z
UID:10002358-1738041300-1738044000@www.ashlandy.org
SUMMARY:Cycling-w/Michelle McDonald
DESCRIPTION:First come. First served.
URL:https://www.ashlandy.org/event/cycling-w-michelle-mcdonald-87/
LOCATION:Cycling Room
CATEGORIES:Group Ex-Schedule
END:VEVENT
BEGIN:VEVENT
DTSTART;TZID=America/New_York:20250128T060000
DTEND;TZID=America/New_York:20250128T110000
DTSTAMP:20260420T034415
CREATED:20241126T071743Z
LAST-MODIFIED:20250128T123940Z
UID:10002359-1738044000-1738062000@www.ashlandy.org
SUMMARY:PickleBall\, Gym Court 1
DESCRIPTION:
URL:https://www.ashlandy.org/event/pickleball-gym-court-1-245/
CATEGORIES:Group Ex-Schedule
END:VEVENT
BEGIN:VEVENT
DTSTART;TZID=America/New_York:20250128T083000
DTEND;TZID=America/New_York:20250128T093000
DTSTAMP:20260420T034415
CREATED:20241126T071744Z
LAST-MODIFIED:20250128T123939Z
UID:10002360-1738053000-1738056600@www.ashlandy.org
SUMMARY:Weight Lifting 101
DESCRIPTION:Instructor: Clay \nDescription: Whether you’re new to lifting or want to fine-tune your technique\, this beginner-friendly class will teach you the fundamentals of weight lifting in a supportive environment. Clay Funk will guide you through proper form\, essential exercises\, and safe lifting techniques to help you build strength and confidence. Learn how to use free weights\, machines\, and your body weight to achieve your fitness goals. All fitness levels are welcome!
URL:https://www.ashlandy.org/event/weight-lifting-101-17/
LOCATION:Fitness Room(Downstairs)
CATEGORIES:Group Ex-Schedule
END:VEVENT
BEGIN:VEVENT
DTSTART;TZID=America/New_York:20250128T100000
DTEND;TZID=America/New_York:20250128T110000
DTSTAMP:20260420T034415
CREATED:20241127T074713Z
LAST-MODIFIED:20250128T123939Z
UID:10002361-1738058400-1738062000@www.ashlandy.org
SUMMARY:SilverSneakers Circuit
DESCRIPTION:Instructor: Sherry \nClass Description: SilverSneakers Circuit offers standing low-impact moves that alternate with standing upper-body strength. The class can be adapted for all fitness levels.
URL:https://www.ashlandy.org/event/silversneakers-circuit-43/
LOCATION:Multi-Purpose Room
CATEGORIES:Group Ex-Schedule
END:VEVENT
BEGIN:VEVENT
DTSTART;TZID=America/New_York:20250128T173000
DTEND;TZID=America/New_York:20250128T183000
DTSTAMP:20260420T034415
CREATED:20241127T074714Z
LAST-MODIFIED:20250115T061132Z
UID:10002363-1738085400-1738089000@www.ashlandy.org
SUMMARY:Zumba
DESCRIPTION:
URL:https://www.ashlandy.org/event/zumba-137/
LOCATION:Multi Purpose Room
CATEGORIES:Group Ex-Schedule
END:VEVENT
BEGIN:VEVENT
DTSTART;TZID=America/New_York:20250128T181500
DTEND;TZID=America/New_York:20250128T190000
DTSTAMP:20260420T034415
CREATED:20241127T074713Z
LAST-MODIFIED:20250128T123940Z
UID:10002362-1738088100-1738090800@www.ashlandy.org
SUMMARY:LIGHTBAR Cycling
DESCRIPTION:Instructor: Shelly \nSpots: 19 \nDescription: Intervals\, rolling hills\, sprints\, climbs\, runs\, surges and jumps all to music hand-picked to motivate and inspire! This is a great workout if you want to burn calories and increase endurance
URL:https://www.ashlandy.org/event/power-cycling-53/
LOCATION:Cycling Room
CATEGORIES:Group Ex-Schedule
END:VEVENT
BEGIN:VEVENT
DTSTART;TZID=America/New_York:20250129T051500
DTEND;TZID=America/New_York:20250129T060000
DTSTAMP:20260420T034415
CREATED:20250103T011320Z
LAST-MODIFIED:20250128T123942Z
UID:10002675-1738127700-1738130400@www.ashlandy.org
SUMMARY:Cycling
DESCRIPTION:Instructor: Terrence Webb
URL:https://www.ashlandy.org/event/cycling-16/
CATEGORIES:Group Ex-Schedule
END:VEVENT
BEGIN:VEVENT
DTSTART;TZID=America/New_York:20250129T060000
DTEND;TZID=America/New_York:20250129T110000
DTSTAMP:20260420T034415
CREATED:20241127T074715Z
LAST-MODIFIED:20250129T130938Z
UID:10002366-1738130400-1738148400@www.ashlandy.org
SUMMARY:PickleBall\, Gym Court 1
DESCRIPTION:
URL:https://www.ashlandy.org/event/pickleball-gym-court-1-246/
CATEGORIES:Group Ex-Schedule
END:VEVENT
BEGIN:VEVENT
DTSTART;TZID=America/New_York:20250129T083000
DTEND;TZID=America/New_York:20250129T090000
DTSTAMP:20260420T034415
CREATED:20241127T074714Z
LAST-MODIFIED:20250129T130939Z
UID:10002364-1738139400-1738141200@www.ashlandy.org
SUMMARY:Cycle Strong
DESCRIPTION:Instructor: Shelly \nSpots: 19 \nDescription: Intervals\, rolling hills\, sprints\, climbs\, runs\, surges and jumps all to music hand-picked to motivate and inspire! This is a great workout if you want to burn calories and increase endurance.
URL:https://www.ashlandy.org/event/cycle-strong-156/
LOCATION:Cycling Room
CATEGORIES:Group Ex-Schedule
END:VEVENT
BEGIN:VEVENT
DTSTART;TZID=America/New_York:20250129T091500
DTEND;TZID=America/New_York:20250129T094500
DTSTAMP:20260420T034415
CREATED:20241127T074715Z
LAST-MODIFIED:20250129T130939Z
UID:10002365-1738142100-1738143900@www.ashlandy.org
SUMMARY:Dance Fitness
DESCRIPTION:Instructor: Shelly \nDescription: A fun Aerobic workout for all fitness levels. It provides the ultimate fat burn with different intensities to motivating music.
URL:https://www.ashlandy.org/event/dance-fitness-55/
LOCATION:Multi-Purpose Room
CATEGORIES:Group Ex-Schedule
END:VEVENT
BEGIN:VEVENT
DTSTART;TZID=America/New_York:20250129T100000
DTEND;TZID=America/New_York:20250129T110000
DTSTAMP:20260420T034415
CREATED:20241128T081735Z
LAST-MODIFIED:20250129T130940Z
UID:10002367-1738144800-1738148400@www.ashlandy.org
SUMMARY:SilverSneakers Boom Mind
DESCRIPTION:Instructor: Louise  \nDescription: Fusion class designed to relax your body and mind. The focus is on core muscles\, lower-body strength\, and balance.
URL:https://www.ashlandy.org/event/silversneakers-boom-mind-45/
LOCATION:Multi-Purpose Room
CATEGORIES:Group Ex-Schedule
END:VEVENT
BEGIN:VEVENT
DTSTART;TZID=America/New_York:20250129T171500
DTEND;TZID=America/New_York:20250129T181500
DTSTAMP:20260420T034415
CREATED:20241128T081736Z
LAST-MODIFIED:20250129T130941Z
UID:10002368-1738170900-1738174500@www.ashlandy.org
SUMMARY:Pilates
DESCRIPTION:Instructor: Chelsea Uselton
URL:https://www.ashlandy.org/event/tight-tone-7/
LOCATION:Multi-Purpose Room
CATEGORIES:Group Ex-Schedule
END:VEVENT
BEGIN:VEVENT
DTSTART;TZID=America/New_York:20250129T180000
DTEND;TZID=America/New_York:20250129T190000
DTSTAMP:20260420T034415
CREATED:20250103T011334Z
LAST-MODIFIED:20250129T130940Z
UID:10002676-1738173600-1738177200@www.ashlandy.org
SUMMARY:LIFT & HIIT
DESCRIPTION:Instructor: Josh Lambert
URL:https://www.ashlandy.org/event/lift-hiit-4/
LOCATION:Fitness Room
CATEGORIES:Group Ex-Schedule
END:VEVENT
BEGIN:VEVENT
DTSTART;TZID=America/New_York:20250129T183000
DTEND;TZID=America/New_York:20250129T193000
DTSTAMP:20260420T034415
CREATED:20241128T081736Z
LAST-MODIFIED:20250115T061146Z
UID:10002369-1738175400-1738179000@www.ashlandy.org
SUMMARY:Zumba
DESCRIPTION:Join Savannah Schar for a high-energy Zumba class that combines fun and fitness! Get ready to dance to Latin-inspired rhythms while burning calories and toning your whole body. This class is perfect for all fitness levels\, whether you’re a seasoned dancer or just looking for a fun way to stay active. Savannah’s enthusiastic teaching style will keep you moving\, smiling\, and sweating. Come shake it off and have a blast!
URL:https://www.ashlandy.org/event/zumba-138/
LOCATION:Multi-Purpose Room
CATEGORIES:Group Ex-Schedule
END:VEVENT
BEGIN:VEVENT
DTSTART;TZID=America/New_York:20250130T051500
DTEND;TZID=America/New_York:20250130T060000
DTSTAMP:20260420T034415
CREATED:20241128T081737Z
LAST-MODIFIED:20250129T130942Z
UID:10002371-1738214100-1738216800@www.ashlandy.org
SUMMARY:Cycling-w/Michelle McDonald
DESCRIPTION:First come. First served.
URL:https://www.ashlandy.org/event/cycling-w-michelle-mcdonald-88/
LOCATION:Cycling Room
CATEGORIES:Group Ex-Schedule
END:VEVENT
BEGIN:VEVENT
DTSTART;TZID=America/New_York:20250130T060000
DTEND;TZID=America/New_York:20250130T110000
DTSTAMP:20260420T034415
CREATED:20241128T081736Z
LAST-MODIFIED:20250130T133940Z
UID:10002370-1738216800-1738234800@www.ashlandy.org
SUMMARY:PickleBall\, Gym Court 1
DESCRIPTION:
URL:https://www.ashlandy.org/event/pickleball-gym-court-1-247/
CATEGORIES:Group Ex-Schedule
END:VEVENT
BEGIN:VEVENT
DTSTART;TZID=America/New_York:20250130T070000
DTEND;TZID=America/New_York:20250130T080000
DTSTAMP:20260420T034415
CREATED:20241128T081738Z
LAST-MODIFIED:20250129T130954Z
UID:10002372-1738220400-1738224000@www.ashlandy.org
SUMMARY:Tai-Chi
DESCRIPTION:Instructor: Haiyan  \nDescription:  Ta-Chi is a mind-body exercise that combines movements\, meditation\, and deep breathing. 
URL:https://www.ashlandy.org/event/tai-chi-45/
LOCATION:Ballet Room
CATEGORIES:Group Ex-Schedule
END:VEVENT
BEGIN:VEVENT
DTSTART;TZID=America/New_York:20250130T080000
DTEND;TZID=America/New_York:20250130T083000
DTSTAMP:20260420T034415
CREATED:20241129T084832Z
LAST-MODIFIED:20250129T130941Z
UID:10002374-1738224000-1738225800@www.ashlandy.org
SUMMARY:Cycle Strong
DESCRIPTION:
URL:https://www.ashlandy.org/event/cycle-strong-157/
LOCATION:Cycling Room
CATEGORIES:Group Ex-Schedule
END:VEVENT
BEGIN:VEVENT
DTSTART;TZID=America/New_York:20250130T083000
DTEND;TZID=America/New_York:20250130T093000
DTSTAMP:20260420T034415
CREATED:20241129T084832Z
LAST-MODIFIED:20250130T133940Z
UID:10002373-1738225800-1738229400@www.ashlandy.org
SUMMARY:Zumba
DESCRIPTION:Instructor: Erica  \nDescription: Each Dance/Zumba® class is designed to bring people together to sweat it on. We take the “work” out of a workout\, by mixing low-intensity and high-intensity moves for an interval-style\, calorie-burning dance fitness party. Once the Latin and World rhythms take over\, you’ll see why Dance/Zumba classes are often called exercise in disguise. Super effective? Check. Super fun? Check.
URL:https://www.ashlandy.org/event/zumba-139/
LOCATION:Multi-Purpose Room
CATEGORIES:Group Ex-Schedule
END:VEVENT
END:VCALENDAR