BEGIN:VCALENDAR
VERSION:2.0
PRODID:-//YMCA of Ashland, Ohio - ECPv6.5.0//NONSGML v1.0//EN
CALSCALE:GREGORIAN
METHOD:PUBLISH
X-ORIGINAL-URL:https://www.ashlandy.org
X-WR-CALDESC:Events for YMCA of Ashland, Ohio
REFRESH-INTERVAL;VALUE=DURATION:PT1H
X-Robots-Tag:noindex
X-PUBLISHED-TTL:PT1H
BEGIN:VTIMEZONE
TZID:America/New_York
BEGIN:DAYLIGHT
TZOFFSETFROM:-0500
TZOFFSETTO:-0400
TZNAME:EDT
DTSTART:20260308T070000
END:DAYLIGHT
BEGIN:STANDARD
TZOFFSETFROM:-0400
TZOFFSETTO:-0500
TZNAME:EST
DTSTART:20261101T060000
END:STANDARD
END:VTIMEZONE
BEGIN:VEVENT
DTSTART;TZID=America/New_York:20260619T060000
DTEND;TZID=America/New_York:20260619T110000
DTSTAMP:20260421T102159
CREATED:20260419T121756Z
LAST-MODIFIED:20260421T131824Z
UID:10006339-1781848800-1781866800@www.ashlandy.org
SUMMARY:PickleBall\, Gym Court 1
DESCRIPTION:
URL:https://www.ashlandy.org/event/pickleball-gym-court-1-608/
CATEGORIES:Group Ex-Schedule
END:VEVENT
BEGIN:VEVENT
DTSTART;TZID=America/New_York:20260619T083000
DTEND;TZID=America/New_York:20260619T094500
DTSTAMP:20260421T102159
CREATED:20260418T114759Z
LAST-MODIFIED:20260421T131811Z
UID:10006337-1781857800-1781862300@www.ashlandy.org
SUMMARY:Strength Circuit
DESCRIPTION:Instructor: Clay \nDescription: A fast-paced class where you’re divided into small groups\, completing a series of exercises for 30- to 90-second intervals. There are multiple stations that combine functional resistance and cardiovascular training to give you a full-body workout—the perfect combination for strengthening your heart and muscles.
URL:https://www.ashlandy.org/event/strength-circuit-116/
LOCATION:Fitness Room (Downstairs)
CATEGORIES:Group Ex-Schedule
END:VEVENT
BEGIN:VEVENT
DTSTART;TZID=America/New_York:20260619T084500
DTEND;TZID=America/New_York:20260619T093000
DTSTAMP:20260421T102159
CREATED:20260418T114759Z
LAST-MODIFIED:20260421T131811Z
UID:10006338-1781858700-1781861400@www.ashlandy.org
SUMMARY:Gentle Yoga-w/Christy Mathatas
DESCRIPTION:
URL:https://www.ashlandy.org/event/gentle-yoga-w-christy-mathatas-116/
LOCATION:Ballet Room
CATEGORIES:Group Ex-Schedule
END:VEVENT
BEGIN:VEVENT
DTSTART;TZID=America/New_York:20260619T100000
DTEND;TZID=America/New_York:20260619T110000
DTSTAMP:20260421T102159
CREATED:20260419T121757Z
LAST-MODIFIED:20260421T131811Z
UID:10006340-1781863200-1781866800@www.ashlandy.org
SUMMARY:SilverSneakers Classic
DESCRIPTION:Instructor: Sherry \nDescription: Have fun and move to the music through a variety of exercises designed to increase muscular strength\, range of movement\, and activities for daily living. Hand-held weights\, elastic tubing with handles\, and a SilverSneakers ball are offered for resistance.
URL:https://www.ashlandy.org/event/silversneakers-classic-233/
LOCATION:Multi-Purpose Room
CATEGORIES:Group Ex-Schedule
END:VEVENT
BEGIN:VEVENT
DTSTART;TZID=America/New_York:20260620T071500
DTEND;TZID=America/New_York:20260620T084500
DTSTAMP:20260421T102159
CREATED:20260419T121758Z
LAST-MODIFIED:20260421T131824Z
UID:10006342-1781939700-1781945100@www.ashlandy.org
SUMMARY:Tai Chi
DESCRIPTION:Instructor: Haiyan Fillutzy
URL:https://www.ashlandy.org/event/tai-chi-194/
LOCATION:Multi-Purpose Room
CATEGORIES:Group Ex-Schedule
END:VEVENT
BEGIN:VEVENT
DTSTART;TZID=America/New_York:20260620T073000
DTEND;TZID=America/New_York:20260620T083000
DTSTAMP:20260421T102159
CREATED:20260419T121758Z
LAST-MODIFIED:20260421T131825Z
UID:10006341-1781940600-1781944200@www.ashlandy.org
SUMMARY:Cardio Lifting
DESCRIPTION:
URL:https://www.ashlandy.org/event/cardio-lifting-167/
LOCATION:Fitness Room
CATEGORIES:Group Ex-Schedule
END:VEVENT
BEGIN:VEVENT
DTSTART;TZID=America/New_York:20260620T083000
DTEND;TZID=America/New_York:20260620T091500
DTSTAMP:20260421T102159
CREATED:20260420T124825Z
LAST-MODIFIED:20260421T131826Z
UID:10006343-1781944200-1781946900@www.ashlandy.org
SUMMARY:Spin w/Shelly Briggs
DESCRIPTION:
URL:https://www.ashlandy.org/event/spin-w-shelly-briggs-75/
CATEGORIES:Group Ex-Schedule
END:VEVENT
BEGIN:VEVENT
DTSTART;TZID=America/New_York:20260620T090000
DTEND;TZID=America/New_York:20260620T100000
DTSTAMP:20260421T102159
CREATED:20260421T131825Z
LAST-MODIFIED:20260421T131825Z
UID:10006344-1781946000-1781949600@www.ashlandy.org
SUMMARY:YOGA
DESCRIPTION:Instructor: Louise  \nDescription: This class incorporates yoga postures\, gentle movement sequences\, breath work\, supported silent meditation\, and guided relaxation to support increased awareness and mindfulness of the breath and body\, and quieting of the nervous system.
URL:https://www.ashlandy.org/event/yoga-116/
LOCATION:Banquet Room
CATEGORIES:Group Ex-Schedule
END:VEVENT
BEGIN:VEVENT
DTSTART;TZID=America/New_York:20260622T051500
DTEND;TZID=America/New_York:20260622T060000
DTSTAMP:20260421T102159
CREATED:20260421T131826Z
LAST-MODIFIED:20260421T131826Z
UID:10006345-1782105300-1782108000@www.ashlandy.org
SUMMARY:Cycling
DESCRIPTION:Class with Terrence Webb
URL:https://www.ashlandy.org/event/cycling-251/
LOCATION:Cycling Room
CATEGORIES:Group Ex-Schedule
END:VEVENT
BEGIN:VEVENT
DTSTART;TZID=America/New_York:20260622T060000
DTEND;TZID=America/New_York:20260622T110000
DTSTAMP:20260421T102159
CREATED:20260421T131828Z
LAST-MODIFIED:20260421T131828Z
UID:10006348-1782108000-1782126000@www.ashlandy.org
SUMMARY:PickleBall\, Gym Court 1
DESCRIPTION:
URL:https://www.ashlandy.org/event/pickleball-gym-court-1-609/
CATEGORIES:Group Ex-Schedule
END:VEVENT
BEGIN:VEVENT
DTSTART;TZID=America/New_York:20260622T083000
DTEND;TZID=America/New_York:20260622T090000
DTSTAMP:20260421T102159
CREATED:20260421T131827Z
LAST-MODIFIED:20260421T131827Z
UID:10006346-1782117000-1782118800@www.ashlandy.org
SUMMARY:Total Body Cycle
DESCRIPTION:Instructor: Shelly \nSpots: 19 \nDescription: Intervals\, rolling hills\, sprints\, climbs\, runs\, surges and jumps all to music hand-picked to motivate and inspire! This is a great workout if you want to burn calories and increase endurance.
URL:https://www.ashlandy.org/event/total-body-cycle-111/
CATEGORIES:Group Ex-Schedule
END:VEVENT
BEGIN:VEVENT
DTSTART;TZID=America/New_York:20260622T091000
DTEND;TZID=America/New_York:20260622T094500
DTSTAMP:20260421T102159
CREATED:20260421T131827Z
LAST-MODIFIED:20260421T131827Z
UID:10006347-1782119400-1782121500@www.ashlandy.org
SUMMARY:Total Body Strength
DESCRIPTION:Instructor: ShellyDescription: Work all muscle groups with a variety of strengthening and conditioning exercises. This athletic-based sculpting class tones upper and lower body using resistance like hand weights\, body bars and your own body weight.
URL:https://www.ashlandy.org/event/total-body-strength-116/
LOCATION:Multi-Purpose Room
CATEGORIES:Group Ex-Schedule
END:VEVENT
BEGIN:VEVENT
DTSTART;TZID=America/New_York:20260622T100000
DTEND;TZID=America/New_York:20260622T110000
DTSTAMP:20260421T102159
CREATED:20260421T131829Z
LAST-MODIFIED:20260421T131829Z
UID:10006349-1782122400-1782126000@www.ashlandy.org
SUMMARY:SilverSneakers Yoga
DESCRIPTION:Instructor: Christy  \nClass Description: Move through a complete series of seated and standing yoga poses while you enjoy restorative breathing exercises that promote stress reduction and mental clarity.
URL:https://www.ashlandy.org/event/silversneakers-yoga-116/
LOCATION:Multi-Purpose Room
CATEGORIES:Group Ex-Schedule
END:VEVENT
END:VCALENDAR