BEGIN:VCALENDAR
VERSION:2.0
PRODID:-//YMCA of Ashland, Ohio - ECPv6.5.0//NONSGML v1.0//EN
CALSCALE:GREGORIAN
METHOD:PUBLISH
X-WR-CALNAME:YMCA of Ashland, Ohio
X-ORIGINAL-URL:https://www.ashlandy.org
X-WR-CALDESC:Events for YMCA of Ashland, Ohio
REFRESH-INTERVAL;VALUE=DURATION:PT1H
X-Robots-Tag:noindex
X-PUBLISHED-TTL:PT1H
BEGIN:VTIMEZONE
TZID:America/New_York
BEGIN:DAYLIGHT
TZOFFSETFROM:-0500
TZOFFSETTO:-0400
TZNAME:EDT
DTSTART:20240310T070000
END:DAYLIGHT
BEGIN:STANDARD
TZOFFSETFROM:-0400
TZOFFSETTO:-0500
TZNAME:EST
DTSTART:20241103T060000
END:STANDARD
END:VTIMEZONE
BEGIN:VEVENT
DTSTART;TZID=America/New_York:20241111T173000
DTEND;TZID=America/New_York:20241111T183000
DTSTAMP:20260420T105022
CREATED:20240829T131708Z
LAST-MODIFIED:20241111T000917Z
UID:10001604-1731346200-1731349800@www.ashlandy.org
SUMMARY:Zumba
DESCRIPTION:Instructor: Erica  \nDescription: Each Dance/Zumba® class is designed to bring people together to sweat it on. We take the “work” out of workout\, by mixing low-intensity and high-intensity moves for an interval-style\, calorie-burning dance fitness party. Once the Latin and World rhythms take over\, you’ll see why Dance/Zumba classes are often called exercise in disguise. Super effective? Check. Super fun? Check.
URL:https://www.ashlandy.org/event/zumba-65/
LOCATION:Multi-Purpose Room
CATEGORIES:Group Ex-Schedule
END:VEVENT
BEGIN:VEVENT
DTSTART;TZID=America/New_York:20241111T183000
DTEND;TZID=America/New_York:20241111T191500
DTSTAMP:20260420T105022
CREATED:20241003T054436Z
LAST-MODIFIED:20241111T000917Z
UID:10001861-1731349800-1731352500@www.ashlandy.org
SUMMARY:HIIT Strength
DESCRIPTION:
URL:https://www.ashlandy.org/event/hiit-strength-12/
CATEGORIES:Group Ex-Schedule
END:VEVENT
BEGIN:VEVENT
DTSTART;TZID=America/New_York:20241112T051500
DTEND;TZID=America/New_York:20241112T060000
DTSTAMP:20260420T105022
CREATED:20240829T131709Z
LAST-MODIFIED:20241112T003938Z
UID:10001606-1731388500-1731391200@www.ashlandy.org
SUMMARY:Cycling-w/Michelle McDonald
DESCRIPTION:First come. First served.
URL:https://www.ashlandy.org/event/cycling-w-michelle-mcdonald-65/
LOCATION:Cycling Room
CATEGORIES:Group Ex-Schedule
END:VEVENT
BEGIN:VEVENT
DTSTART;TZID=America/New_York:20241112T060000
DTEND;TZID=America/New_York:20241112T110000
DTSTAMP:20260420T105022
CREATED:20240829T131708Z
LAST-MODIFIED:20241112T003938Z
UID:10001605-1731391200-1731409200@www.ashlandy.org
SUMMARY:PickleBall\, Gym Court 1
DESCRIPTION:
URL:https://www.ashlandy.org/event/pickleball-gym-court-1-190/
CATEGORIES:Group Ex-Schedule
END:VEVENT
BEGIN:VEVENT
DTSTART;TZID=America/New_York:20241112T083000
DTEND;TZID=America/New_York:20241112T090000
DTSTAMP:20260420T105022
CREATED:20240829T131710Z
LAST-MODIFIED:20241002T051604Z
UID:10001608-1731400200-1731402000@www.ashlandy.org
SUMMARY:Power + Cycling
DESCRIPTION:Instructor: Shelly \nSpots: 19 \nDescription: Intervals\, rolling hills\, sprints\, climbs\, runs\, surges and jumps all to music hand-picked to motivate and inspire! This is a great workout if you want to burn calories and increase endurance
URL:https://www.ashlandy.org/event/power-cycling-32/
LOCATION:Cycling Room
CATEGORIES:Group Ex-Schedule
END:VEVENT
BEGIN:VEVENT
DTSTART;TZID=America/New_York:20241112T083000
DTEND;TZID=America/New_York:20241112T093000
DTSTAMP:20260420T105022
CREATED:20241003T054438Z
LAST-MODIFIED:20241112T003939Z
UID:10001862-1731400200-1731403800@www.ashlandy.org
SUMMARY:Weight Lifting 101
DESCRIPTION:Instructor: Clay \nDescription: Whether you’re new to lifting or want to fine-tune your technique\, this beginner-friendly class will teach you the fundamentals of weight lifting in a supportive environment. Clay Funk will guide you through proper form\, essential exercises\, and safe lifting techniques to help you build strength and confidence. Learn how to use free weights\, machines\, and your body weight to achieve your fitness goals. All fitness levels are welcome!
URL:https://www.ashlandy.org/event/weight-lifting-101-6/
LOCATION:Fitness Room(Downstairs)
CATEGORIES:Group Ex-Schedule
END:VEVENT
BEGIN:VEVENT
DTSTART;TZID=America/New_York:20241112T090000
DTEND;TZID=America/New_York:20241112T093000
DTSTAMP:20260420T105022
CREATED:20240829T131709Z
LAST-MODIFIED:20241002T051603Z
UID:10001607-1731402000-1731403800@www.ashlandy.org
SUMMARY:3.3. Strength-w/Clay Funk
DESCRIPTION:Instructor: Clay \nDescription: 3.3 Strength is a class based on full body strength building that introduces hypertrophy through 7 exercises that are 3 1/2 minutes long. This is based upon the principle of time under tension. The class is for everyone. Proper form is instructed and monitored to have max benefit to the exercises.
URL:https://www.ashlandy.org/event/3-3-strength-w-clay-funk-32/
LOCATION:Fitness Room(Downstairs)
CATEGORIES:Group Ex-Schedule
END:VEVENT
BEGIN:VEVENT
DTSTART;TZID=America/New_York:20241112T100000
DTEND;TZID=America/New_York:20241112T110000
DTSTAMP:20260420T105022
CREATED:20240829T131710Z
LAST-MODIFIED:20241112T003939Z
UID:10001609-1731405600-1731409200@www.ashlandy.org
SUMMARY:SilverSneakers Circuit
DESCRIPTION:Instructor: Sherry \nClass Description: SilverSneakers Circuit offers standing low-impact moves that alternate with standing upper-body strength. The class can be adapted for all fitness levels.
URL:https://www.ashlandy.org/event/silversneakers-circuit-32/
LOCATION:Multi-Purpose Room
CATEGORIES:Group Ex-Schedule
END:VEVENT
BEGIN:VEVENT
DTSTART;TZID=America/New_York:20241112T173000
DTEND;TZID=America/New_York:20241112T183000
DTSTAMP:20260420T105022
CREATED:20241003T054439Z
LAST-MODIFIED:20241112T003940Z
UID:10001864-1731432600-1731436200@www.ashlandy.org
SUMMARY:Zumba
DESCRIPTION:
URL:https://www.ashlandy.org/event/zumba-86/
LOCATION:Multi Purpose Room
CATEGORIES:Group Ex-Schedule
END:VEVENT
BEGIN:VEVENT
DTSTART;TZID=America/New_York:20241112T181500
DTEND;TZID=America/New_York:20241112T190000
DTSTAMP:20260420T105022
CREATED:20241003T054438Z
LAST-MODIFIED:20241112T003939Z
UID:10001863-1731435300-1731438000@www.ashlandy.org
SUMMARY:Power + Cycling
DESCRIPTION:Instructor: Shelly \nSpots: 19 \nDescription: Intervals\, rolling hills\, sprints\, climbs\, runs\, surges and jumps all to music hand-picked to motivate and inspire! This is a great workout if you want to burn calories and increase endurance
URL:https://www.ashlandy.org/event/power-cycling-42/
LOCATION:Cycling Room
CATEGORIES:Group Ex-Schedule
END:VEVENT
BEGIN:VEVENT
DTSTART;TZID=America/New_York:20241112T183000
DTEND;TZID=America/New_York:20241112T190000
DTSTAMP:20260420T105022
CREATED:20240830T134805Z
LAST-MODIFIED:20241002T051605Z
UID:10001613-1731436200-1731438000@www.ashlandy.org
SUMMARY:Power + Cycle
DESCRIPTION:Instructor: Shelly \nSpots: 19 \nDescription: A 30-minute High-Intensity Interval Training (HIIT) workout\, using an indoor bike to achieve fast results. It’s a short\, intense style of training where the thrill and motivation come from pushing your physical and mental limits. A high-intensity\, low-impact workout\, it’s scientifically proven to return rapid results.
URL:https://www.ashlandy.org/event/power-cycle-32/
LOCATION:Cycling Room
CATEGORIES:Group Ex-Schedule
END:VEVENT
BEGIN:VEVENT
DTSTART;TZID=America/New_York:20241113T060000
DTEND;TZID=America/New_York:20241113T110000
DTSTAMP:20260420T105022
CREATED:20240830T134806Z
LAST-MODIFIED:20241113T010915Z
UID:10001615-1731477600-1731495600@www.ashlandy.org
SUMMARY:PickleBall\, Gym Court 1
DESCRIPTION:
URL:https://www.ashlandy.org/event/pickleball-gym-court-1-191/
CATEGORIES:Group Ex-Schedule
END:VEVENT
BEGIN:VEVENT
DTSTART;TZID=America/New_York:20241113T083000
DTEND;TZID=America/New_York:20241113T090000
DTSTAMP:20260420T105022
CREATED:20240830T134805Z
LAST-MODIFIED:20241113T010914Z
UID:10001614-1731486600-1731488400@www.ashlandy.org
SUMMARY:Cycle Strong
DESCRIPTION:Instructor: Shelly \nSpots: 19 \nDescription: Intervals\, rolling hills\, sprints\, climbs\, runs\, surges and jumps all to music hand-picked to motivate and inspire! This is a great workout if you want to burn calories and increase endurance.
URL:https://www.ashlandy.org/event/cycle-strong-112/
LOCATION:Cycling Room
CATEGORIES:Group Ex-Schedule
END:VEVENT
BEGIN:VEVENT
DTSTART;TZID=America/New_York:20241113T091000
DTEND;TZID=America/New_York:20241113T094500
DTSTAMP:20260420T105022
CREATED:20240830T134806Z
LAST-MODIFIED:20241002T051606Z
UID:10001616-1731489000-1731491100@www.ashlandy.org
SUMMARY:Dance Fitness
DESCRIPTION:Instructor: Shelly \nDescription: A fun Aerobic workout for all fitness levels. It provides the ultimate fat burn with different intensities to motivating music.
URL:https://www.ashlandy.org/event/dance-fitness-34/
LOCATION:Multi-Purpose Room
CATEGORIES:Group Ex-Schedule
END:VEVENT
BEGIN:VEVENT
DTSTART;TZID=America/New_York:20241113T091500
DTEND;TZID=America/New_York:20241113T094500
DTSTAMP:20260420T105022
CREATED:20241003T054440Z
LAST-MODIFIED:20241113T010915Z
UID:10001865-1731489300-1731491100@www.ashlandy.org
SUMMARY:Dance Fitness
DESCRIPTION:Instructor: Shelly \nDescription: A fun Aerobic workout for all fitness levels. It provides the ultimate fat burn with different intensities to motivating music.
URL:https://www.ashlandy.org/event/dance-fitness-44/
LOCATION:Multi-Purpose Room
CATEGORIES:Group Ex-Schedule
END:VEVENT
BEGIN:VEVENT
DTSTART;TZID=America/New_York:20241113T100000
DTEND;TZID=America/New_York:20241113T110000
DTSTAMP:20260420T105022
CREATED:20240830T134807Z
LAST-MODIFIED:20241113T010916Z
UID:10001617-1731492000-1731495600@www.ashlandy.org
SUMMARY:SilverSneakers Boom Mind
DESCRIPTION:Instructor: Louise  \nDescription: Fusion class designed to relax your body and mind. The focus is on core muscles\, lower-body strength\, and balance.
URL:https://www.ashlandy.org/event/silversneakers-boom-mind-34/
LOCATION:Multi-Purpose Room
CATEGORIES:Group Ex-Schedule
END:VEVENT
BEGIN:VEVENT
DTSTART;TZID=America/New_York:20241113T171500
DTEND;TZID=America/New_York:20241113T181500
DTSTAMP:20260420T105022
CREATED:20240831T141720Z
LAST-MODIFIED:20241113T010916Z
UID:10001622-1731518100-1731521700@www.ashlandy.org
SUMMARY:Tight & Tone
DESCRIPTION:
URL:https://www.ashlandy.org/event/tighten-tone-17/
LOCATION:Multi-Purpose Room
CATEGORIES:Group Ex-Schedule
END:VEVENT
BEGIN:VEVENT
DTSTART;TZID=America/New_York:20241113T183000
DTEND;TZID=America/New_York:20241113T193000
DTSTAMP:20260420T105022
CREATED:20241008T081412Z
LAST-MODIFIED:20241113T010917Z
UID:10001940-1731522600-1731526200@www.ashlandy.org
SUMMARY:Zumba
DESCRIPTION:Join Savannah Schar for a high-energy Zumba class that combines fun and fitness! Get ready to dance to Latin-inspired rhythms while burning calories and toning your whole body. This class is perfect for all fitness levels\, whether you’re a seasoned dancer or just looking for a fun way to stay active. Savannah’s enthusiastic teaching style will keep you moving\, smiling\, and sweating. Come shake it off and have a blast!
URL:https://www.ashlandy.org/event/zumba-100/
LOCATION:Multi-Purpose Room
CATEGORIES:Group Ex-Schedule
END:VEVENT
BEGIN:VEVENT
DTSTART;TZID=America/New_York:20241114T051500
DTEND;TZID=America/New_York:20241114T060000
DTSTAMP:20260420T105022
CREATED:20240831T141720Z
LAST-MODIFIED:20241114T013940Z
UID:10001623-1731561300-1731564000@www.ashlandy.org
SUMMARY:Cycling-w/Michelle McDonald
DESCRIPTION:First come. First served.
URL:https://www.ashlandy.org/event/cycling-w-michelle-mcdonald-66/
LOCATION:Cycling Room
CATEGORIES:Group Ex-Schedule
END:VEVENT
BEGIN:VEVENT
DTSTART;TZID=America/New_York:20241114T060000
DTEND;TZID=America/New_York:20241114T110000
DTSTAMP:20260420T105022
CREATED:20240901T144713Z
LAST-MODIFIED:20241114T013942Z
UID:10001629-1731564000-1731582000@www.ashlandy.org
SUMMARY:PickleBall\, Gym Court 1
DESCRIPTION:
URL:https://www.ashlandy.org/event/pickleball-gym-court-1-192/
CATEGORIES:Group Ex-Schedule
END:VEVENT
BEGIN:VEVENT
DTSTART;TZID=America/New_York:20241114T070000
DTEND;TZID=America/New_York:20241114T080000
DTSTAMP:20260420T105022
CREATED:20240831T141721Z
LAST-MODIFIED:20241114T013940Z
UID:10001624-1731567600-1731571200@www.ashlandy.org
SUMMARY:Tai-Chi
DESCRIPTION:Instructor: Haiyan  \nDescription:  Ta-Chi is a mind-body exercise that combines movements\, meditation\, and deep breathing. 
URL:https://www.ashlandy.org/event/tai-chi-34/
LOCATION:Ballet Room
CATEGORIES:Group Ex-Schedule
END:VEVENT
BEGIN:VEVENT
DTSTART;TZID=America/New_York:20241114T080000
DTEND;TZID=America/New_York:20241114T083000
DTSTAMP:20260420T105022
CREATED:20241003T054455Z
LAST-MODIFIED:20241114T013941Z
UID:10001866-1731571200-1731573000@www.ashlandy.org
SUMMARY:Cycle Strong
DESCRIPTION:
URL:https://www.ashlandy.org/event/cycle-strong-133/
LOCATION:Cycling Room
CATEGORIES:Group Ex-Schedule
END:VEVENT
BEGIN:VEVENT
DTSTART;TZID=America/New_York:20241114T083000
DTEND;TZID=America/New_York:20241114T093000
DTSTAMP:20260420T105022
CREATED:20240831T141721Z
LAST-MODIFIED:20241114T013941Z
UID:10001625-1731573000-1731576600@www.ashlandy.org
SUMMARY:Zumba
DESCRIPTION:Instructor: Erica  \nDescription: Each Dance/Zumba® class is designed to bring people together to sweat it on. We take the “work” out of a workout\, by mixing low-intensity and high-intensity moves for an interval-style\, calorie-burning dance fitness party. Once the Latin and World rhythms take over\, you’ll see why Dance/Zumba classes are often called exercise in disguise. Super effective? Check. Super fun? Check.
URL:https://www.ashlandy.org/event/zumba-66/
LOCATION:Multi-Purpose Room
CATEGORIES:Group Ex-Schedule
END:VEVENT
BEGIN:VEVENT
DTSTART;TZID=America/New_York:20241114T100000
DTEND;TZID=America/New_York:20241114T110000
DTSTAMP:20260420T105022
CREATED:20240831T141722Z
LAST-MODIFIED:20241114T013942Z
UID:10001626-1731578400-1731582000@www.ashlandy.org
SUMMARY:SilverSneakers Classic
DESCRIPTION:Instructor: Hannah  \nClass Description: Have fun and move to the music through a variety of exercises designed to increase muscular strength\, range of movement\, and activities for daily living. Hand-held weights\, elastic tubing with handles\, and a SilverSneakers ball are offered for resistance.
URL:https://www.ashlandy.org/event/silversneakers-classic-66/
LOCATION:Multi-Purpose Room
CATEGORIES:Group Ex-Schedule
END:VEVENT
BEGIN:VEVENT
DTSTART;TZID=America/New_York:20241114T173000
DTEND;TZID=America/New_York:20241114T183000
DTSTAMP:20260420T105022
CREATED:20241003T054457Z
LAST-MODIFIED:20241114T013943Z
UID:10001868-1731605400-1731609000@www.ashlandy.org
SUMMARY:Zumba
DESCRIPTION:
URL:https://www.ashlandy.org/event/zumba-87/
LOCATION:Multi-Purpose Room
CATEGORIES:Group Ex-Schedule
END:VEVENT
BEGIN:VEVENT
DTSTART;TZID=America/New_York:20241114T183000
DTEND;TZID=America/New_York:20241114T191000
DTSTAMP:20260420T105022
CREATED:20241003T054456Z
LAST-MODIFIED:20241114T013942Z
UID:10001867-1731609000-1731611400@www.ashlandy.org
SUMMARY:Cardio Lifting
DESCRIPTION:
URL:https://www.ashlandy.org/event/cardio-lifting-7/
LOCATION:Fitness Room
CATEGORIES:Group Ex-Schedule
END:VEVENT
BEGIN:VEVENT
DTSTART;TZID=America/New_York:20241114T183000
DTEND;TZID=America/New_York:20241114T191500
DTSTAMP:20260420T105022
CREATED:20241003T054511Z
LAST-MODIFIED:20241114T013943Z
UID:10001869-1731609000-1731611700@www.ashlandy.org
SUMMARY:HIIT Strength
DESCRIPTION:
URL:https://www.ashlandy.org/event/hiit-strength-13/
LOCATION:Cycling Room
CATEGORIES:Group Ex-Schedule
END:VEVENT
BEGIN:VEVENT
DTSTART;TZID=America/New_York:20241115T060000
DTEND;TZID=America/New_York:20241115T110000
DTSTAMP:20260420T105022
CREATED:20240902T151715Z
LAST-MODIFIED:20241115T020940Z
UID:10001632-1731650400-1731668400@www.ashlandy.org
SUMMARY:PickleBall\, Gym Court 1
DESCRIPTION:
URL:https://www.ashlandy.org/event/pickleball-gym-court-1-193/
CATEGORIES:Group Ex-Schedule
END:VEVENT
BEGIN:VEVENT
DTSTART;TZID=America/New_York:20241115T080000
DTEND;TZID=America/New_York:20241115T083000
DTSTAMP:20260420T105022
CREATED:20240902T151714Z
LAST-MODIFIED:20241002T051631Z
UID:10001630-1731657600-1731659400@www.ashlandy.org
SUMMARY:Cycle Strong
DESCRIPTION:Instructor: Jennifer  \nDescription: Cycle Strong is a 60-minute cycling experience brought indoors. Roll over hills\, chase the pack\, spin the flats\, climb mountains and sprint to the finish. You’ll feel the thrill of energetic music and group dynamics as you get all the benefits of authentic interval training.
URL:https://www.ashlandy.org/event/cycle-strong-113/
LOCATION:Cycling Room
CATEGORIES:Group Ex-Schedule
END:VEVENT
BEGIN:VEVENT
DTSTART;TZID=America/New_York:20241115T083000
DTEND;TZID=America/New_York:20241115T094500
DTSTAMP:20260420T105022
CREATED:20240903T154719Z
LAST-MODIFIED:20241115T020940Z
UID:10001634-1731659400-1731663900@www.ashlandy.org
SUMMARY:Strength Circuit
DESCRIPTION:Instructor: Clay \nDescription: A fast-paced class where you’re divided into small groups\, completing a series of exercises for 30- to 90-second intervals. There are multiple stations that combine functional resistance and cardiovascular training to give you a full-body workout—the perfect combination for strengthening your heart and muscles.
URL:https://www.ashlandy.org/event/strength-circuit-33/
LOCATION:Fitness Room (Downstairs)
CATEGORIES:Group Ex-Schedule
END:VEVENT
END:VCALENDAR