BEGIN:VCALENDAR
VERSION:2.0
PRODID:-//YMCA of Ashland, Ohio - ECPv6.5.0//NONSGML v1.0//EN
CALSCALE:GREGORIAN
METHOD:PUBLISH
X-ORIGINAL-URL:https://www.ashlandy.org
X-WR-CALDESC:Events for YMCA of Ashland, Ohio
REFRESH-INTERVAL;VALUE=DURATION:PT1H
X-Robots-Tag:noindex
X-PUBLISHED-TTL:PT1H
BEGIN:VTIMEZONE
TZID:America/New_York
BEGIN:DAYLIGHT
TZOFFSETFROM:-0500
TZOFFSETTO:-0400
TZNAME:EDT
DTSTART:20260308T070000
END:DAYLIGHT
BEGIN:STANDARD
TZOFFSETFROM:-0400
TZOFFSETTO:-0500
TZNAME:EST
DTSTART:20261101T060000
END:STANDARD
END:VTIMEZONE
BEGIN:VEVENT
DTSTART;TZID=America/New_York:20260625T070000
DTEND;TZID=America/New_York:20260625T080000
DTSTAMP:20260425T112557
CREATED:20260423T141801Z
LAST-MODIFIED:20260425T151756Z
UID:10006363-1782370800-1782374400@www.ashlandy.org
SUMMARY:Tai-Chi
DESCRIPTION:Instructor: Haiyan  \nDescription:  Ta-Chi is a mind-body exercise that combines movements\, meditation\, and deep breathing. 
URL:https://www.ashlandy.org/event/tai-chi-195/
LOCATION:Ballet Room
CATEGORIES:Group Ex-Schedule
END:VEVENT
BEGIN:VEVENT
DTSTART;TZID=America/New_York:20260625T080000
DTEND;TZID=America/New_York:20260625T083000
DTSTAMP:20260425T112557
CREATED:20260424T144825Z
LAST-MODIFIED:20260425T151756Z
UID:10006367-1782374400-1782376200@www.ashlandy.org
SUMMARY:Cycle Strong
DESCRIPTION:
URL:https://www.ashlandy.org/event/cycle-strong-309/
LOCATION:Cycling Room
CATEGORIES:Group Ex-Schedule
END:VEVENT
BEGIN:VEVENT
DTSTART;TZID=America/New_York:20260625T083000
DTEND;TZID=America/New_York:20260625T093000
DTSTAMP:20260425T112557
CREATED:20260423T141801Z
LAST-MODIFIED:20260425T151756Z
UID:10006364-1782376200-1782379800@www.ashlandy.org
SUMMARY:Zumba
DESCRIPTION:Instructor: Erica  \nDescription: Each Dance/Zumba® class is designed to bring people together to sweat it on. We take the “work” out of a workout\, by mixing low-intensity and high-intensity moves for an interval-style\, calorie-burning dance fitness party. Once the Latin and World rhythms take over\, you’ll see why Dance/Zumba classes are often called exercise in disguise. Super effective? Check. Super fun? Check.
URL:https://www.ashlandy.org/event/zumba-300/
LOCATION:Multi-Purpose Room
CATEGORIES:Group Ex-Schedule
END:VEVENT
BEGIN:VEVENT
DTSTART;TZID=America/New_York:20260625T100000
DTEND;TZID=America/New_York:20260625T110000
DTSTAMP:20260425T112557
CREATED:20260424T144827Z
LAST-MODIFIED:20260425T151757Z
UID:10006369-1782381600-1782385200@www.ashlandy.org
SUMMARY:SilverSneakers Classic
DESCRIPTION:Instructor: Hannah  \nClass Description: Have fun and move to the music through a variety of exercises designed to increase muscular strength\, range of movement\, and activities for daily living. Hand-held weights\, elastic tubing with handles\, and a SilverSneakers ball are offered for resistance.
URL:https://www.ashlandy.org/event/silversneakers-classic-234/
LOCATION:Multi-Purpose Room
CATEGORIES:Group Ex-Schedule
END:VEVENT
BEGIN:VEVENT
DTSTART;TZID=America/New_York:20260625T183000
DTEND;TZID=America/New_York:20260625T191000
DTSTAMP:20260425T112557
CREATED:20260424T144828Z
LAST-MODIFIED:20260425T151809Z
UID:10006370-1782412200-1782414600@www.ashlandy.org
SUMMARY:Cardio Lifting
DESCRIPTION:
URL:https://www.ashlandy.org/event/cardio-lifting-168/
LOCATION:Fitness Room
CATEGORIES:Group Ex-Schedule
END:VEVENT
BEGIN:VEVENT
DTSTART;TZID=America/New_York:20260626T051500
DTEND;TZID=America/New_York:20260626T060000
DTSTAMP:20260425T112557
CREATED:20260425T151810Z
LAST-MODIFIED:20260425T151810Z
UID:10006375-1782450900-1782453600@www.ashlandy.org
SUMMARY:Cycling
DESCRIPTION:Instructor: Terrence Webb
URL:https://www.ashlandy.org/event/cycling-253/
LOCATION:Cycling Room
CATEGORIES:Group Ex-Schedule
END:VEVENT
BEGIN:VEVENT
DTSTART;TZID=America/New_York:20260626T060000
DTEND;TZID=America/New_York:20260626T110000
DTSTAMP:20260425T112557
CREATED:20260424T144829Z
LAST-MODIFIED:20260425T151809Z
UID:10006372-1782453600-1782471600@www.ashlandy.org
SUMMARY:PickleBall\, Gym Court 1
DESCRIPTION:
URL:https://www.ashlandy.org/event/pickleball-gym-court-1-613/
CATEGORIES:Group Ex-Schedule
END:VEVENT
BEGIN:VEVENT
DTSTART;TZID=America/New_York:20260626T083000
DTEND;TZID=America/New_York:20260626T094500
DTSTAMP:20260425T112557
CREATED:20260424T144829Z
LAST-MODIFIED:20260425T151811Z
UID:10006371-1782462600-1782467100@www.ashlandy.org
SUMMARY:Strength Circuit
DESCRIPTION:Instructor: Clay \nDescription: A fast-paced class where you’re divided into small groups\, completing a series of exercises for 30- to 90-second intervals. There are multiple stations that combine functional resistance and cardiovascular training to give you a full-body workout—the perfect combination for strengthening your heart and muscles.
URL:https://www.ashlandy.org/event/strength-circuit-117/
LOCATION:Fitness Room (Downstairs)
CATEGORIES:Group Ex-Schedule
END:VEVENT
BEGIN:VEVENT
DTSTART;TZID=America/New_York:20260626T084500
DTEND;TZID=America/New_York:20260626T093000
DTSTAMP:20260425T112557
CREATED:20260425T151810Z
LAST-MODIFIED:20260425T151810Z
UID:10006376-1782463500-1782466200@www.ashlandy.org
SUMMARY:Gentle Yoga-w/Christy Mathatas
DESCRIPTION:
URL:https://www.ashlandy.org/event/gentle-yoga-w-christy-mathatas-117/
LOCATION:Ballet Room
CATEGORIES:Group Ex-Schedule
END:VEVENT
BEGIN:VEVENT
DTSTART;TZID=America/New_York:20260626T100000
DTEND;TZID=America/New_York:20260626T110000
DTSTAMP:20260425T112557
CREATED:20260425T151811Z
LAST-MODIFIED:20260425T151811Z
UID:10006377-1782468000-1782471600@www.ashlandy.org
SUMMARY:SilverSneakers Classic
DESCRIPTION:Instructor: Sherry \nDescription: Have fun and move to the music through a variety of exercises designed to increase muscular strength\, range of movement\, and activities for daily living. Hand-held weights\, elastic tubing with handles\, and a SilverSneakers ball are offered for resistance.
URL:https://www.ashlandy.org/event/silversneakers-classic-235/
LOCATION:Multi-Purpose Room
CATEGORIES:Group Ex-Schedule
END:VEVENT
BEGIN:VEVENT
DTSTART;TZID=America/New_York:20260627T071500
DTEND;TZID=America/New_York:20260627T084500
DTSTAMP:20260425T112557
CREATED:20260425T151812Z
LAST-MODIFIED:20260425T151812Z
UID:10006378-1782544500-1782549900@www.ashlandy.org
SUMMARY:Tai Chi
DESCRIPTION:Instructor: Haiyan Fillutzy
URL:https://www.ashlandy.org/event/tai-chi-196/
LOCATION:Multi-Purpose Room
CATEGORIES:Group Ex-Schedule
END:VEVENT
BEGIN:VEVENT
DTSTART;TZID=America/New_York:20260627T073000
DTEND;TZID=America/New_York:20260627T083000
DTSTAMP:20260425T112557
CREATED:20260425T151813Z
LAST-MODIFIED:20260425T151813Z
UID:10006379-1782545400-1782549000@www.ashlandy.org
SUMMARY:Cardio Lifting
DESCRIPTION:
URL:https://www.ashlandy.org/event/cardio-lifting-169/
LOCATION:Fitness Room
CATEGORIES:Group Ex-Schedule
END:VEVENT
BEGIN:VEVENT
DTSTART;TZID=America/New_York:20260627T090000
DTEND;TZID=America/New_York:20260627T100000
DTSTAMP:20260425T112557
CREATED:20260425T151813Z
LAST-MODIFIED:20260425T151813Z
UID:10006380-1782550800-1782554400@www.ashlandy.org
SUMMARY:YOGA
DESCRIPTION:Instructor: Louise  \nDescription: This class incorporates yoga postures\, gentle movement sequences\, breath work\, supported silent meditation\, and guided relaxation to support increased awareness and mindfulness of the breath and body\, and quieting of the nervous system.
URL:https://www.ashlandy.org/event/yoga-117/
LOCATION:Banquet Room
CATEGORIES:Group Ex-Schedule
END:VEVENT
END:VCALENDAR