BEGIN:VCALENDAR
VERSION:2.0
PRODID:-//YMCA of Ashland, Ohio - ECPv6.5.0//NONSGML v1.0//EN
CALSCALE:GREGORIAN
METHOD:PUBLISH
X-WR-CALNAME:YMCA of Ashland, Ohio
X-ORIGINAL-URL:https://www.ashlandy.org
X-WR-CALDESC:Events for YMCA of Ashland, Ohio
REFRESH-INTERVAL;VALUE=DURATION:PT1H
X-Robots-Tag:noindex
X-PUBLISHED-TTL:PT1H
BEGIN:VTIMEZONE
TZID:America/New_York
BEGIN:DAYLIGHT
TZOFFSETFROM:-0500
TZOFFSETTO:-0400
TZNAME:EDT
DTSTART:20250309T070000
END:DAYLIGHT
BEGIN:STANDARD
TZOFFSETFROM:-0400
TZOFFSETTO:-0500
TZNAME:EST
DTSTART:20251102T060000
END:STANDARD
BEGIN:DAYLIGHT
TZOFFSETFROM:-0500
TZOFFSETTO:-0400
TZNAME:EDT
DTSTART:20260308T070000
END:DAYLIGHT
BEGIN:STANDARD
TZOFFSETFROM:-0400
TZOFFSETTO:-0500
TZNAME:EST
DTSTART:20261101T060000
END:STANDARD
END:VTIMEZONE
BEGIN:VEVENT
DTSTART;TZID=America/New_York:20251228T110000
DTEND;TZID=America/New_York:20260301T170000
DTSTAMP:20260420T061832
CREATED:20251110T121855Z
LAST-MODIFIED:20260115T121117Z
UID:10005073-1766919600-1772384400@www.ashlandy.org
SUMMARY:Rental: RAI League
DESCRIPTION:
URL:https://www.ashlandy.org/event/rental-rai-league-6/
LOCATION:both courts
CATEGORIES:Gymnasium
END:VEVENT
BEGIN:VEVENT
DTSTART;TZID=America/New_York:20260104T110000
DTEND;TZID=America/New_York:20260308T170000
DTSTAMP:20260420T061832
CREATED:20251110T121838Z
LAST-MODIFIED:20260115T121132Z
UID:10005071-1767524400-1772989200@www.ashlandy.org
SUMMARY:Rental: RAI League
DESCRIPTION:
URL:https://www.ashlandy.org/event/rental-rai-league-5/
LOCATION:both courts
CATEGORIES:Gymnasium
END:VEVENT
BEGIN:VEVENT
DTSTART;TZID=America/New_York:20260111T110000
DTEND;TZID=America/New_York:20260315T170000
DTSTAMP:20260420T061832
CREATED:20251110T121837Z
LAST-MODIFIED:20260115T121313Z
UID:10005069-1768129200-1773594000@www.ashlandy.org
SUMMARY:Rental: RAI League
DESCRIPTION:
URL:https://www.ashlandy.org/event/rental-rai-league-4/
LOCATION:both courts
CATEGORIES:Gymnasium
END:VEVENT
BEGIN:VEVENT
DTSTART;TZID=America/New_York:20260118T110000
DTEND;TZID=America/New_York:20260322T170000
DTSTAMP:20260420T061832
CREATED:20251110T121835Z
LAST-MODIFIED:20260115T121313Z
UID:10005067-1768734000-1774198800@www.ashlandy.org
SUMMARY:Rental: RAI League
DESCRIPTION:
URL:https://www.ashlandy.org/event/rental-rai-league-3/
LOCATION:both courts
CATEGORIES:Gymnasium
END:VEVENT
BEGIN:VEVENT
DTSTART;TZID=America/New_York:20260125T110000
DTEND;TZID=America/New_York:20260329T170000
DTSTAMP:20260420T061832
CREATED:20251110T121835Z
LAST-MODIFIED:20260115T121418Z
UID:10005066-1769338800-1774803600@www.ashlandy.org
SUMMARY:Rental: RAI League
DESCRIPTION:
URL:https://www.ashlandy.org/event/rental-rai-league-2/
LOCATION:both courts
CATEGORIES:Gymnasium
END:VEVENT
BEGIN:VEVENT
DTSTART;TZID=America/New_York:20260201T110000
DTEND;TZID=America/New_York:20260405T170000
DTSTAMP:20260420T061832
CREATED:20251116T151651Z
LAST-MODIFIED:20260115T121450Z
UID:10005117-1769943600-1775408400@www.ashlandy.org
SUMMARY:Rental: RAI League
DESCRIPTION:
URL:https://www.ashlandy.org/event/rental-rai-league-9/
LOCATION:both courts
CATEGORIES:Gymnasium
END:VEVENT
BEGIN:VEVENT
DTSTART;TZID=America/New_York:20260208T110000
DTEND;TZID=America/New_York:20260412T170000
DTSTAMP:20260420T061832
CREATED:20251121T174618Z
LAST-MODIFIED:20260115T121509Z
UID:10005163-1770548400-1776013200@www.ashlandy.org
SUMMARY:Rental: RAI League
DESCRIPTION:
URL:https://www.ashlandy.org/event/rental-rai-league-10/
LOCATION:both courts
CATEGORIES:Gymnasium
END:VEVENT
BEGIN:VEVENT
DTSTART;TZID=America/New_York:20260214T080000
DTEND;TZID=America/New_York:20260307T160000
DTSTAMP:20260420T061832
CREATED:20251119T164632Z
LAST-MODIFIED:20260124T164100Z
UID:10005144-1771056000-1772899200@www.ashlandy.org
SUMMARY:Cavs BBall League
DESCRIPTION:
URL:https://www.ashlandy.org/event/cavs-bball-league-7/
LOCATION:both courts
CATEGORIES:Gymnasium
END:VEVENT
BEGIN:VEVENT
DTSTART;TZID=America/New_York:20260215T110000
DTEND;TZID=America/New_York:20260419T170000
DTSTAMP:20260420T061832
CREATED:20251211T114527Z
LAST-MODIFIED:20260115T121402Z
UID:10005277-1771153200-1776618000@www.ashlandy.org
SUMMARY:Rental: RAI League
DESCRIPTION:
URL:https://www.ashlandy.org/event/rental-rai-league-11/
LOCATION:both courts
CATEGORIES:Gymnasium
END:VEVENT
BEGIN:VEVENT
DTSTART;TZID=America/New_York:20260221T080000
DTEND;TZID=America/New_York:20260314T160000
DTSTAMP:20260420T061832
CREATED:20251125T194837Z
LAST-MODIFIED:20260124T164117Z
UID:10005185-1771660800-1773504000@www.ashlandy.org
SUMMARY:Cavs BBall League
DESCRIPTION:
URL:https://www.ashlandy.org/event/cavs-bball-league-8/
LOCATION:both courts
CATEGORIES:Gymnasium
END:VEVENT
BEGIN:VEVENT
DTSTART;TZID=America/New_York:20260222T110000
DTEND;TZID=America/New_York:20260426T170000
DTSTAMP:20260420T061832
CREATED:20251212T121627Z
LAST-MODIFIED:20260115T121418Z
UID:10005287-1771758000-1777222800@www.ashlandy.org
SUMMARY:Rental: RAI League
DESCRIPTION:
URL:https://www.ashlandy.org/event/rental-rai-league-12/
LOCATION:both courts
CATEGORIES:Gymnasium
END:VEVENT
BEGIN:VEVENT
DTSTART;TZID=America/New_York:20260228T080000
DTEND;TZID=America/New_York:20260321T160000
DTSTAMP:20260420T061832
CREATED:20251126T202514Z
LAST-MODIFIED:20260124T164225Z
UID:10005193-1772265600-1774108800@www.ashlandy.org
SUMMARY:Cavs BBall League
DESCRIPTION:
URL:https://www.ashlandy.org/event/cavs-bball-league-11/
LOCATION:both courts
CATEGORIES:Gymnasium
END:VEVENT
BEGIN:VEVENT
DTSTART;TZID=America/New_York:20260301T110000
DTEND;TZID=America/New_York:20260503T170000
DTSTAMP:20260420T061832
CREATED:20251212T121731Z
LAST-MODIFIED:20260115T121416Z
UID:10005288-1772362800-1777827600@www.ashlandy.org
SUMMARY:Rental: RAI League
DESCRIPTION:
URL:https://www.ashlandy.org/event/rental-rai-league-13/
LOCATION:both courts
CATEGORIES:Gymnasium
END:VEVENT
BEGIN:VEVENT
DTSTART;TZID=America/New_York:20260302T060000
DTEND;TZID=America/New_York:20260302T110000
DTSTAMP:20260420T061832
CREATED:20250919T181910Z
LAST-MODIFIED:20260301T183937Z
UID:10004594-1772431200-1772449200@www.ashlandy.org
SUMMARY:Pickle Ball
DESCRIPTION:
URL:https://www.ashlandy.org/event/pickle-ball-502/
LOCATION:Gymnasium- 1 court
CATEGORIES:Gymnasium
END:VEVENT
BEGIN:VEVENT
DTSTART;TZID=America/New_York:20260302T100000
DTEND;TZID=America/New_York:20260302T110000
DTSTAMP:20260420T061832
CREATED:20250922T194726Z
LAST-MODIFIED:20260301T183937Z
UID:10004604-1772445600-1772449200@www.ashlandy.org
SUMMARY:SilverSneakers
DESCRIPTION:
URL:https://www.ashlandy.org/event/silversneakers-502/
LOCATION:Gymnasium- 2 courts
CATEGORIES:Gymnasium
END:VEVENT
BEGIN:VEVENT
DTSTART;TZID=America/New_York:20260303T060000
DTEND;TZID=America/New_York:20260303T110000
DTSTAMP:20260420T061832
CREATED:20250922T194727Z
LAST-MODIFIED:20260302T190917Z
UID:10004605-1772517600-1772535600@www.ashlandy.org
SUMMARY:Pickle Ball
DESCRIPTION:
URL:https://www.ashlandy.org/event/pickle-ball-503/
LOCATION:Gymnasium- 1 court
CATEGORIES:Gymnasium
END:VEVENT
BEGIN:VEVENT
DTSTART;TZID=America/New_York:20260303T100000
DTEND;TZID=America/New_York:20260303T110000
DTSTAMP:20260420T061832
CREATED:20250923T201803Z
LAST-MODIFIED:20260302T190916Z
UID:10004611-1772532000-1772535600@www.ashlandy.org
SUMMARY:SilverSneakers
DESCRIPTION:
URL:https://www.ashlandy.org/event/silversneakers-503/
LOCATION:Gymnasium- 2 courts
CATEGORIES:Gymnasium
END:VEVENT
BEGIN:VEVENT
DTSTART;TZID=America/New_York:20260303T130000
DTEND;TZID=America/New_York:20260303T150000
DTSTAMP:20260420T061832
CREATED:20250923T201804Z
LAST-MODIFIED:20260303T193938Z
UID:10004612-1772542800-1772550000@www.ashlandy.org
SUMMARY:Pickleball
DESCRIPTION:
URL:https://www.ashlandy.org/event/pickleball-201/
LOCATION:Gymnasium- 1 court
CATEGORIES:Gymnasium
END:VEVENT
BEGIN:VEVENT
DTSTART;TZID=America/New_York:20260304T060000
DTEND;TZID=America/New_York:20260304T110000
DTSTAMP:20260420T061832
CREATED:20250924T204814Z
LAST-MODIFIED:20260303T193939Z
UID:10004620-1772604000-1772622000@www.ashlandy.org
SUMMARY:Pickle Ball
DESCRIPTION:
URL:https://www.ashlandy.org/event/pickle-ball-504/
LOCATION:Gymnasium- 1 court
CATEGORIES:Gymnasium
END:VEVENT
BEGIN:VEVENT
DTSTART;TZID=America/New_York:20260304T100000
DTEND;TZID=America/New_York:20260304T110000
DTSTAMP:20260420T061832
CREATED:20250923T201805Z
LAST-MODIFIED:20260303T193938Z
UID:10004613-1772618400-1772622000@www.ashlandy.org
SUMMARY:SilverSneakers
DESCRIPTION:
URL:https://www.ashlandy.org/event/silversneakers-504/
LOCATION:Gymnasium- 2 courts
CATEGORIES:Gymnasium
END:VEVENT
BEGIN:VEVENT
DTSTART;TZID=America/New_York:20260304T190000
DTEND;TZID=America/New_York:20260304T210000
DTSTAMP:20260420T061832
CREATED:20250924T204816Z
LAST-MODIFIED:20251109T114613Z
UID:10004621-1772650800-1772658000@www.ashlandy.org
SUMMARY:Private Pickleball
DESCRIPTION:
URL:https://www.ashlandy.org/event/private-pickleball-101/
LOCATION:Gymnasium-1 court
CATEGORIES:Gymnasium
END:VEVENT
BEGIN:VEVENT
DTSTART;TZID=America/New_York:20260304T191500
DTEND;TZID=America/New_York:20260304T211500
DTSTAMP:20260420T061832
CREATED:20251127T204805Z
LAST-MODIFIED:20260304T200915Z
UID:10005200-1772651700-1772658900@www.ashlandy.org
SUMMARY:Private Pickleball
DESCRIPTION:
URL:https://www.ashlandy.org/event/private-pickleball-122/
LOCATION:Gymnasium-1 court
CATEGORIES:Gymnasium
END:VEVENT
BEGIN:VEVENT
DTSTART;TZID=America/New_York:20260305T060000
DTEND;TZID=America/New_York:20260305T110000
DTSTAMP:20260420T061832
CREATED:20250925T211833Z
LAST-MODIFIED:20260304T200915Z
UID:10004632-1772690400-1772708400@www.ashlandy.org
SUMMARY:Pickle Ball
DESCRIPTION:
URL:https://www.ashlandy.org/event/pickle-ball-505/
LOCATION:Gymnasium- 1 court
CATEGORIES:Gymnasium
END:VEVENT
BEGIN:VEVENT
DTSTART;TZID=America/New_York:20260305T100000
DTEND;TZID=America/New_York:20260305T110000
DTSTAMP:20260420T061832
CREATED:20250925T211832Z
LAST-MODIFIED:20260304T200917Z
UID:10004631-1772704800-1772708400@www.ashlandy.org
SUMMARY:SilverSneakers
DESCRIPTION:
URL:https://www.ashlandy.org/event/silversneakers-505/
LOCATION:Gymnasium- 2 courts
CATEGORIES:Gymnasium
END:VEVENT
BEGIN:VEVENT
DTSTART;TZID=America/New_York:20260305T130000
DTEND;TZID=America/New_York:20260305T150000
DTSTAMP:20260420T061832
CREATED:20250925T211834Z
LAST-MODIFIED:20260304T200917Z
UID:10004633-1772715600-1772722800@www.ashlandy.org
SUMMARY:Pickleball
DESCRIPTION:
URL:https://www.ashlandy.org/event/pickleball-202/
LOCATION:Gymnasium- 1 court
CATEGORIES:Gymnasium
END:VEVENT
BEGIN:VEVENT
DTSTART;TZID=America/New_York:20260306T060000
DTEND;TZID=America/New_York:20260306T110000
DTSTAMP:20260420T061832
CREATED:20250925T211834Z
LAST-MODIFIED:20260305T203912Z
UID:10004634-1772776800-1772794800@www.ashlandy.org
SUMMARY:Pickle Ball
DESCRIPTION:
URL:https://www.ashlandy.org/event/pickle-ball-506/
LOCATION:Gymnasium- 1 court
CATEGORIES:Gymnasium
END:VEVENT
BEGIN:VEVENT
DTSTART;TZID=America/New_York:20260306T100000
DTEND;TZID=America/New_York:20260306T110000
DTSTAMP:20260420T061832
CREATED:20250926T214748Z
LAST-MODIFIED:20260305T203911Z
UID:10004641-1772791200-1772794800@www.ashlandy.org
SUMMARY:SilverSneakers
DESCRIPTION:
URL:https://www.ashlandy.org/event/silversneakers-506/
LOCATION:Gymnasium- 2 courts
CATEGORIES:Gymnasium
END:VEVENT
BEGIN:VEVENT
DTSTART;TZID=America/New_York:20260307T080000
DTEND;TZID=America/New_York:20260328T160000
DTSTAMP:20260420T061832
CREATED:20251126T202448Z
LAST-MODIFIED:20260124T164209Z
UID:10005192-1772870400-1774713600@www.ashlandy.org
SUMMARY:Cavs BBall League
DESCRIPTION:
URL:https://www.ashlandy.org/event/cavs-bball-league-10/
LOCATION:both courts
CATEGORIES:Gymnasium
END:VEVENT
BEGIN:VEVENT
DTSTART;TZID=America/New_York:20260308T110000
DTEND;TZID=America/New_York:20260510T170000
DTSTAMP:20260420T061832
CREATED:20251212T121734Z
LAST-MODIFIED:20260115T121416Z
UID:10005289-1772967600-1778432400@www.ashlandy.org
SUMMARY:Rental: RAI League
DESCRIPTION:
URL:https://www.ashlandy.org/event/rental-rai-league-14/
LOCATION:both courts
CATEGORIES:Gymnasium
END:VEVENT
BEGIN:VEVENT
DTSTART;TZID=America/New_York:20260309T060000
DTEND;TZID=America/New_York:20260309T110000
DTSTAMP:20260420T061832
CREATED:20250926T214748Z
LAST-MODIFIED:20260308T220937Z
UID:10004642-1773036000-1773054000@www.ashlandy.org
SUMMARY:Pickle Ball
DESCRIPTION:
URL:https://www.ashlandy.org/event/pickle-ball-507/
LOCATION:Gymnasium- 1 court
CATEGORIES:Gymnasium
END:VEVENT
END:VCALENDAR