BEGIN:VCALENDAR
VERSION:2.0
PRODID:-//YMCA of Ashland, Ohio - ECPv6.5.0//NONSGML v1.0//EN
CALSCALE:GREGORIAN
METHOD:PUBLISH
X-ORIGINAL-URL:https://www.ashlandy.org
X-WR-CALDESC:Events for YMCA of Ashland, Ohio
REFRESH-INTERVAL;VALUE=DURATION:PT1H
X-Robots-Tag:noindex
X-PUBLISHED-TTL:PT1H
BEGIN:VTIMEZONE
TZID:America/New_York
BEGIN:DAYLIGHT
TZOFFSETFROM:-0500
TZOFFSETTO:-0400
TZNAME:EDT
DTSTART:20250309T070000
END:DAYLIGHT
BEGIN:STANDARD
TZOFFSETFROM:-0400
TZOFFSETTO:-0500
TZNAME:EST
DTSTART:20251102T060000
END:STANDARD
BEGIN:DAYLIGHT
TZOFFSETFROM:-0500
TZOFFSETTO:-0400
TZNAME:EDT
DTSTART:20260308T070000
END:DAYLIGHT
BEGIN:STANDARD
TZOFFSETFROM:-0400
TZOFFSETTO:-0500
TZNAME:EST
DTSTART:20261101T060000
END:STANDARD
END:VTIMEZONE
BEGIN:VEVENT
DTSTART;TZID=America/New_York:20251207T110000
DTEND;TZID=America/New_York:20260208T170000
DTSTAMP:20260420T103321
CREATED:20251110T121345Z
LAST-MODIFIED:20260115T120940Z
UID:10004992-1765105200-1770570000@www.ashlandy.org
SUMMARY:Rental: RAI League
DESCRIPTION:
URL:https://www.ashlandy.org/event/rental-rai-league/
LOCATION:both courts
CATEGORIES:Gymnasium
END:VEVENT
BEGIN:VEVENT
DTSTART;TZID=America/New_York:20251214T110000
DTEND;TZID=America/New_York:20260215T170000
DTSTAMP:20260420T103321
CREATED:20251110T121856Z
LAST-MODIFIED:20260115T121118Z
UID:10005075-1765710000-1771174800@www.ashlandy.org
SUMMARY:Rental: RAI League
DESCRIPTION:
URL:https://www.ashlandy.org/event/rental-rai-league-8/
LOCATION:both courts
CATEGORIES:Gymnasium
END:VEVENT
BEGIN:VEVENT
DTSTART;TZID=America/New_York:20251221T110000
DTEND;TZID=America/New_York:20260222T170000
DTSTAMP:20260420T103321
CREATED:20251110T121855Z
LAST-MODIFIED:20260115T121118Z
UID:10005074-1766314800-1771779600@www.ashlandy.org
SUMMARY:Rental: RAI League
DESCRIPTION:
URL:https://www.ashlandy.org/event/rental-rai-league-7/
LOCATION:both courts
CATEGORIES:Gymnasium
END:VEVENT
BEGIN:VEVENT
DTSTART;TZID=America/New_York:20251228T110000
DTEND;TZID=America/New_York:20260301T170000
DTSTAMP:20260420T103321
CREATED:20251110T121855Z
LAST-MODIFIED:20260115T121117Z
UID:10005073-1766919600-1772384400@www.ashlandy.org
SUMMARY:Rental: RAI League
DESCRIPTION:
URL:https://www.ashlandy.org/event/rental-rai-league-6/
LOCATION:both courts
CATEGORIES:Gymnasium
END:VEVENT
BEGIN:VEVENT
DTSTART;TZID=America/New_York:20260103T080000
DTEND;TZID=America/New_York:20260124T160000
DTSTAMP:20260420T103321
CREATED:20251110T121838Z
LAST-MODIFIED:20260124T163915Z
UID:10005072-1767427200-1769270400@www.ashlandy.org
SUMMARY:Cavs BBall League
DESCRIPTION:
URL:https://www.ashlandy.org/event/cavs-bball-league-3/
LOCATION:both courts
CATEGORIES:Gymnasium
END:VEVENT
BEGIN:VEVENT
DTSTART;TZID=America/New_York:20260104T110000
DTEND;TZID=America/New_York:20260308T170000
DTSTAMP:20260420T103321
CREATED:20251110T121838Z
LAST-MODIFIED:20260115T121132Z
UID:10005071-1767524400-1772989200@www.ashlandy.org
SUMMARY:Rental: RAI League
DESCRIPTION:
URL:https://www.ashlandy.org/event/rental-rai-league-5/
LOCATION:both courts
CATEGORIES:Gymnasium
END:VEVENT
BEGIN:VEVENT
DTSTART;TZID=America/New_York:20260106T060000
DTEND;TZID=America/New_York:20260106T110000
DTSTAMP:20260420T103321
CREATED:20250728T234720Z
LAST-MODIFIED:20260105T230940Z
UID:10004223-1767679200-1767697200@www.ashlandy.org
SUMMARY:Pickle Ball
DESCRIPTION:
URL:https://www.ashlandy.org/event/pickle-ball-463/
LOCATION:Gymnasium- 1 court
CATEGORIES:Gymnasium
END:VEVENT
BEGIN:VEVENT
DTSTART;TZID=America/New_York:20260106T100000
DTEND;TZID=America/New_York:20260106T110000
DTSTAMP:20260420T103321
CREATED:20250730T084717Z
LAST-MODIFIED:20260105T230939Z
UID:10004231-1767693600-1767697200@www.ashlandy.org
SUMMARY:SilverSneakers
DESCRIPTION:
URL:https://www.ashlandy.org/event/silversneakers-463/
LOCATION:Gymnasium- 2 courts
CATEGORIES:Gymnasium
END:VEVENT
BEGIN:VEVENT
DTSTART;TZID=America/New_York:20260106T130000
DTEND;TZID=America/New_York:20260106T150000
DTSTAMP:20260420T103321
CREATED:20250730T084718Z
LAST-MODIFIED:20260105T230939Z
UID:10004232-1767704400-1767711600@www.ashlandy.org
SUMMARY:Pickleball
DESCRIPTION:
URL:https://www.ashlandy.org/event/pickleball-185/
LOCATION:Gymnasium- 1 court
CATEGORIES:Gymnasium
END:VEVENT
BEGIN:VEVENT
DTSTART;TZID=America/New_York:20260106T154500
DTEND;TZID=America/New_York:20260106T190500
DTSTAMP:20260420T103321
CREATED:20251110T121629Z
LAST-MODIFIED:20260106T233938Z
UID:10005035-1767714300-1767726300@www.ashlandy.org
SUMMARY:Court 2:Cavs BBall Practice
DESCRIPTION:
URL:https://www.ashlandy.org/event/court-2cavs-bball-practice-8/
LOCATION:Court 2
CATEGORIES:Gymnasium
END:VEVENT
BEGIN:VEVENT
DTSTART;TZID=America/New_York:20260106T164500
DTEND;TZID=America/New_York:20260106T191000
DTSTAMP:20260420T103321
CREATED:20251110T121630Z
LAST-MODIFIED:20260106T233937Z
UID:10005036-1767717900-1767726600@www.ashlandy.org
SUMMARY:Court 1:Cavs BBall Practices
DESCRIPTION:
URL:https://www.ashlandy.org/event/court-1cavs-bball-practices-8/
LOCATION:Court 1
CATEGORIES:Gymnasium
END:VEVENT
END:VCALENDAR