BEGIN:VCALENDAR
VERSION:2.0
PRODID:-//YMCA of Ashland, Ohio - ECPv6.5.0//NONSGML v1.0//EN
CALSCALE:GREGORIAN
METHOD:PUBLISH
X-ORIGINAL-URL:https://www.ashlandy.org
X-WR-CALDESC:Events for YMCA of Ashland, Ohio
REFRESH-INTERVAL;VALUE=DURATION:PT1H
X-Robots-Tag:noindex
X-PUBLISHED-TTL:PT1H
BEGIN:VTIMEZONE
TZID:America/New_York
BEGIN:DAYLIGHT
TZOFFSETFROM:-0500
TZOFFSETTO:-0400
TZNAME:EDT
DTSTART:20250309T070000
END:DAYLIGHT
BEGIN:STANDARD
TZOFFSETFROM:-0400
TZOFFSETTO:-0500
TZNAME:EST
DTSTART:20251102T060000
END:STANDARD
BEGIN:DAYLIGHT
TZOFFSETFROM:-0500
TZOFFSETTO:-0400
TZNAME:EDT
DTSTART:20260308T070000
END:DAYLIGHT
BEGIN:STANDARD
TZOFFSETFROM:-0400
TZOFFSETTO:-0500
TZNAME:EST
DTSTART:20261101T060000
END:STANDARD
END:VTIMEZONE
BEGIN:VEVENT
DTSTART;TZID=America/New_York:20251207T110000
DTEND;TZID=America/New_York:20260208T170000
DTSTAMP:20260420T103401
CREATED:20251110T121345Z
LAST-MODIFIED:20260115T120940Z
UID:10004992-1765105200-1770570000@www.ashlandy.org
SUMMARY:Rental: RAI League
DESCRIPTION:
URL:https://www.ashlandy.org/event/rental-rai-league/
LOCATION:both courts
CATEGORIES:Gymnasium
END:VEVENT
BEGIN:VEVENT
DTSTART;TZID=America/New_York:20251214T110000
DTEND;TZID=America/New_York:20260215T170000
DTSTAMP:20260420T103401
CREATED:20251110T121856Z
LAST-MODIFIED:20260115T121118Z
UID:10005075-1765710000-1771174800@www.ashlandy.org
SUMMARY:Rental: RAI League
DESCRIPTION:
URL:https://www.ashlandy.org/event/rental-rai-league-8/
LOCATION:both courts
CATEGORIES:Gymnasium
END:VEVENT
BEGIN:VEVENT
DTSTART;TZID=America/New_York:20251221T110000
DTEND;TZID=America/New_York:20260222T170000
DTSTAMP:20260420T103401
CREATED:20251110T121855Z
LAST-MODIFIED:20260115T121118Z
UID:10005074-1766314800-1771779600@www.ashlandy.org
SUMMARY:Rental: RAI League
DESCRIPTION:
URL:https://www.ashlandy.org/event/rental-rai-league-7/
LOCATION:both courts
CATEGORIES:Gymnasium
END:VEVENT
BEGIN:VEVENT
DTSTART;TZID=America/New_York:20251228T110000
DTEND;TZID=America/New_York:20260301T170000
DTSTAMP:20260420T103401
CREATED:20251110T121855Z
LAST-MODIFIED:20260115T121117Z
UID:10005073-1766919600-1772384400@www.ashlandy.org
SUMMARY:Rental: RAI League
DESCRIPTION:
URL:https://www.ashlandy.org/event/rental-rai-league-6/
LOCATION:both courts
CATEGORIES:Gymnasium
END:VEVENT
BEGIN:VEVENT
DTSTART;TZID=America/New_York:20260104T110000
DTEND;TZID=America/New_York:20260308T170000
DTSTAMP:20260420T103401
CREATED:20251110T121838Z
LAST-MODIFIED:20260115T121132Z
UID:10005071-1767524400-1772989200@www.ashlandy.org
SUMMARY:Rental: RAI League
DESCRIPTION:
URL:https://www.ashlandy.org/event/rental-rai-league-5/
LOCATION:both courts
CATEGORIES:Gymnasium
END:VEVENT
BEGIN:VEVENT
DTSTART;TZID=America/New_York:20260110T080000
DTEND;TZID=America/New_York:20260131T160000
DTSTAMP:20260420T103401
CREATED:20251110T121652Z
LAST-MODIFIED:20260124T163932Z
UID:10005044-1768032000-1769875200@www.ashlandy.org
SUMMARY:Cavs BBall League
DESCRIPTION:
URL:https://www.ashlandy.org/event/cavs-bball-league/
LOCATION:both courts
CATEGORIES:Gymnasium
END:VEVENT
BEGIN:VEVENT
DTSTART;TZID=America/New_York:20260111T110000
DTEND;TZID=America/New_York:20260315T170000
DTSTAMP:20260420T103401
CREATED:20251110T121837Z
LAST-MODIFIED:20260115T121313Z
UID:10005069-1768129200-1773594000@www.ashlandy.org
SUMMARY:Rental: RAI League
DESCRIPTION:
URL:https://www.ashlandy.org/event/rental-rai-league-4/
LOCATION:both courts
CATEGORIES:Gymnasium
END:VEVENT
BEGIN:VEVENT
DTSTART;TZID=America/New_York:20260117T080000
DTEND;TZID=America/New_York:20260207T160000
DTSTAMP:20260420T103401
CREATED:20251110T121752Z
LAST-MODIFIED:20260124T163935Z
UID:10005056-1768636800-1770480000@www.ashlandy.org
SUMMARY:Cavs BBall League
DESCRIPTION:
URL:https://www.ashlandy.org/event/cavs-bball-league-2/
LOCATION:both courts
CATEGORIES:Gymnasium
END:VEVENT
BEGIN:VEVENT
DTSTART;TZID=America/New_York:20260118T110000
DTEND;TZID=America/New_York:20260322T170000
DTSTAMP:20260420T103401
CREATED:20251110T121835Z
LAST-MODIFIED:20260115T121313Z
UID:10005067-1768734000-1774198800@www.ashlandy.org
SUMMARY:Rental: RAI League
DESCRIPTION:
URL:https://www.ashlandy.org/event/rental-rai-league-3/
LOCATION:both courts
CATEGORIES:Gymnasium
END:VEVENT
BEGIN:VEVENT
DTSTART;TZID=America/New_York:20260124T080000
DTEND;TZID=America/New_York:20260214T160000
DTSTAMP:20260420T103401
CREATED:20251111T124718Z
LAST-MODIFIED:20260124T163951Z
UID:10005081-1769241600-1771084800@www.ashlandy.org
SUMMARY:Cavs BBall League
DESCRIPTION:
URL:https://www.ashlandy.org/event/cavs-bball-league-4/
LOCATION:both courts
CATEGORIES:Gymnasium
END:VEVENT
BEGIN:VEVENT
DTSTART;TZID=America/New_York:20260125T110000
DTEND;TZID=America/New_York:20260329T170000
DTSTAMP:20260420T103401
CREATED:20251110T121835Z
LAST-MODIFIED:20260115T121418Z
UID:10005066-1769338800-1774803600@www.ashlandy.org
SUMMARY:Rental: RAI League
DESCRIPTION:
URL:https://www.ashlandy.org/event/rental-rai-league-2/
LOCATION:both courts
CATEGORIES:Gymnasium
END:VEVENT
BEGIN:VEVENT
DTSTART;TZID=America/New_York:20260128T060000
DTEND;TZID=America/New_York:20260128T110000
DTSTAMP:20260420T103401
CREATED:20250820T191802Z
LAST-MODIFIED:20260127T180938Z
UID:10004378-1769580000-1769598000@www.ashlandy.org
SUMMARY:Pickle Ball
DESCRIPTION:
URL:https://www.ashlandy.org/event/pickle-ball-479/
LOCATION:Gymnasium- 1 court
CATEGORIES:Gymnasium
END:VEVENT
BEGIN:VEVENT
DTSTART;TZID=America/New_York:20260128T100000
DTEND;TZID=America/New_York:20260128T110000
DTSTAMP:20260420T103401
CREATED:20250820T191803Z
LAST-MODIFIED:20260127T180939Z
UID:10004379-1769594400-1769598000@www.ashlandy.org
SUMMARY:SilverSneakers
DESCRIPTION:
URL:https://www.ashlandy.org/event/silversneakers-479/
LOCATION:Gymnasium- 2 courts
CATEGORIES:Gymnasium
END:VEVENT
BEGIN:VEVENT
DTSTART;TZID=America/New_York:20260128T170000
DTEND;TZID=America/New_York:20260128T180000
DTSTAMP:20260420T103401
CREATED:20260128T183911Z
LAST-MODIFIED:20260128T183911Z
UID:10005734-1769619600-1769623200@www.ashlandy.org
SUMMARY:Basketball Practice: M.Cain (Court 1)
DESCRIPTION:
URL:https://www.ashlandy.org/event/basketball-practice-m-cain-court-1/
CATEGORIES:Gymnasium
END:VEVENT
BEGIN:VEVENT
DTSTART;TZID=America/New_York:20260128T190000
DTEND;TZID=America/New_York:20260128T210000
DTSTAMP:20260420T103401
CREATED:20250820T191804Z
LAST-MODIFIED:20251109T114410Z
UID:10004380-1769626800-1769634000@www.ashlandy.org
SUMMARY:Private Pickleball
DESCRIPTION:
URL:https://www.ashlandy.org/event/private-pickleball-96/
LOCATION:Gymnasium-1 court
CATEGORIES:Gymnasium
END:VEVENT
BEGIN:VEVENT
DTSTART;TZID=America/New_York:20260128T191500
DTEND;TZID=America/New_York:20260128T211500
DTSTAMP:20260420T103401
CREATED:20251110T121837Z
LAST-MODIFIED:20260128T183912Z
UID:10005070-1769627700-1769634900@www.ashlandy.org
SUMMARY:Private Pickleball
DESCRIPTION:
URL:https://www.ashlandy.org/event/private-pickleball-117/
LOCATION:Gymnasium-1 court
CATEGORIES:Gymnasium
END:VEVENT
END:VCALENDAR