BEGIN:VCALENDAR
VERSION:2.0
PRODID:-//YMCA of Ashland, Ohio - ECPv6.5.0//NONSGML v1.0//EN
CALSCALE:GREGORIAN
METHOD:PUBLISH
X-ORIGINAL-URL:https://www.ashlandy.org
X-WR-CALDESC:Events for YMCA of Ashland, Ohio
REFRESH-INTERVAL;VALUE=DURATION:PT1H
X-Robots-Tag:noindex
X-PUBLISHED-TTL:PT1H
BEGIN:VTIMEZONE
TZID:America/New_York
BEGIN:DAYLIGHT
TZOFFSETFROM:-0500
TZOFFSETTO:-0400
TZNAME:EDT
DTSTART:20260308T070000
END:DAYLIGHT
BEGIN:STANDARD
TZOFFSETFROM:-0400
TZOFFSETTO:-0500
TZNAME:EST
DTSTART:20261101T060000
END:STANDARD
END:VTIMEZONE
BEGIN:VEVENT
DTSTART;TZID=America/New_York:20260111T110000
DTEND;TZID=America/New_York:20260315T170000
DTSTAMP:20260420T075357
CREATED:20251110T121837Z
LAST-MODIFIED:20260115T121313Z
UID:10005069-1768129200-1773594000@www.ashlandy.org
SUMMARY:Rental: RAI League
DESCRIPTION:
URL:https://www.ashlandy.org/event/rental-rai-league-4/
LOCATION:both courts
CATEGORIES:Gymnasium
END:VEVENT
BEGIN:VEVENT
DTSTART;TZID=America/New_York:20260118T110000
DTEND;TZID=America/New_York:20260322T170000
DTSTAMP:20260420T075357
CREATED:20251110T121835Z
LAST-MODIFIED:20260115T121313Z
UID:10005067-1768734000-1774198800@www.ashlandy.org
SUMMARY:Rental: RAI League
DESCRIPTION:
URL:https://www.ashlandy.org/event/rental-rai-league-3/
LOCATION:both courts
CATEGORIES:Gymnasium
END:VEVENT
BEGIN:VEVENT
DTSTART;TZID=America/New_York:20260125T110000
DTEND;TZID=America/New_York:20260329T170000
DTSTAMP:20260420T075357
CREATED:20251110T121835Z
LAST-MODIFIED:20260115T121418Z
UID:10005066-1769338800-1774803600@www.ashlandy.org
SUMMARY:Rental: RAI League
DESCRIPTION:
URL:https://www.ashlandy.org/event/rental-rai-league-2/
LOCATION:both courts
CATEGORIES:Gymnasium
END:VEVENT
BEGIN:VEVENT
DTSTART;TZID=America/New_York:20260201T110000
DTEND;TZID=America/New_York:20260405T170000
DTSTAMP:20260420T075357
CREATED:20251116T151651Z
LAST-MODIFIED:20260115T121450Z
UID:10005117-1769943600-1775408400@www.ashlandy.org
SUMMARY:Rental: RAI League
DESCRIPTION:
URL:https://www.ashlandy.org/event/rental-rai-league-9/
LOCATION:both courts
CATEGORIES:Gymnasium
END:VEVENT
BEGIN:VEVENT
DTSTART;TZID=America/New_York:20260208T110000
DTEND;TZID=America/New_York:20260412T170000
DTSTAMP:20260420T075357
CREATED:20251121T174618Z
LAST-MODIFIED:20260115T121509Z
UID:10005163-1770548400-1776013200@www.ashlandy.org
SUMMARY:Rental: RAI League
DESCRIPTION:
URL:https://www.ashlandy.org/event/rental-rai-league-10/
LOCATION:both courts
CATEGORIES:Gymnasium
END:VEVENT
BEGIN:VEVENT
DTSTART;TZID=America/New_York:20260215T110000
DTEND;TZID=America/New_York:20260419T170000
DTSTAMP:20260420T075357
CREATED:20251211T114527Z
LAST-MODIFIED:20260115T121402Z
UID:10005277-1771153200-1776618000@www.ashlandy.org
SUMMARY:Rental: RAI League
DESCRIPTION:
URL:https://www.ashlandy.org/event/rental-rai-league-11/
LOCATION:both courts
CATEGORIES:Gymnasium
END:VEVENT
BEGIN:VEVENT
DTSTART;TZID=America/New_York:20260221T080000
DTEND;TZID=America/New_York:20260314T160000
DTSTAMP:20260420T075357
CREATED:20251125T194837Z
LAST-MODIFIED:20260124T164117Z
UID:10005185-1771660800-1773504000@www.ashlandy.org
SUMMARY:Cavs BBall League
DESCRIPTION:
URL:https://www.ashlandy.org/event/cavs-bball-league-8/
LOCATION:both courts
CATEGORIES:Gymnasium
END:VEVENT
BEGIN:VEVENT
DTSTART;TZID=America/New_York:20260222T110000
DTEND;TZID=America/New_York:20260426T170000
DTSTAMP:20260420T075357
CREATED:20251212T121627Z
LAST-MODIFIED:20260115T121418Z
UID:10005287-1771758000-1777222800@www.ashlandy.org
SUMMARY:Rental: RAI League
DESCRIPTION:
URL:https://www.ashlandy.org/event/rental-rai-league-12/
LOCATION:both courts
CATEGORIES:Gymnasium
END:VEVENT
BEGIN:VEVENT
DTSTART;TZID=America/New_York:20260228T080000
DTEND;TZID=America/New_York:20260321T160000
DTSTAMP:20260420T075357
CREATED:20251126T202514Z
LAST-MODIFIED:20260124T164225Z
UID:10005193-1772265600-1774108800@www.ashlandy.org
SUMMARY:Cavs BBall League
DESCRIPTION:
URL:https://www.ashlandy.org/event/cavs-bball-league-11/
LOCATION:both courts
CATEGORIES:Gymnasium
END:VEVENT
BEGIN:VEVENT
DTSTART;TZID=America/New_York:20260301T110000
DTEND;TZID=America/New_York:20260503T170000
DTSTAMP:20260420T075357
CREATED:20251212T121731Z
LAST-MODIFIED:20260115T121416Z
UID:10005288-1772362800-1777827600@www.ashlandy.org
SUMMARY:Rental: RAI League
DESCRIPTION:
URL:https://www.ashlandy.org/event/rental-rai-league-13/
LOCATION:both courts
CATEGORIES:Gymnasium
END:VEVENT
BEGIN:VEVENT
DTSTART;TZID=America/New_York:20260307T080000
DTEND;TZID=America/New_York:20260328T160000
DTSTAMP:20260420T075357
CREATED:20251126T202448Z
LAST-MODIFIED:20260124T164209Z
UID:10005192-1772870400-1774713600@www.ashlandy.org
SUMMARY:Cavs BBall League
DESCRIPTION:
URL:https://www.ashlandy.org/event/cavs-bball-league-10/
LOCATION:both courts
CATEGORIES:Gymnasium
END:VEVENT
BEGIN:VEVENT
DTSTART;TZID=America/New_York:20260308T110000
DTEND;TZID=America/New_York:20260510T170000
DTSTAMP:20260420T075357
CREATED:20251212T121734Z
LAST-MODIFIED:20260115T121416Z
UID:10005289-1772967600-1778432400@www.ashlandy.org
SUMMARY:Rental: RAI League
DESCRIPTION:
URL:https://www.ashlandy.org/event/rental-rai-league-14/
LOCATION:both courts
CATEGORIES:Gymnasium
END:VEVENT
BEGIN:VEVENT
DTSTART;TZID=America/New_York:20260311T060000
DTEND;TZID=America/New_York:20260311T110000
DTSTAMP:20260420T075357
CREATED:20251002T084757Z
LAST-MODIFIED:20260310T230936Z
UID:10004670-1773208800-1773226800@www.ashlandy.org
SUMMARY:Pickle Ball
DESCRIPTION:
URL:https://www.ashlandy.org/event/pickle-ball-509/
LOCATION:Gymnasium- 1 court
CATEGORIES:Gymnasium
END:VEVENT
BEGIN:VEVENT
DTSTART;TZID=America/New_York:20260311T100000
DTEND;TZID=America/New_York:20260311T110000
DTSTAMP:20260420T075357
CREATED:20250930T234738Z
LAST-MODIFIED:20260310T230936Z
UID:10004663-1773223200-1773226800@www.ashlandy.org
SUMMARY:SilverSneakers
DESCRIPTION:
URL:https://www.ashlandy.org/event/silversneakers-509/
LOCATION:Gymnasium- 2 courts
CATEGORIES:Gymnasium
END:VEVENT
BEGIN:VEVENT
DTSTART;TZID=America/New_York:20260311T163000
DTEND;TZID=America/New_York:20260311T210000
DTSTAMP:20260420T075357
CREATED:20260302T190954Z
LAST-MODIFIED:20260303T193957Z
UID:10005980-1773246600-1773262800@www.ashlandy.org
SUMMARY:3v3 basketball
DESCRIPTION:
URL:https://www.ashlandy.org/event/3v3-basketball-4/
LOCATION:both courts
CATEGORIES:Gymnasium
END:VEVENT
BEGIN:VEVENT
DTSTART;TZID=America/New_York:20260311T190000
DTEND;TZID=America/New_York:20260311T210000
DTSTAMP:20260420T075357
CREATED:20251002T084759Z
LAST-MODIFIED:20251109T114629Z
UID:10004671-1773255600-1773262800@www.ashlandy.org
SUMMARY:Private Pickleball
DESCRIPTION:
URL:https://www.ashlandy.org/event/private-pickleball-102/
LOCATION:Gymnasium-1 court
CATEGORIES:Gymnasium
END:VEVENT
BEGIN:VEVENT
DTSTART;TZID=America/New_York:20260311T191500
DTEND;TZID=America/New_York:20260311T211500
DTSTAMP:20260420T075357
CREATED:20251201T224642Z
LAST-MODIFIED:20260311T233935Z
UID:10005219-1773256500-1773263700@www.ashlandy.org
SUMMARY:Private Pickleball
DESCRIPTION:
URL:https://www.ashlandy.org/event/private-pickleball-123/
LOCATION:Gymnasium-1 court
CATEGORIES:Gymnasium
END:VEVENT
END:VCALENDAR