BEGIN:VCALENDAR
VERSION:2.0
PRODID:-//YMCA of Ashland, Ohio - ECPv6.5.0//NONSGML v1.0//EN
CALSCALE:GREGORIAN
METHOD:PUBLISH
X-ORIGINAL-URL:https://www.ashlandy.org
X-WR-CALDESC:Events for YMCA of Ashland, Ohio
REFRESH-INTERVAL;VALUE=DURATION:PT1H
X-Robots-Tag:noindex
X-PUBLISHED-TTL:PT1H
BEGIN:VTIMEZONE
TZID:America/New_York
BEGIN:DAYLIGHT
TZOFFSETFROM:-0500
TZOFFSETTO:-0400
TZNAME:EDT
DTSTART:20260308T070000
END:DAYLIGHT
BEGIN:STANDARD
TZOFFSETFROM:-0400
TZOFFSETTO:-0500
TZNAME:EST
DTSTART:20261101T060000
END:STANDARD
END:VTIMEZONE
BEGIN:VEVENT
DTSTART;TZID=America/New_York:20260222T110000
DTEND;TZID=America/New_York:20260426T170000
DTSTAMP:20260420T020732
CREATED:20251212T121627Z
LAST-MODIFIED:20260115T121418Z
UID:10005287-1771758000-1777222800@www.ashlandy.org
SUMMARY:Rental: RAI League
DESCRIPTION:
URL:https://www.ashlandy.org/event/rental-rai-league-12/
LOCATION:both courts
CATEGORIES:Gymnasium
END:VEVENT
BEGIN:VEVENT
DTSTART;TZID=America/New_York:20260301T110000
DTEND;TZID=America/New_York:20260503T170000
DTSTAMP:20260420T020732
CREATED:20251212T121731Z
LAST-MODIFIED:20260115T121416Z
UID:10005288-1772362800-1777827600@www.ashlandy.org
SUMMARY:Rental: RAI League
DESCRIPTION:
URL:https://www.ashlandy.org/event/rental-rai-league-13/
LOCATION:both courts
CATEGORIES:Gymnasium
END:VEVENT
BEGIN:VEVENT
DTSTART;TZID=America/New_York:20260308T110000
DTEND;TZID=America/New_York:20260510T170000
DTSTAMP:20260420T020732
CREATED:20251212T121734Z
LAST-MODIFIED:20260115T121416Z
UID:10005289-1772967600-1778432400@www.ashlandy.org
SUMMARY:Rental: RAI League
DESCRIPTION:
URL:https://www.ashlandy.org/event/rental-rai-league-14/
LOCATION:both courts
CATEGORIES:Gymnasium
END:VEVENT
BEGIN:VEVENT
DTSTART;TZID=America/New_York:20260315T110000
DTEND;TZID=America/New_York:20260517T170000
DTSTAMP:20260420T020732
CREATED:20251212T121747Z
LAST-MODIFIED:20260115T121416Z
UID:10005290-1773572400-1779037200@www.ashlandy.org
SUMMARY:Rental: RAI League
DESCRIPTION:
URL:https://www.ashlandy.org/event/rental-rai-league-15/
LOCATION:both courts
CATEGORIES:Gymnasium
END:VEVENT
BEGIN:VEVENT
DTSTART;TZID=America/New_York:20260322T110000
DTEND;TZID=America/New_York:20260524T170000
DTSTAMP:20260420T020732
CREATED:20251212T121747Z
LAST-MODIFIED:20260115T121415Z
UID:10005291-1774177200-1779642000@www.ashlandy.org
SUMMARY:Rental: RAI League
DESCRIPTION:
URL:https://www.ashlandy.org/event/rental-rai-league-16/
LOCATION:both courts
CATEGORIES:Gymnasium
END:VEVENT
BEGIN:VEVENT
DTSTART;TZID=America/New_York:20260329T110000
DTEND;TZID=America/New_York:20260531T170000
DTSTAMP:20260420T020732
CREATED:20251212T121750Z
LAST-MODIFIED:20260115T121434Z
UID:10005292-1774782000-1780246800@www.ashlandy.org
SUMMARY:Rental: RAI League
DESCRIPTION:
URL:https://www.ashlandy.org/event/rental-rai-league-17/
LOCATION:both courts
CATEGORIES:Gymnasium
END:VEVENT
BEGIN:VEVENT
DTSTART;TZID=America/New_York:20260404T080000
DTEND;TZID=America/New_York:20260425T160000
DTSTAMP:20260420T020732
CREATED:20251215T134742Z
LAST-MODIFIED:20260124T164432Z
UID:10005305-1775289600-1777132800@www.ashlandy.org
SUMMARY:Cavs BBall League
DESCRIPTION:
URL:https://www.ashlandy.org/event/cavs-bball-league-14/
LOCATION:both courts
CATEGORIES:Gymnasium
END:VEVENT
BEGIN:VEVENT
DTSTART;TZID=America/New_York:20260405T110000
DTEND;TZID=America/New_York:20260607T170000
DTSTAMP:20260420T020732
CREATED:20251224T171740Z
LAST-MODIFIED:20260115T121716Z
UID:10005391-1775386800-1780851600@www.ashlandy.org
SUMMARY:Rental: RAI League
DESCRIPTION:
URL:https://www.ashlandy.org/event/rental-rai-league-19/
LOCATION:both courts
CATEGORIES:Gymnasium
END:VEVENT
BEGIN:VEVENT
DTSTART;TZID=America/New_York:20260411T080000
DTEND;TZID=America/New_York:20260502T160000
DTSTAMP:20260420T020732
CREATED:20251225T174623Z
LAST-MODIFIED:20260124T164448Z
UID:10005403-1775894400-1777737600@www.ashlandy.org
SUMMARY:Cavs BBall League
DESCRIPTION:
URL:https://www.ashlandy.org/event/cavs-bball-league-15/
LOCATION:both courts
CATEGORIES:Gymnasium
END:VEVENT
BEGIN:VEVENT
DTSTART;TZID=America/New_York:20260412T110000
DTEND;TZID=America/New_York:20260614T170000
DTSTAMP:20260420T020732
CREATED:20251225T174622Z
LAST-MODIFIED:20260113T111541Z
UID:10005402-1775991600-1781456400@www.ashlandy.org
SUMMARY:Rental: RAI League
DESCRIPTION:
URL:https://www.ashlandy.org/event/rental-rai-league-20/
LOCATION:both courts
CATEGORIES:Gymnasium
END:VEVENT
BEGIN:VEVENT
DTSTART;TZID=America/New_York:20260418T080000
DTEND;TZID=America/New_York:20260509T160000
DTSTAMP:20260420T020732
CREATED:20251225T174655Z
LAST-MODIFIED:20260124T164417Z
UID:10005405-1776499200-1778342400@www.ashlandy.org
SUMMARY:Cavs BBall League
DESCRIPTION:
URL:https://www.ashlandy.org/event/cavs-bball-league-16/
LOCATION:both courts
CATEGORIES:Gymnasium
END:VEVENT
BEGIN:VEVENT
DTSTART;TZID=America/New_York:20260419T110000
DTEND;TZID=America/New_York:20260621T170000
DTSTAMP:20260420T020732
CREATED:20251225T174657Z
LAST-MODIFIED:20260113T111612Z
UID:10005407-1776596400-1782061200@www.ashlandy.org
SUMMARY:Rental: RAI League
DESCRIPTION:
URL:https://www.ashlandy.org/event/rental-rai-league-21/
LOCATION:both courts
CATEGORIES:Gymnasium
END:VEVENT
BEGIN:VEVENT
DTSTART;TZID=America/New_York:20260420T060000
DTEND;TZID=America/New_York:20260420T110000
DTSTAMP:20260420T020732
CREATED:20251220T151731Z
LAST-MODIFIED:20260419T093936Z
UID:10005356-1776664800-1776682800@www.ashlandy.org
SUMMARY:Pickle Ball
DESCRIPTION:
URL:https://www.ashlandy.org/event/pickle-ball-537/
LOCATION:Gymnasium- 1 court
CATEGORIES:Gymnasium
END:VEVENT
BEGIN:VEVENT
DTSTART;TZID=America/New_York:20260420T100000
DTEND;TZID=America/New_York:20260420T110000
DTSTAMP:20260420T020732
CREATED:20251224T171814Z
LAST-MODIFIED:20260419T093937Z
UID:10005392-1776679200-1776682800@www.ashlandy.org
SUMMARY:SilverSneakers
DESCRIPTION:
URL:https://www.ashlandy.org/event/silversneakers-537/
LOCATION:Gymnasium- 2 courts
CATEGORIES:Gymnasium
END:VEVENT
BEGIN:VEVENT
DTSTART;TZID=America/New_York:20260421T060000
DTEND;TZID=America/New_York:20260421T110000
DTSTAMP:20260420T020732
CREATED:20251220T151743Z
LAST-MODIFIED:20260419T093938Z
UID:10005357-1776751200-1776769200@www.ashlandy.org
SUMMARY:Pickle Ball
DESCRIPTION:
URL:https://www.ashlandy.org/event/pickle-ball-538/
LOCATION:Gymnasium- 1 court
CATEGORIES:Gymnasium
END:VEVENT
BEGIN:VEVENT
DTSTART;TZID=America/New_York:20260421T100000
DTEND;TZID=America/New_York:20260421T110000
DTSTAMP:20260420T020732
CREATED:20251226T181754Z
LAST-MODIFIED:20260419T093937Z
UID:10005416-1776765600-1776769200@www.ashlandy.org
SUMMARY:SilverSneakers
DESCRIPTION:
URL:https://www.ashlandy.org/event/silversneakers-538/
LOCATION:Gymnasium- 2 courts
CATEGORIES:Gymnasium
END:VEVENT
BEGIN:VEVENT
DTSTART;TZID=America/New_York:20260421T130000
DTEND;TZID=America/New_York:20260421T150000
DTSTAMP:20260420T020732
CREATED:20251226T181755Z
LAST-MODIFIED:20260419T093938Z
UID:10005417-1776776400-1776783600@www.ashlandy.org
SUMMARY:Pickleball
DESCRIPTION:
URL:https://www.ashlandy.org/event/pickleball-216/
LOCATION:Gymnasium- 1 court
CATEGORIES:Gymnasium
END:VEVENT
BEGIN:VEVENT
DTSTART;TZID=America/New_York:20260421T183000
DTEND;TZID=America/New_York:20260421T210000
DTSTAMP:20260420T020732
CREATED:20260414T230954Z
LAST-MODIFIED:20260419T093938Z
UID:10006294-1776796200-1776805200@www.ashlandy.org
SUMMARY:30+ Open Gym (Court 2 Closed)
DESCRIPTION:
URL:https://www.ashlandy.org/event/30-open-gym-court-2-closed-2/
CATEGORIES:Gymnasium
END:VEVENT
BEGIN:VEVENT
DTSTART;TZID=America/New_York:20260422T060000
DTEND;TZID=America/New_York:20260422T110000
DTSTAMP:20260420T020732
CREATED:20251220T151744Z
LAST-MODIFIED:20260419T093939Z
UID:10005358-1776837600-1776855600@www.ashlandy.org
SUMMARY:Pickle Ball
DESCRIPTION:
URL:https://www.ashlandy.org/event/pickle-ball-539/
LOCATION:Gymnasium- 1 court
CATEGORIES:Gymnasium
END:VEVENT
BEGIN:VEVENT
DTSTART;TZID=America/New_York:20260422T100000
DTEND;TZID=America/New_York:20260422T110000
DTSTAMP:20260420T020732
CREATED:20251226T181756Z
LAST-MODIFIED:20260419T093939Z
UID:10005418-1776852000-1776855600@www.ashlandy.org
SUMMARY:SilverSneakers
DESCRIPTION:
URL:https://www.ashlandy.org/event/silversneakers-539/
LOCATION:Gymnasium- 2 courts
CATEGORIES:Gymnasium
END:VEVENT
BEGIN:VEVENT
DTSTART;TZID=America/New_York:20260422T191500
DTEND;TZID=America/New_York:20260422T211500
DTSTAMP:20260420T020732
CREATED:20251220T151746Z
LAST-MODIFIED:20260419T093939Z
UID:10005360-1776885300-1776892500@www.ashlandy.org
SUMMARY:Private Pickleball
DESCRIPTION:
URL:https://www.ashlandy.org/event/private-pickleball-129/
LOCATION:Gymnasium-1 court
CATEGORIES:Gymnasium
END:VEVENT
BEGIN:VEVENT
DTSTART;TZID=America/New_York:20260423T060000
DTEND;TZID=America/New_York:20260423T110000
DTSTAMP:20260420T020732
CREATED:20251220T151747Z
LAST-MODIFIED:20260419T093953Z
UID:10005361-1776924000-1776942000@www.ashlandy.org
SUMMARY:Pickle Ball
DESCRIPTION:
URL:https://www.ashlandy.org/event/pickle-ball-540/
LOCATION:Gymnasium- 1 court
CATEGORIES:Gymnasium
END:VEVENT
BEGIN:VEVENT
DTSTART;TZID=America/New_York:20260423T100000
DTEND;TZID=America/New_York:20260423T110000
DTSTAMP:20260420T020732
CREATED:20251226T181809Z
LAST-MODIFIED:20260419T093940Z
UID:10005419-1776938400-1776942000@www.ashlandy.org
SUMMARY:SilverSneakers
DESCRIPTION:
URL:https://www.ashlandy.org/event/silversneakers-540/
LOCATION:Gymnasium- 2 courts
CATEGORIES:Gymnasium
END:VEVENT
BEGIN:VEVENT
DTSTART;TZID=America/New_York:20260423T130000
DTEND;TZID=America/New_York:20260423T150000
DTSTAMP:20260420T020732
CREATED:20251226T181810Z
LAST-MODIFIED:20260419T093953Z
UID:10005420-1776949200-1776956400@www.ashlandy.org
SUMMARY:Pickleball
DESCRIPTION:
URL:https://www.ashlandy.org/event/pickleball-217/
LOCATION:Gymnasium- 1 court
CATEGORIES:Gymnasium
END:VEVENT
BEGIN:VEVENT
DTSTART;TZID=America/New_York:20260424T060000
DTEND;TZID=America/New_York:20260424T110000
DTSTAMP:20260420T020732
CREATED:20251220T151748Z
LAST-MODIFIED:20260419T093954Z
UID:10005362-1777010400-1777028400@www.ashlandy.org
SUMMARY:Pickle Ball
DESCRIPTION:
URL:https://www.ashlandy.org/event/pickle-ball-541/
LOCATION:Gymnasium- 1 court
CATEGORIES:Gymnasium
END:VEVENT
BEGIN:VEVENT
DTSTART;TZID=America/New_York:20260424T100000
DTEND;TZID=America/New_York:20260424T110000
DTSTAMP:20260420T020732
CREATED:20251226T181811Z
LAST-MODIFIED:20260419T093954Z
UID:10005421-1777024800-1777028400@www.ashlandy.org
SUMMARY:SilverSneakers
DESCRIPTION:
URL:https://www.ashlandy.org/event/silversneakers-541/
LOCATION:Gymnasium- 2 courts
CATEGORIES:Gymnasium
END:VEVENT
BEGIN:VEVENT
DTSTART;TZID=America/New_York:20260425T080000
DTEND;TZID=America/New_York:20260516T160000
DTSTAMP:20260420T020732
CREATED:20251225T174719Z
LAST-MODIFIED:20260124T164446Z
UID:10005409-1777104000-1778947200@www.ashlandy.org
SUMMARY:Cavs BBall League
DESCRIPTION:
URL:https://www.ashlandy.org/event/cavs-bball-league-18/
LOCATION:both courts
CATEGORIES:Gymnasium
END:VEVENT
BEGIN:VEVENT
DTSTART;TZID=America/New_York:20260426T110000
DTEND;TZID=America/New_York:20260628T170000
DTSTAMP:20260420T020732
CREATED:20251225T174714Z
LAST-MODIFIED:20260110T094739Z
UID:10005408-1777201200-1782666000@www.ashlandy.org
SUMMARY:Rental: RAI League
DESCRIPTION:
URL:https://www.ashlandy.org/event/rental-rai-league-22/
LOCATION:both courts
CATEGORIES:Gymnasium
END:VEVENT
BEGIN:VEVENT
DTSTART;TZID=America/New_York:20260427T060000
DTEND;TZID=America/New_York:20260427T110000
DTSTAMP:20260420T020732
CREATED:20251225T174654Z
LAST-MODIFIED:20260419T093955Z
UID:10005404-1777269600-1777287600@www.ashlandy.org
SUMMARY:Pickle Ball
DESCRIPTION:
URL:https://www.ashlandy.org/event/pickle-ball-542/
LOCATION:Gymnasium- 1 court
CATEGORIES:Gymnasium
END:VEVENT
BEGIN:VEVENT
DTSTART;TZID=America/New_York:20260427T100000
DTEND;TZID=America/New_York:20260427T110000
DTSTAMP:20260420T020732
CREATED:20251226T181812Z
LAST-MODIFIED:20260419T093954Z
UID:10005422-1777284000-1777287600@www.ashlandy.org
SUMMARY:SilverSneakers
DESCRIPTION:
URL:https://www.ashlandy.org/event/silversneakers-542/
LOCATION:Gymnasium- 2 courts
CATEGORIES:Gymnasium
END:VEVENT
END:VCALENDAR