BEGIN:VCALENDAR
VERSION:2.0
PRODID:-//YMCA of Ashland, Ohio - ECPv6.5.0//NONSGML v1.0//EN
CALSCALE:GREGORIAN
METHOD:PUBLISH
X-ORIGINAL-URL:https://www.ashlandy.org
X-WR-CALDESC:Events for YMCA of Ashland, Ohio
REFRESH-INTERVAL;VALUE=DURATION:PT1H
X-Robots-Tag:noindex
X-PUBLISHED-TTL:PT1H
BEGIN:VTIMEZONE
TZID:America/New_York
BEGIN:DAYLIGHT
TZOFFSETFROM:-0500
TZOFFSETTO:-0400
TZNAME:EDT
DTSTART:20260308T070000
END:DAYLIGHT
BEGIN:STANDARD
TZOFFSETFROM:-0400
TZOFFSETTO:-0500
TZNAME:EST
DTSTART:20261101T060000
END:STANDARD
END:VTIMEZONE
BEGIN:VEVENT
DTSTART;TZID=America/New_York:20260623T100000
DTEND;TZID=America/New_York:20260623T110000
DTSTAMP:20260423T174051
CREATED:20260125T171720Z
LAST-MODIFIED:20260423T114258Z
UID:10005704-1782208800-1782212400@www.ashlandy.org
SUMMARY:SilverSneakers
DESCRIPTION:
URL:https://www.ashlandy.org/event/silversneakers-583/
LOCATION:Gymnasium- 2 courts
CATEGORIES:Gymnasium
END:VEVENT
BEGIN:VEVENT
DTSTART;TZID=America/New_York:20260623T100000
DTEND;TZID=America/New_York:20260623T110000
DTSTAMP:20260423T174051
CREATED:20260422T134816Z
LAST-MODIFIED:20260423T141741Z
UID:10006353-1782208800-1782212400@www.ashlandy.org
SUMMARY:SilverSneakers Circuit
DESCRIPTION:Instructor: Sherry \nClass Description: SilverSneakers Circuit offers standing low-impact moves that alternate with standing upper-body strength. The class can be adapted for all fitness levels.
URL:https://www.ashlandy.org/event/silversneakers-circuit-116/
LOCATION:Multi-Purpose Room
CATEGORIES:Group Ex-Schedule
END:VEVENT
BEGIN:VEVENT
DTSTART;TZID=America/New_York:20260623T130000
DTEND;TZID=America/New_York:20260623T150000
DTSTAMP:20260423T174051
CREATED:20260125T171734Z
LAST-MODIFIED:20260423T114258Z
UID:10005706-1782219600-1782226800@www.ashlandy.org
SUMMARY:Pickleball
DESCRIPTION:
URL:https://www.ashlandy.org/event/pickleball-234/
LOCATION:Gymnasium- 1 court
CATEGORIES:Gymnasium
END:VEVENT
BEGIN:VEVENT
DTSTART;TZID=America/New_York:20260623T181500
DTEND;TZID=America/New_York:20260623T190000
DTSTAMP:20260423T174051
CREATED:20260422T134818Z
LAST-MODIFIED:20260423T141753Z
UID:10006355-1782238500-1782241200@www.ashlandy.org
SUMMARY:LIGHTBAR Cycling
DESCRIPTION:Instructor: Shelly \nSpots: 19 \nDescription: Intervals\, rolling hills\, sprints\, climbs\, runs\, surges and jumps all to music hand-picked to motivate and inspire! This is a great workout if you want to burn calories and increase endurance
URL:https://www.ashlandy.org/event/lightbar-cycling-68/
LOCATION:Cycling Room
CATEGORIES:Group Ex-Schedule
END:VEVENT
BEGIN:VEVENT
DTSTART;TZID=America/New_York:20260623T183000
DTEND;TZID=America/New_York:20260623T210000
DTSTAMP:20260423T174051
CREATED:20260414T231321Z
LAST-MODIFIED:20260423T114259Z
UID:10006303-1782239400-1782248400@www.ashlandy.org
SUMMARY:30+ Open Gym (Court 2 Closed)
DESCRIPTION:
URL:https://www.ashlandy.org/event/30-open-gym-court-2-closed-11/
CATEGORIES:Gymnasium
END:VEVENT
BEGIN:VEVENT
DTSTART;TZID=America/New_York:20260624T051500
DTEND;TZID=America/New_York:20260624T060000
DTSTAMP:20260423T174051
CREATED:20260423T141754Z
LAST-MODIFIED:20260423T141754Z
UID:10006356-1782278100-1782280800@www.ashlandy.org
SUMMARY:Cycling
DESCRIPTION:Instructor: Terrence Webb
URL:https://www.ashlandy.org/event/cycling-252/
CATEGORIES:Group Ex-Schedule
END:VEVENT
BEGIN:VEVENT
DTSTART;TZID=America/New_York:20260624T060000
DTEND;TZID=America/New_York:20260624T110000
DTSTAMP:20260423T174051
CREATED:20260125T171736Z
LAST-MODIFIED:20260423T114259Z
UID:10005708-1782280800-1782298800@www.ashlandy.org
SUMMARY:Pickle Ball
DESCRIPTION:
URL:https://www.ashlandy.org/event/pickle-ball-584/
LOCATION:Gymnasium- 1 court
CATEGORIES:Gymnasium
END:VEVENT
BEGIN:VEVENT
DTSTART;TZID=America/New_York:20260624T060000
DTEND;TZID=America/New_York:20260624T110000
DTSTAMP:20260423T174051
CREATED:20260423T141756Z
LAST-MODIFIED:20260423T141756Z
UID:10006360-1782280800-1782298800@www.ashlandy.org
SUMMARY:PickleBall\, Gym Court 1
DESCRIPTION:
URL:https://www.ashlandy.org/event/pickleball-gym-court-1-611/
CATEGORIES:Group Ex-Schedule
END:VEVENT
BEGIN:VEVENT
DTSTART;TZID=America/New_York:20260624T083000
DTEND;TZID=America/New_York:20260624T090000
DTSTAMP:20260423T174051
CREATED:20260423T141754Z
LAST-MODIFIED:20260423T141754Z
UID:10006357-1782289800-1782291600@www.ashlandy.org
SUMMARY:Cycle Strong
DESCRIPTION:Instructor: Shelly \nSpots: 19 \nDescription: Intervals\, rolling hills\, sprints\, climbs\, runs\, surges and jumps all to music hand-picked to motivate and inspire! This is a great workout if you want to burn calories and increase endurance.
URL:https://www.ashlandy.org/event/cycle-strong-308/
LOCATION:Cycling Room
CATEGORIES:Group Ex-Schedule
END:VEVENT
BEGIN:VEVENT
DTSTART;TZID=America/New_York:20260624T091500
DTEND;TZID=America/New_York:20260624T094500
DTSTAMP:20260423T174051
CREATED:20260423T141755Z
LAST-MODIFIED:20260423T141755Z
UID:10006358-1782292500-1782294300@www.ashlandy.org
SUMMARY:Dance Fitness
DESCRIPTION:Instructor: Shelly \nDescription: A fun Aerobic workout for all fitness levels. It provides the ultimate fat burn with different intensities to motivating music.
URL:https://www.ashlandy.org/event/dance-fitness-128/
LOCATION:Multi-Purpose Room
CATEGORIES:Group Ex-Schedule
END:VEVENT
BEGIN:VEVENT
DTSTART;TZID=America/New_York:20260624T100000
DTEND;TZID=America/New_York:20260624T110000
DTSTAMP:20260423T174051
CREATED:20260125T171735Z
LAST-MODIFIED:20260423T114259Z
UID:10005707-1782295200-1782298800@www.ashlandy.org
SUMMARY:SilverSneakers
DESCRIPTION:
URL:https://www.ashlandy.org/event/silversneakers-584/
LOCATION:Gymnasium- 2 courts
CATEGORIES:Gymnasium
END:VEVENT
BEGIN:VEVENT
DTSTART;TZID=America/New_York:20260624T100000
DTEND;TZID=America/New_York:20260624T110000
DTSTAMP:20260423T174051
CREATED:20260423T141756Z
LAST-MODIFIED:20260423T141756Z
UID:10006359-1782295200-1782298800@www.ashlandy.org
SUMMARY:SilverSneakers Boom Mind
DESCRIPTION:Instructor: Louise  \nDescription: Fusion class designed to relax your body and mind. The focus is on core muscles\, lower-body strength\, and balance.
URL:https://www.ashlandy.org/event/silversneakers-boom-mind-118/
LOCATION:Multi-Purpose Room
CATEGORIES:Group Ex-Schedule
END:VEVENT
BEGIN:VEVENT
DTSTART;TZID=America/New_York:20260624T180000
DTEND;TZID=America/New_York:20260624T190000
DTSTAMP:20260423T174051
CREATED:20260423T141759Z
LAST-MODIFIED:20260423T141759Z
UID:10006361-1782324000-1782327600@www.ashlandy.org
SUMMARY:LIFT & HIIT
DESCRIPTION:Instructor: Josh Lambert
URL:https://www.ashlandy.org/event/lift-hiit-77/
LOCATION:Fitness Room
CATEGORIES:Group Ex-Schedule
END:VEVENT
BEGIN:VEVENT
DTSTART;TZID=America/New_York:20260624T191500
DTEND;TZID=America/New_York:20260624T211500
DTSTAMP:20260423T174051
CREATED:20260125T171737Z
LAST-MODIFIED:20260423T114300Z
UID:10005709-1782328500-1782335700@www.ashlandy.org
SUMMARY:Private Pickleball
DESCRIPTION:
URL:https://www.ashlandy.org/event/private-pickleball-138/
LOCATION:Gymnasium-1 court
CATEGORIES:Gymnasium
END:VEVENT
BEGIN:VEVENT
DTSTART;TZID=America/New_York:20260625T051500
DTEND;TZID=America/New_York:20260625T060000
DTSTAMP:20260423T174051
CREATED:20260423T141800Z
LAST-MODIFIED:20260423T141800Z
UID:10006362-1782364500-1782367200@www.ashlandy.org
SUMMARY:Cycling-w/Michelle McDonald
DESCRIPTION:First come. First served.
URL:https://www.ashlandy.org/event/cycling-w-michelle-mcdonald-234/
LOCATION:Cycling Room
CATEGORIES:Group Ex-Schedule
END:VEVENT
BEGIN:VEVENT
DTSTART;TZID=America/New_York:20260625T060000
DTEND;TZID=America/New_York:20260625T110000
DTSTAMP:20260423T174051
CREATED:20260125T171738Z
LAST-MODIFIED:20260423T114301Z
UID:10005711-1782367200-1782385200@www.ashlandy.org
SUMMARY:Pickle Ball
DESCRIPTION:
URL:https://www.ashlandy.org/event/pickle-ball-585/
LOCATION:Gymnasium- 1 court
CATEGORIES:Gymnasium
END:VEVENT
BEGIN:VEVENT
DTSTART;TZID=America/New_York:20260625T070000
DTEND;TZID=America/New_York:20260625T080000
DTSTAMP:20260423T174051
CREATED:20260423T141801Z
LAST-MODIFIED:20260423T141801Z
UID:10006363-1782370800-1782374400@www.ashlandy.org
SUMMARY:Tai-Chi
DESCRIPTION:Instructor: Haiyan  \nDescription:  Ta-Chi is a mind-body exercise that combines movements\, meditation\, and deep breathing. 
URL:https://www.ashlandy.org/event/tai-chi-195/
LOCATION:Ballet Room
CATEGORIES:Group Ex-Schedule
END:VEVENT
BEGIN:VEVENT
DTSTART;TZID=America/New_York:20260625T083000
DTEND;TZID=America/New_York:20260625T093000
DTSTAMP:20260423T174051
CREATED:20260423T141801Z
LAST-MODIFIED:20260423T141801Z
UID:10006364-1782376200-1782379800@www.ashlandy.org
SUMMARY:Zumba
DESCRIPTION:Instructor: Erica  \nDescription: Each Dance/Zumba® class is designed to bring people together to sweat it on. We take the “work” out of a workout\, by mixing low-intensity and high-intensity moves for an interval-style\, calorie-burning dance fitness party. Once the Latin and World rhythms take over\, you’ll see why Dance/Zumba classes are often called exercise in disguise. Super effective? Check. Super fun? Check.
URL:https://www.ashlandy.org/event/zumba-300/
LOCATION:Multi-Purpose Room
CATEGORIES:Group Ex-Schedule
END:VEVENT
BEGIN:VEVENT
DTSTART;TZID=America/New_York:20260625T100000
DTEND;TZID=America/New_York:20260625T110000
DTSTAMP:20260423T174051
CREATED:20260125T171737Z
LAST-MODIFIED:20260423T114300Z
UID:10005710-1782381600-1782385200@www.ashlandy.org
SUMMARY:SilverSneakers
DESCRIPTION:
URL:https://www.ashlandy.org/event/silversneakers-585/
LOCATION:Gymnasium- 2 courts
CATEGORIES:Gymnasium
END:VEVENT
BEGIN:VEVENT
DTSTART;TZID=America/New_York:20260625T130000
DTEND;TZID=America/New_York:20260625T150000
DTSTAMP:20260423T174051
CREATED:20260125T171738Z
LAST-MODIFIED:20260423T114301Z
UID:10005712-1782392400-1782399600@www.ashlandy.org
SUMMARY:Pickleball
DESCRIPTION:
URL:https://www.ashlandy.org/event/pickleball-235/
LOCATION:Gymnasium- 1 court
CATEGORIES:Gymnasium
END:VEVENT
BEGIN:VEVENT
DTSTART;TZID=America/New_York:20260626T060000
DTEND;TZID=America/New_York:20260626T110000
DTSTAMP:20260423T174051
CREATED:20260125T171740Z
LAST-MODIFIED:20260423T114301Z
UID:10005714-1782453600-1782471600@www.ashlandy.org
SUMMARY:Pickle Ball
DESCRIPTION:
URL:https://www.ashlandy.org/event/pickle-ball-586/
LOCATION:Gymnasium- 1 court
CATEGORIES:Gymnasium
END:VEVENT
BEGIN:VEVENT
DTSTART;TZID=America/New_York:20260626T100000
DTEND;TZID=America/New_York:20260626T110000
DTSTAMP:20260423T174051
CREATED:20260125T171739Z
LAST-MODIFIED:20260423T114314Z
UID:10005713-1782468000-1782471600@www.ashlandy.org
SUMMARY:SilverSneakers
DESCRIPTION:
URL:https://www.ashlandy.org/event/silversneakers-586/
LOCATION:Gymnasium- 2 courts
CATEGORIES:Gymnasium
END:VEVENT
BEGIN:VEVENT
DTSTART;TZID=America/New_York:20260629T060000
DTEND;TZID=America/New_York:20260629T110000
DTSTAMP:20260423T174051
CREATED:20260126T174713Z
LAST-MODIFIED:20260423T114314Z
UID:10005716-1782712800-1782730800@www.ashlandy.org
SUMMARY:Pickle Ball
DESCRIPTION:
URL:https://www.ashlandy.org/event/pickle-ball-587/
LOCATION:Gymnasium- 1 court
CATEGORIES:Gymnasium
END:VEVENT
BEGIN:VEVENT
DTSTART;TZID=America/New_York:20260629T100000
DTEND;TZID=America/New_York:20260629T110000
DTSTAMP:20260423T174051
CREATED:20260125T171740Z
LAST-MODIFIED:20260423T114315Z
UID:10005715-1782727200-1782730800@www.ashlandy.org
SUMMARY:SilverSneakers
DESCRIPTION:
URL:https://www.ashlandy.org/event/silversneakers-587/
LOCATION:Gymnasium- 2 courts
CATEGORIES:Gymnasium
END:VEVENT
BEGIN:VEVENT
DTSTART;TZID=America/New_York:20260630T060000
DTEND;TZID=America/New_York:20260630T110000
DTSTAMP:20260423T174051
CREATED:20260126T174715Z
LAST-MODIFIED:20260423T114315Z
UID:10005718-1782799200-1782817200@www.ashlandy.org
SUMMARY:Pickle Ball
DESCRIPTION:
URL:https://www.ashlandy.org/event/pickle-ball-588/
LOCATION:Gymnasium- 1 court
CATEGORIES:Gymnasium
END:VEVENT
BEGIN:VEVENT
DTSTART;TZID=America/New_York:20260630T100000
DTEND;TZID=America/New_York:20260630T110000
DTSTAMP:20260423T174051
CREATED:20260126T174714Z
LAST-MODIFIED:20260423T114315Z
UID:10005717-1782813600-1782817200@www.ashlandy.org
SUMMARY:SilverSneakers
DESCRIPTION:
URL:https://www.ashlandy.org/event/silversneakers-588/
LOCATION:Gymnasium- 2 courts
CATEGORIES:Gymnasium
END:VEVENT
BEGIN:VEVENT
DTSTART;TZID=America/New_York:20260630T130000
DTEND;TZID=America/New_York:20260630T150000
DTSTAMP:20260423T174051
CREATED:20260127T181731Z
LAST-MODIFIED:20260423T114316Z
UID:10005725-1782824400-1782831600@www.ashlandy.org
SUMMARY:Pickleball
DESCRIPTION:
URL:https://www.ashlandy.org/event/pickleball-236/
LOCATION:Gymnasium- 1 court
CATEGORIES:Gymnasium
END:VEVENT
BEGIN:VEVENT
DTSTART;TZID=America/New_York:20260630T183000
DTEND;TZID=America/New_York:20260630T210000
DTSTAMP:20260423T174051
CREATED:20260414T231338Z
LAST-MODIFIED:20260423T114316Z
UID:10006304-1782844200-1782853200@www.ashlandy.org
SUMMARY:30+ Open Gym (Court 2 Closed)
DESCRIPTION:
URL:https://www.ashlandy.org/event/30-open-gym-court-2-closed-12/
CATEGORIES:Gymnasium
END:VEVENT
BEGIN:VEVENT
DTSTART;TZID=America/New_York:20260701T060000
DTEND;TZID=America/New_York:20260701T110000
DTSTAMP:20260423T174051
CREATED:20260128T184710Z
LAST-MODIFIED:20260423T114317Z
UID:10005735-1782885600-1782903600@www.ashlandy.org
SUMMARY:Pickle Ball
DESCRIPTION:
URL:https://www.ashlandy.org/event/pickle-ball-589/
LOCATION:Gymnasium- 1 court
CATEGORIES:Gymnasium
END:VEVENT
BEGIN:VEVENT
DTSTART;TZID=America/New_York:20260701T100000
DTEND;TZID=America/New_York:20260701T110000
DTSTAMP:20260423T174051
CREATED:20260127T181731Z
LAST-MODIFIED:20260423T114316Z
UID:10005726-1782900000-1782903600@www.ashlandy.org
SUMMARY:SilverSneakers
DESCRIPTION:
URL:https://www.ashlandy.org/event/silversneakers-589/
LOCATION:Gymnasium- 2 courts
CATEGORIES:Gymnasium
END:VEVENT
END:VCALENDAR