BEGIN:VCALENDAR
VERSION:2.0
PRODID:-//YMCA of Ashland, Ohio - ECPv6.5.0//NONSGML v1.0//EN
CALSCALE:GREGORIAN
METHOD:PUBLISH
X-WR-CALNAME:YMCA of Ashland, Ohio
X-ORIGINAL-URL:https://www.ashlandy.org
X-WR-CALDESC:Events for YMCA of Ashland, Ohio
REFRESH-INTERVAL;VALUE=DURATION:PT1H
X-Robots-Tag:noindex
X-PUBLISHED-TTL:PT1H
BEGIN:VTIMEZONE
TZID:America/New_York
BEGIN:DAYLIGHT
TZOFFSETFROM:-0500
TZOFFSETTO:-0400
TZNAME:EDT
DTSTART:20250309T070000
END:DAYLIGHT
BEGIN:STANDARD
TZOFFSETFROM:-0400
TZOFFSETTO:-0500
TZNAME:EST
DTSTART:20251102T060000
END:STANDARD
END:VTIMEZONE
BEGIN:VEVENT
DTSTART;TZID=America/New_York:20250729T051500
DTEND;TZID=America/New_York:20250729T060000
DTSTAMP:20260419T092303
CREATED:20250528T214734Z
LAST-MODIFIED:20250728T143939Z
UID:10003805-1753766100-1753768800@www.ashlandy.org
SUMMARY:Cycling-w/Michelle McDonald
DESCRIPTION:First come. First served.
URL:https://www.ashlandy.org/event/cycling-w-michelle-mcdonald-139/
LOCATION:Cycling Room
CATEGORIES:Group Ex-Schedule
END:VEVENT
BEGIN:VEVENT
DTSTART;TZID=America/New_York:20250728T051500
DTEND;TZID=America/New_York:20250728T060000
DTSTAMP:20260419T092303
CREATED:20250528T214733Z
LAST-MODIFIED:20250727T140938Z
UID:10003803-1753679700-1753682400@www.ashlandy.org
SUMMARY:Cycling
DESCRIPTION:Class with Terrence Webb
URL:https://www.ashlandy.org/event/cycling-110/
LOCATION:Cycling Room
CATEGORIES:Group Ex-Schedule
END:VEVENT
BEGIN:VEVENT
DTSTART;TZID=America/New_York:20250725T051500
DTEND;TZID=America/New_York:20250725T060000
DTSTAMP:20260419T092303
CREATED:20250524T201737Z
LAST-MODIFIED:20250724T125736Z
UID:10003784-1753420500-1753423200@www.ashlandy.org
SUMMARY:Cycling
DESCRIPTION:Instructor: Terrence Webb
URL:https://www.ashlandy.org/event/cycling-109/
LOCATION:Cycling Room
CATEGORIES:Group Ex-Schedule
END:VEVENT
BEGIN:VEVENT
DTSTART;TZID=America/New_York:20250724T080000
DTEND;TZID=America/New_York:20250724T083000
DTSTAMP:20260419T092303
CREATED:20250523T194741Z
LAST-MODIFIED:20250723T123941Z
UID:10003781-1753344000-1753345800@www.ashlandy.org
SUMMARY:Cycle Strong
DESCRIPTION:
URL:https://www.ashlandy.org/event/cycle-strong-213/
LOCATION:Cycling Room
CATEGORIES:Group Ex-Schedule
END:VEVENT
BEGIN:VEVENT
DTSTART;TZID=America/New_York:20250724T051500
DTEND;TZID=America/New_York:20250724T060000
DTSTAMP:20260419T092303
CREATED:20250523T194740Z
LAST-MODIFIED:20250723T123940Z
UID:10003779-1753334100-1753336800@www.ashlandy.org
SUMMARY:Cycling-w/Michelle McDonald
DESCRIPTION:First come. First served.
URL:https://www.ashlandy.org/event/cycling-w-michelle-mcdonald-138/
LOCATION:Cycling Room
CATEGORIES:Group Ex-Schedule
END:VEVENT
BEGIN:VEVENT
DTSTART;TZID=America/New_York:20250723T083000
DTEND;TZID=America/New_York:20250723T090000
DTSTAMP:20260419T092303
CREATED:20250522T191718Z
LAST-MODIFIED:20250723T123937Z
UID:10003768-1753259400-1753261200@www.ashlandy.org
SUMMARY:Cycle Strong
DESCRIPTION:Instructor: Shelly \nSpots: 19 \nDescription: Intervals\, rolling hills\, sprints\, climbs\, runs\, surges and jumps all to music hand-picked to motivate and inspire! This is a great workout if you want to burn calories and increase endurance.
URL:https://www.ashlandy.org/event/cycle-strong-212/
LOCATION:Cycling Room
CATEGORIES:Group Ex-Schedule
END:VEVENT
BEGIN:VEVENT
DTSTART;TZID=America/New_York:20250722T181500
DTEND;TZID=America/New_York:20250722T190000
DTSTAMP:20260419T092303
CREATED:20250521T184643Z
LAST-MODIFIED:20250722T120937Z
UID:10003762-1753208100-1753210800@www.ashlandy.org
SUMMARY:LIGHTBAR Cycling
DESCRIPTION:Instructor: Shelly \nSpots: 19 \nDescription: Intervals\, rolling hills\, sprints\, climbs\, runs\, surges and jumps all to music hand-picked to motivate and inspire! This is a great workout if you want to burn calories and increase endurance
URL:https://www.ashlandy.org/event/lightbar-cycling-20/
LOCATION:Cycling Room
CATEGORIES:Group Ex-Schedule
END:VEVENT
BEGIN:VEVENT
DTSTART;TZID=America/New_York:20250722T051500
DTEND;TZID=America/New_York:20250722T060000
DTSTAMP:20260419T092303
CREATED:20250521T184642Z
LAST-MODIFIED:20250721T113939Z
UID:10003761-1753161300-1753164000@www.ashlandy.org
SUMMARY:Cycling-w/Michelle McDonald
DESCRIPTION:First come. First served.
URL:https://www.ashlandy.org/event/cycling-w-michelle-mcdonald-137/
LOCATION:Cycling Room
CATEGORIES:Group Ex-Schedule
END:VEVENT
BEGIN:VEVENT
DTSTART;TZID=America/New_York:20250721T051500
DTEND;TZID=America/New_York:20250721T060000
DTSTAMP:20260419T092303
CREATED:20250520T181716Z
LAST-MODIFIED:20250720T110940Z
UID:10003748-1753074900-1753077600@www.ashlandy.org
SUMMARY:Cycling
DESCRIPTION:Class with Terrence Webb
URL:https://www.ashlandy.org/event/cycling-107/
LOCATION:Cycling Room
CATEGORIES:Group Ex-Schedule
END:VEVENT
BEGIN:VEVENT
DTSTART;TZID=America/New_York:20250718T051500
DTEND;TZID=America/New_York:20250718T060000
DTSTAMP:20260419T092303
CREATED:20250520T181659Z
LAST-MODIFIED:20250717T093952Z
UID:10003739-1752815700-1752818400@www.ashlandy.org
SUMMARY:Cycling
DESCRIPTION:Instructor: Terrence Webb
URL:https://www.ashlandy.org/event/cycling-106/
LOCATION:Cycling Room
CATEGORIES:Group Ex-Schedule
END:VEVENT
BEGIN:VEVENT
DTSTART;TZID=America/New_York:20250717T080000
DTEND;TZID=America/New_York:20250717T083000
DTSTAMP:20260419T092303
CREATED:20250519T174716Z
LAST-MODIFIED:20250717T093937Z
UID:10003733-1752739200-1752741000@www.ashlandy.org
SUMMARY:Cycle Strong
DESCRIPTION:
URL:https://www.ashlandy.org/event/cycle-strong-211/
LOCATION:Cycling Room
CATEGORIES:Group Ex-Schedule
END:VEVENT
BEGIN:VEVENT
DTSTART;TZID=America/New_York:20250717T051500
DTEND;TZID=America/New_York:20250717T060000
DTSTAMP:20260419T092303
CREATED:20250517T164725Z
LAST-MODIFIED:20250717T093937Z
UID:10003727-1752729300-1752732000@www.ashlandy.org
SUMMARY:Cycling-w/Michelle McDonald
DESCRIPTION:First come. First served.
URL:https://www.ashlandy.org/event/cycling-w-michelle-mcdonald-136/
LOCATION:Cycling Room
CATEGORIES:Group Ex-Schedule
END:VEVENT
BEGIN:VEVENT
DTSTART;TZID=America/New_York:20250716T083000
DTEND;TZID=America/New_York:20250716T090000
DTSTAMP:20260419T092303
CREATED:20250516T161739Z
LAST-MODIFIED:20250716T090938Z
UID:10003722-1752654600-1752656400@www.ashlandy.org
SUMMARY:Cycle Strong
DESCRIPTION:Instructor: Shelly \nSpots: 19 \nDescription: Intervals\, rolling hills\, sprints\, climbs\, runs\, surges and jumps all to music hand-picked to motivate and inspire! This is a great workout if you want to burn calories and increase endurance.
URL:https://www.ashlandy.org/event/cycle-strong-210/
LOCATION:Cycling Room
CATEGORIES:Group Ex-Schedule
END:VEVENT
BEGIN:VEVENT
DTSTART;TZID=America/New_York:20250715T181500
DTEND;TZID=America/New_York:20250715T190000
DTSTAMP:20260419T092303
CREATED:20250516T161737Z
LAST-MODIFIED:20250715T083937Z
UID:10003719-1752603300-1752606000@www.ashlandy.org
SUMMARY:LIGHTBAR Cycling
DESCRIPTION:Instructor: Shelly \nSpots: 19 \nDescription: Intervals\, rolling hills\, sprints\, climbs\, runs\, surges and jumps all to music hand-picked to motivate and inspire! This is a great workout if you want to burn calories and increase endurance
URL:https://www.ashlandy.org/event/lightbar-cycling-19/
LOCATION:Cycling Room
CATEGORIES:Group Ex-Schedule
END:VEVENT
BEGIN:VEVENT
DTSTART;TZID=America/New_York:20250715T051500
DTEND;TZID=America/New_York:20250715T060000
DTSTAMP:20260419T092303
CREATED:20250514T151801Z
LAST-MODIFIED:20250715T083935Z
UID:10003700-1752556500-1752559200@www.ashlandy.org
SUMMARY:Cycling-w/Michelle McDonald
DESCRIPTION:First come. First served.
URL:https://www.ashlandy.org/event/cycling-w-michelle-mcdonald-135/
LOCATION:Cycling Room
CATEGORIES:Group Ex-Schedule
END:VEVENT
BEGIN:VEVENT
DTSTART;TZID=America/New_York:20250714T051500
DTEND;TZID=America/New_York:20250714T060000
DTSTAMP:20260419T092303
CREATED:20250513T144752Z
LAST-MODIFIED:20250714T080939Z
UID:10003691-1752470100-1752472800@www.ashlandy.org
SUMMARY:Cycling
DESCRIPTION:Class with Terrence Webb
URL:https://www.ashlandy.org/event/cycling-104/
LOCATION:Cycling Room
CATEGORIES:Group Ex-Schedule
END:VEVENT
BEGIN:VEVENT
DTSTART;TZID=America/New_York:20250711T051500
DTEND;TZID=America/New_York:20250711T060000
DTSTAMP:20260419T092303
CREATED:20250510T131738Z
LAST-MODIFIED:20250711T063937Z
UID:10003680-1752210900-1752213600@www.ashlandy.org
SUMMARY:Cycling
DESCRIPTION:Instructor: Terrence Webb
URL:https://www.ashlandy.org/event/cycling-103/
LOCATION:Cycling Room
CATEGORIES:Group Ex-Schedule
END:VEVENT
BEGIN:VEVENT
DTSTART;TZID=America/New_York:20250710T080000
DTEND;TZID=America/New_York:20250710T083000
DTSTAMP:20260419T092303
CREATED:20250509T124806Z
LAST-MODIFIED:20250710T060939Z
UID:10003672-1752134400-1752136200@www.ashlandy.org
SUMMARY:Cycle Strong
DESCRIPTION:
URL:https://www.ashlandy.org/event/cycle-strong-209/
LOCATION:Cycling Room
CATEGORIES:Group Ex-Schedule
END:VEVENT
BEGIN:VEVENT
DTSTART;TZID=America/New_York:20250710T051500
DTEND;TZID=America/New_York:20250710T060000
DTSTAMP:20260419T092303
CREATED:20250509T124805Z
LAST-MODIFIED:20250710T060938Z
UID:10003670-1752124500-1752127200@www.ashlandy.org
SUMMARY:Cycling-w/Michelle McDonald
DESCRIPTION:First come. First served.
URL:https://www.ashlandy.org/event/cycling-w-michelle-mcdonald-134/
LOCATION:Cycling Room
CATEGORIES:Group Ex-Schedule
END:VEVENT
BEGIN:VEVENT
DTSTART;TZID=America/New_York:20250709T083000
DTEND;TZID=America/New_York:20250709T090000
DTSTAMP:20260419T092303
CREATED:20250508T121753Z
LAST-MODIFIED:20250709T053937Z
UID:10003662-1752049800-1752051600@www.ashlandy.org
SUMMARY:Cycle Strong
DESCRIPTION:Instructor: Shelly \nSpots: 19 \nDescription: Intervals\, rolling hills\, sprints\, climbs\, runs\, surges and jumps all to music hand-picked to motivate and inspire! This is a great workout if you want to burn calories and increase endurance.
URL:https://www.ashlandy.org/event/cycle-strong-208/
LOCATION:Cycling Room
CATEGORIES:Group Ex-Schedule
END:VEVENT
BEGIN:VEVENT
DTSTART;TZID=America/New_York:20250708T181500
DTEND;TZID=America/New_York:20250708T190000
DTSTAMP:20260419T092303
CREATED:20250508T121752Z
LAST-MODIFIED:20250708T050919Z
UID:10003660-1751998500-1752001200@www.ashlandy.org
SUMMARY:LIGHTBAR Cycling
DESCRIPTION:Instructor: Shelly \nSpots: 19 \nDescription: Intervals\, rolling hills\, sprints\, climbs\, runs\, surges and jumps all to music hand-picked to motivate and inspire! This is a great workout if you want to burn calories and increase endurance
URL:https://www.ashlandy.org/event/lightbar-cycling-18/
LOCATION:Cycling Room
CATEGORIES:Group Ex-Schedule
END:VEVENT
BEGIN:VEVENT
DTSTART;TZID=America/New_York:20250708T051500
DTEND;TZID=America/New_York:20250708T060000
DTSTAMP:20260419T092303
CREATED:20250508T121750Z
LAST-MODIFIED:20250708T050913Z
UID:10003657-1751951700-1751954400@www.ashlandy.org
SUMMARY:Cycling-w/Michelle McDonald
DESCRIPTION:First come. First served.
URL:https://www.ashlandy.org/event/cycling-w-michelle-mcdonald-133/
LOCATION:Cycling Room
CATEGORIES:Group Ex-Schedule
END:VEVENT
BEGIN:VEVENT
DTSTART;TZID=America/New_York:20250707T051500
DTEND;TZID=America/New_York:20250707T060000
DTSTAMP:20260419T092303
CREATED:20250507T114739Z
LAST-MODIFIED:20250707T043935Z
UID:10003648-1751865300-1751868000@www.ashlandy.org
SUMMARY:Cycling
DESCRIPTION:Class with Terrence Webb
URL:https://www.ashlandy.org/event/cycling-101/
LOCATION:Cycling Room
CATEGORIES:Group Ex-Schedule
END:VEVENT
BEGIN:VEVENT
DTSTART;TZID=America/New_York:20250704T051500
DTEND;TZID=America/New_York:20250704T060000
DTSTAMP:20260419T092303
CREATED:20250504T101806Z
LAST-MODIFIED:20250704T030935Z
UID:10003634-1751606100-1751608800@www.ashlandy.org
SUMMARY:Cycling
DESCRIPTION:Instructor: Terrence Webb
URL:https://www.ashlandy.org/event/cycling-100/
LOCATION:Cycling Room
CATEGORIES:Group Ex-Schedule
END:VEVENT
BEGIN:VEVENT
DTSTART;TZID=America/New_York:20250703T080000
DTEND;TZID=America/New_York:20250703T083000
DTSTAMP:20260419T092303
CREATED:20250503T094757Z
LAST-MODIFIED:20250703T023937Z
UID:10003629-1751529600-1751531400@www.ashlandy.org
SUMMARY:Cycle Strong
DESCRIPTION:
URL:https://www.ashlandy.org/event/cycle-strong-207/
LOCATION:Cycling Room
CATEGORIES:Group Ex-Schedule
END:VEVENT
BEGIN:VEVENT
DTSTART;TZID=America/New_York:20250703T051500
DTEND;TZID=America/New_York:20250703T060000
DTSTAMP:20260419T092303
CREATED:20250502T091755Z
LAST-MODIFIED:20250703T023935Z
UID:10003623-1751519700-1751522400@www.ashlandy.org
SUMMARY:Cycling-w/Michelle McDonald
DESCRIPTION:First come. First served.
URL:https://www.ashlandy.org/event/cycling-w-michelle-mcdonald-132/
LOCATION:Cycling Room
CATEGORIES:Group Ex-Schedule
END:VEVENT
BEGIN:VEVENT
DTSTART;TZID=America/New_York:20250702T083000
DTEND;TZID=America/New_York:20250702T090000
DTSTAMP:20260419T092303
CREATED:20250502T091752Z
LAST-MODIFIED:20250702T020939Z
UID:10003618-1751445000-1751446800@www.ashlandy.org
SUMMARY:Cycle Strong
DESCRIPTION:Instructor: Shelly \nSpots: 19 \nDescription: Intervals\, rolling hills\, sprints\, climbs\, runs\, surges and jumps all to music hand-picked to motivate and inspire! This is a great workout if you want to burn calories and increase endurance.
URL:https://www.ashlandy.org/event/cycle-strong-206/
LOCATION:Cycling Room
CATEGORIES:Group Ex-Schedule
END:VEVENT
BEGIN:VEVENT
DTSTART;TZID=America/New_York:20250701T181500
DTEND;TZID=America/New_York:20250701T190000
DTSTAMP:20260419T092303
CREATED:20250501T084819Z
LAST-MODIFIED:20250701T013938Z
UID:10003612-1751393700-1751396400@www.ashlandy.org
SUMMARY:LIGHTBAR Cycling
DESCRIPTION:Instructor: Shelly \nSpots: 19 \nDescription: Intervals\, rolling hills\, sprints\, climbs\, runs\, surges and jumps all to music hand-picked to motivate and inspire! This is a great workout if you want to burn calories and increase endurance
URL:https://www.ashlandy.org/event/lightbar-cycling-17/
LOCATION:Cycling Room
CATEGORIES:Group Ex-Schedule
END:VEVENT
BEGIN:VEVENT
DTSTART;TZID=America/New_York:20250701T051500
DTEND;TZID=America/New_York:20250701T060000
DTSTAMP:20260419T092303
CREATED:20250501T084816Z
LAST-MODIFIED:20250701T013937Z
UID:10003608-1751346900-1751349600@www.ashlandy.org
SUMMARY:Cycling-w/Michelle McDonald
DESCRIPTION:First come. First served.
URL:https://www.ashlandy.org/event/cycling-w-michelle-mcdonald-131/
LOCATION:Cycling Room
CATEGORIES:Group Ex-Schedule
END:VEVENT
BEGIN:VEVENT
DTSTART;TZID=America/New_York:20250630T051500
DTEND;TZID=America/New_York:20250630T060000
DTSTAMP:20260419T092303
CREATED:20250430T081726Z
LAST-MODIFIED:20250630T010914Z
UID:10003600-1751260500-1751263200@www.ashlandy.org
SUMMARY:Cycling
DESCRIPTION:Class with Terrence Webb
URL:https://www.ashlandy.org/event/cycling-98/
LOCATION:Cycling Room
CATEGORIES:Group Ex-Schedule
END:VEVENT
END:VCALENDAR