BEGIN:VCALENDAR
VERSION:2.0
PRODID:-//YMCA of Ashland, Ohio - ECPv6.5.0//NONSGML v1.0//EN
CALSCALE:GREGORIAN
METHOD:PUBLISH
X-ORIGINAL-URL:https://www.ashlandy.org
X-WR-CALDESC:Events for YMCA of Ashland, Ohio
REFRESH-INTERVAL;VALUE=DURATION:PT1H
X-Robots-Tag:noindex
X-PUBLISHED-TTL:PT1H
BEGIN:VTIMEZONE
TZID:America/New_York
BEGIN:DAYLIGHT
TZOFFSETFROM:-0500
TZOFFSETTO:-0400
TZNAME:EDT
DTSTART:20250309T070000
END:DAYLIGHT
BEGIN:STANDARD
TZOFFSETFROM:-0400
TZOFFSETTO:-0500
TZNAME:EST
DTSTART:20251102T060000
END:STANDARD
END:VTIMEZONE
BEGIN:VEVENT
DTSTART;TZID=America/New_York:20250623T051500
DTEND;TZID=America/New_York:20250623T060000
DTSTAMP:20260419T143253
CREATED:20250423T044746Z
LAST-MODIFIED:20250622T213939Z
UID:10003545-1750655700-1750658400@www.ashlandy.org
SUMMARY:Cycling
DESCRIPTION:Class with Terrence Webb
URL:https://www.ashlandy.org/event/cycling-95/
LOCATION:Cycling Room
CATEGORIES:Group Ex-Schedule
END:VEVENT
BEGIN:VEVENT
DTSTART;TZID=America/New_York:20250620T051500
DTEND;TZID=America/New_York:20250620T060000
DTSTAMP:20260419T143254
CREATED:20250420T034740Z
LAST-MODIFIED:20250619T200940Z
UID:10003530-1750396500-1750399200@www.ashlandy.org
SUMMARY:Cycling
DESCRIPTION:Instructor: Terrence Webb
URL:https://www.ashlandy.org/event/cycling-94/
LOCATION:Cycling Room
CATEGORIES:Group Ex-Schedule
END:VEVENT
BEGIN:VEVENT
DTSTART;TZID=America/New_York:20250619T080000
DTEND;TZID=America/New_York:20250619T083000
DTSTAMP:20260419T143254
CREATED:20250419T031721Z
LAST-MODIFIED:20250616T064010Z
UID:10003527-1750320000-1750321800@www.ashlandy.org
SUMMARY:Cycle Strong
DESCRIPTION:
URL:https://www.ashlandy.org/event/cycle-strong-203/
LOCATION:Cycling Room
CATEGORIES:Group Ex-Schedule
END:VEVENT
BEGIN:VEVENT
DTSTART;TZID=America/New_York:20250619T051500
DTEND;TZID=America/New_York:20250619T060000
DTSTAMP:20260419T143254
CREATED:20250419T031719Z
LAST-MODIFIED:20250616T063956Z
UID:10003524-1750310100-1750312800@www.ashlandy.org
SUMMARY:Cycling-w/Michelle McDonald
DESCRIPTION:First come. First served.
URL:https://www.ashlandy.org/event/cycling-w-michelle-mcdonald-128/
LOCATION:Cycling Room
CATEGORIES:Group Ex-Schedule
END:VEVENT
BEGIN:VEVENT
DTSTART;TZID=America/New_York:20250618T083000
DTEND;TZID=America/New_York:20250618T090000
DTSTAMP:20260419T143254
CREATED:20250418T024652Z
LAST-MODIFIED:20250616T063954Z
UID:10003517-1750235400-1750237200@www.ashlandy.org
SUMMARY:Cycle Strong
DESCRIPTION:Instructor: Shelly \nSpots: 19 \nDescription: Intervals\, rolling hills\, sprints\, climbs\, runs\, surges and jumps all to music hand-picked to motivate and inspire! This is a great workout if you want to burn calories and increase endurance.
URL:https://www.ashlandy.org/event/cycle-strong-202/
LOCATION:Cycling Room
CATEGORIES:Group Ex-Schedule
END:VEVENT
BEGIN:VEVENT
DTSTART;TZID=America/New_York:20250617T181500
DTEND;TZID=America/New_York:20250617T190000
DTSTAMP:20260419T143254
CREATED:20250417T021712Z
LAST-MODIFIED:20250616T063953Z
UID:10003509-1750184100-1750186800@www.ashlandy.org
SUMMARY:LIGHTBAR Cycling
DESCRIPTION:Instructor: Shelly \nSpots: 19 \nDescription: Intervals\, rolling hills\, sprints\, climbs\, runs\, surges and jumps all to music hand-picked to motivate and inspire! This is a great workout if you want to burn calories and increase endurance
URL:https://www.ashlandy.org/event/lightbar-cycling-15/
LOCATION:Cycling Room
CATEGORIES:Group Ex-Schedule
END:VEVENT
BEGIN:VEVENT
DTSTART;TZID=America/New_York:20250617T051500
DTEND;TZID=America/New_York:20250617T060000
DTSTAMP:20260419T143254
CREATED:20250417T021710Z
LAST-MODIFIED:20250616T063940Z
UID:10003506-1750137300-1750140000@www.ashlandy.org
SUMMARY:Cycling-w/Michelle McDonald
DESCRIPTION:First come. First served.
URL:https://www.ashlandy.org/event/cycling-w-michelle-mcdonald-127/
LOCATION:Cycling Room
CATEGORIES:Group Ex-Schedule
END:VEVENT
BEGIN:VEVENT
DTSTART;TZID=America/New_York:20250616T051500
DTEND;TZID=America/New_York:20250616T060000
DTSTAMP:20260419T143254
CREATED:20250416T014752Z
LAST-MODIFIED:20250616T063937Z
UID:10003497-1750050900-1750053600@www.ashlandy.org
SUMMARY:Cycling
DESCRIPTION:Class with Terrence Webb
URL:https://www.ashlandy.org/event/cycling-92/
LOCATION:Cycling Room
CATEGORIES:Group Ex-Schedule
END:VEVENT
BEGIN:VEVENT
DTSTART;TZID=America/New_York:20250613T051500
DTEND;TZID=America/New_York:20250613T060000
DTSTAMP:20260419T143254
CREATED:20250413T001922Z
LAST-MODIFIED:20250613T050940Z
UID:10003483-1749791700-1749794400@www.ashlandy.org
SUMMARY:Cycling
DESCRIPTION:Instructor: Terrence Webb
URL:https://www.ashlandy.org/event/cycling-91/
LOCATION:Cycling Room
CATEGORIES:Group Ex-Schedule
END:VEVENT
BEGIN:VEVENT
DTSTART;TZID=America/New_York:20250612T080000
DTEND;TZID=America/New_York:20250612T083000
DTSTAMP:20260419T143254
CREATED:20250411T234732Z
LAST-MODIFIED:20250612T043937Z
UID:10003474-1749715200-1749717000@www.ashlandy.org
SUMMARY:Cycle Strong
DESCRIPTION:
URL:https://www.ashlandy.org/event/cycle-strong-201/
LOCATION:Cycling Room
CATEGORIES:Group Ex-Schedule
END:VEVENT
BEGIN:VEVENT
DTSTART;TZID=America/New_York:20250612T051500
DTEND;TZID=America/New_York:20250612T060000
DTSTAMP:20260419T143254
CREATED:20250411T234733Z
LAST-MODIFIED:20250612T043936Z
UID:10003476-1749705300-1749708000@www.ashlandy.org
SUMMARY:Cycling-w/Michelle McDonald
DESCRIPTION:First come. First served.
URL:https://www.ashlandy.org/event/cycling-w-michelle-mcdonald-126/
LOCATION:Cycling Room
CATEGORIES:Group Ex-Schedule
END:VEVENT
BEGIN:VEVENT
DTSTART;TZID=America/New_York:20250611T083000
DTEND;TZID=America/New_York:20250611T090000
DTSTAMP:20260419T143254
CREATED:20250410T231803Z
LAST-MODIFIED:20250611T040938Z
UID:10003468-1749630600-1749632400@www.ashlandy.org
SUMMARY:Cycle Strong
DESCRIPTION:Instructor: Shelly \nSpots: 19 \nDescription: Intervals\, rolling hills\, sprints\, climbs\, runs\, surges and jumps all to music hand-picked to motivate and inspire! This is a great workout if you want to burn calories and increase endurance.
URL:https://www.ashlandy.org/event/cycle-strong-200/
LOCATION:Cycling Room
CATEGORIES:Group Ex-Schedule
END:VEVENT
BEGIN:VEVENT
DTSTART;TZID=America/New_York:20250610T181500
DTEND;TZID=America/New_York:20250610T190000
DTSTAMP:20260419T143254
CREATED:20250410T231800Z
LAST-MODIFIED:20250610T033938Z
UID:10003463-1749579300-1749582000@www.ashlandy.org
SUMMARY:LIGHTBAR Cycling
DESCRIPTION:Instructor: Shelly \nSpots: 19 \nDescription: Intervals\, rolling hills\, sprints\, climbs\, runs\, surges and jumps all to music hand-picked to motivate and inspire! This is a great workout if you want to burn calories and increase endurance
URL:https://www.ashlandy.org/event/lightbar-cycling-14/
LOCATION:Cycling Room
CATEGORIES:Group Ex-Schedule
END:VEVENT
BEGIN:VEVENT
DTSTART;TZID=America/New_York:20250610T051500
DTEND;TZID=America/New_York:20250610T060000
DTSTAMP:20260419T143254
CREATED:20250409T224817Z
LAST-MODIFIED:20250610T033937Z
UID:10003456-1749532500-1749535200@www.ashlandy.org
SUMMARY:Cycling-w/Michelle McDonald
DESCRIPTION:First come. First served.
URL:https://www.ashlandy.org/event/cycling-w-michelle-mcdonald-125/
LOCATION:Cycling Room
CATEGORIES:Group Ex-Schedule
END:VEVENT
BEGIN:VEVENT
DTSTART;TZID=America/New_York:20250609T051500
DTEND;TZID=America/New_York:20250609T060000
DTSTAMP:20260419T143254
CREATED:20250408T221806Z
LAST-MODIFIED:20250609T030939Z
UID:10003447-1749446100-1749448800@www.ashlandy.org
SUMMARY:Cycling
DESCRIPTION:Class with Terrence Webb
URL:https://www.ashlandy.org/event/cycling-89/
LOCATION:Cycling Room
CATEGORIES:Group Ex-Schedule
END:VEVENT
BEGIN:VEVENT
DTSTART;TZID=America/New_York:20250606T051500
DTEND;TZID=America/New_York:20250606T060000
DTSTAMP:20260419T143254
CREATED:20250405T204801Z
LAST-MODIFIED:20250606T013936Z
UID:10003436-1749186900-1749189600@www.ashlandy.org
SUMMARY:Cycling
DESCRIPTION:Instructor: Terrence Webb
URL:https://www.ashlandy.org/event/cycling-88/
LOCATION:Cycling Room
CATEGORIES:Group Ex-Schedule
END:VEVENT
BEGIN:VEVENT
DTSTART;TZID=America/New_York:20250605T080000
DTEND;TZID=America/New_York:20250605T083000
DTSTAMP:20260419T143254
CREATED:20250404T201756Z
LAST-MODIFIED:20250605T010940Z
UID:10003426-1749110400-1749112200@www.ashlandy.org
SUMMARY:Cycle Strong
DESCRIPTION:
URL:https://www.ashlandy.org/event/cycle-strong-199/
LOCATION:Cycling Room
CATEGORIES:Group Ex-Schedule
END:VEVENT
BEGIN:VEVENT
DTSTART;TZID=America/New_York:20250605T051500
DTEND;TZID=America/New_York:20250605T060000
DTSTAMP:20260419T143254
CREATED:20250404T201757Z
LAST-MODIFIED:20250605T010939Z
UID:10003428-1749100500-1749103200@www.ashlandy.org
SUMMARY:Cycling-w/Michelle McDonald
DESCRIPTION:First come. First served.
URL:https://www.ashlandy.org/event/cycling-w-michelle-mcdonald-124/
LOCATION:Cycling Room
CATEGORIES:Group Ex-Schedule
END:VEVENT
BEGIN:VEVENT
DTSTART;TZID=America/New_York:20250604T083000
DTEND;TZID=America/New_York:20250604T090000
DTSTAMP:20260419T143254
CREATED:20250403T194755Z
LAST-MODIFIED:20250604T003937Z
UID:10003417-1749025800-1749027600@www.ashlandy.org
SUMMARY:Cycle Strong
DESCRIPTION:Instructor: Shelly \nSpots: 19 \nDescription: Intervals\, rolling hills\, sprints\, climbs\, runs\, surges and jumps all to music hand-picked to motivate and inspire! This is a great workout if you want to burn calories and increase endurance.
URL:https://www.ashlandy.org/event/cycle-strong-198/
LOCATION:Cycling Room
CATEGORIES:Group Ex-Schedule
END:VEVENT
BEGIN:VEVENT
DTSTART;TZID=America/New_York:20250603T181500
DTEND;TZID=America/New_York:20250603T190000
DTSTAMP:20260419T143254
CREATED:20250403T194754Z
LAST-MODIFIED:20250603T000942Z
UID:10003415-1748974500-1748977200@www.ashlandy.org
SUMMARY:LIGHTBAR Cycling
DESCRIPTION:Instructor: Shelly \nSpots: 19 \nDescription: Intervals\, rolling hills\, sprints\, climbs\, runs\, surges and jumps all to music hand-picked to motivate and inspire! This is a great workout if you want to burn calories and increase endurance
URL:https://www.ashlandy.org/event/lightbar-cycling-13/
LOCATION:Cycling Room
CATEGORIES:Group Ex-Schedule
END:VEVENT
BEGIN:VEVENT
DTSTART;TZID=America/New_York:20250603T051500
DTEND;TZID=America/New_York:20250603T060000
DTSTAMP:20260419T143254
CREATED:20250402T191736Z
LAST-MODIFIED:20250603T000940Z
UID:10003410-1748927700-1748930400@www.ashlandy.org
SUMMARY:Cycling-w/Michelle McDonald
DESCRIPTION:First come. First served.
URL:https://www.ashlandy.org/event/cycling-w-michelle-mcdonald-123/
LOCATION:Cycling Room
CATEGORIES:Group Ex-Schedule
END:VEVENT
BEGIN:VEVENT
DTSTART;TZID=America/New_York:20250602T051500
DTEND;TZID=America/New_York:20250602T060000
DTSTAMP:20260419T143254
CREATED:20250401T184719Z
LAST-MODIFIED:20250601T233941Z
UID:10003399-1748841300-1748844000@www.ashlandy.org
SUMMARY:Cycling
DESCRIPTION:Class with Terrence Webb
URL:https://www.ashlandy.org/event/cycling-86/
LOCATION:Cycling Room
CATEGORIES:Group Ex-Schedule
END:VEVENT
BEGIN:VEVENT
DTSTART;TZID=America/New_York:20250530T051500
DTEND;TZID=America/New_York:20250530T060000
DTSTAMP:20260419T143254
CREATED:20250401T184702Z
LAST-MODIFIED:20250529T220940Z
UID:10003390-1748582100-1748584800@www.ashlandy.org
SUMMARY:Cycling
DESCRIPTION:Instructor: Terrence Webb
URL:https://www.ashlandy.org/event/cycling-85/
LOCATION:Cycling Room
CATEGORIES:Group Ex-Schedule
END:VEVENT
BEGIN:VEVENT
DTSTART;TZID=America/New_York:20250529T080000
DTEND;TZID=America/New_York:20250529T083000
DTSTAMP:20260419T143254
CREATED:20250401T184701Z
LAST-MODIFIED:20250528T213939Z
UID:10003387-1748505600-1748507400@www.ashlandy.org
SUMMARY:Cycle Strong
DESCRIPTION:
URL:https://www.ashlandy.org/event/cycle-strong-197/
LOCATION:Cycling Room
CATEGORIES:Group Ex-Schedule
END:VEVENT
BEGIN:VEVENT
DTSTART;TZID=America/New_York:20250529T051500
DTEND;TZID=America/New_York:20250529T060000
DTSTAMP:20260419T143254
CREATED:20250401T184659Z
LAST-MODIFIED:20250528T213938Z
UID:10003384-1748495700-1748498400@www.ashlandy.org
SUMMARY:Cycling-w/Michelle McDonald
DESCRIPTION:First come. First served.
URL:https://www.ashlandy.org/event/cycling-w-michelle-mcdonald-122/
LOCATION:Cycling Room
CATEGORIES:Group Ex-Schedule
END:VEVENT
BEGIN:VEVENT
DTSTART;TZID=America/New_York:20250528T083000
DTEND;TZID=America/New_York:20250528T090000
DTSTAMP:20260419T143254
CREATED:20250331T181740Z
LAST-MODIFIED:20250527T210936Z
UID:10003375-1748421000-1748422800@www.ashlandy.org
SUMMARY:Cycle Strong
DESCRIPTION:Instructor: Shelly \nSpots: 19 \nDescription: Intervals\, rolling hills\, sprints\, climbs\, runs\, surges and jumps all to music hand-picked to motivate and inspire! This is a great workout if you want to burn calories and increase endurance.
URL:https://www.ashlandy.org/event/cycle-strong-196/
LOCATION:Cycling Room
CATEGORIES:Group Ex-Schedule
END:VEVENT
BEGIN:VEVENT
DTSTART;TZID=America/New_York:20250527T181500
DTEND;TZID=America/New_York:20250527T190000
DTSTAMP:20260419T143254
CREATED:20250331T181739Z
LAST-MODIFIED:20250527T210936Z
UID:10003373-1748369700-1748372400@www.ashlandy.org
SUMMARY:LIGHTBAR Cycling
DESCRIPTION:Instructor: Shelly \nSpots: 19 \nDescription: Intervals\, rolling hills\, sprints\, climbs\, runs\, surges and jumps all to music hand-picked to motivate and inspire! This is a great workout if you want to burn calories and increase endurance
URL:https://www.ashlandy.org/event/lightbar-cycling-12/
LOCATION:Cycling Room
CATEGORIES:Group Ex-Schedule
END:VEVENT
BEGIN:VEVENT
DTSTART;TZID=America/New_York:20250527T051500
DTEND;TZID=America/New_York:20250527T060000
DTSTAMP:20260419T143254
CREATED:20250329T171736Z
LAST-MODIFIED:20250526T210138Z
UID:10003368-1748322900-1748325600@www.ashlandy.org
SUMMARY:Cycling-w/Michelle McDonald
DESCRIPTION:First come. First served.
URL:https://www.ashlandy.org/event/cycling-w-michelle-mcdonald-121/
LOCATION:Cycling Room
CATEGORIES:Group Ex-Schedule
END:VEVENT
BEGIN:VEVENT
DTSTART;TZID=America/New_York:20250526T051500
DTEND;TZID=America/New_York:20250526T060000
DTSTAMP:20260419T143254
CREATED:20250328T164740Z
LAST-MODIFIED:20250525T203937Z
UID:10003360-1748236500-1748239200@www.ashlandy.org
SUMMARY:Cycling
DESCRIPTION:Class with Terrence Webb
URL:https://www.ashlandy.org/event/cycling-82/
LOCATION:Cycling Room
CATEGORIES:Group Ex-Schedule
END:VEVENT
BEGIN:VEVENT
DTSTART;TZID=America/New_York:20250523T051500
DTEND;TZID=America/New_York:20250523T060000
DTSTAMP:20260419T143254
CREATED:20250326T154814Z
LAST-MODIFIED:20250522T190939Z
UID:10003343-1747977300-1747980000@www.ashlandy.org
SUMMARY:Cycling
DESCRIPTION:Instructor: Terrence Webb
URL:https://www.ashlandy.org/event/cycling-81/
LOCATION:Cycling Room
CATEGORIES:Group Ex-Schedule
END:VEVENT
END:VCALENDAR