BEGIN:VCALENDAR
VERSION:2.0
PRODID:-//YMCA of Ashland, Ohio - ECPv6.5.0//NONSGML v1.0//EN
CALSCALE:GREGORIAN
METHOD:PUBLISH
X-WR-CALNAME:YMCA of Ashland, Ohio
X-ORIGINAL-URL:https://www.ashlandy.org
X-WR-CALDESC:Events for YMCA of Ashland, Ohio
REFRESH-INTERVAL;VALUE=DURATION:PT1H
X-Robots-Tag:noindex
X-PUBLISHED-TTL:PT1H
BEGIN:VTIMEZONE
TZID:America/New_York
BEGIN:DAYLIGHT
TZOFFSETFROM:-0500
TZOFFSETTO:-0400
TZNAME:EDT
DTSTART:20250309T070000
END:DAYLIGHT
BEGIN:STANDARD
TZOFFSETFROM:-0400
TZOFFSETTO:-0500
TZNAME:EST
DTSTART:20251102T060000
END:STANDARD
END:VTIMEZONE
BEGIN:VEVENT
DTSTART;TZID=America/New_York:20250516T051500
DTEND;TZID=America/New_York:20250516T060000
DTSTAMP:20260419T193337
CREATED:20250320T124742Z
LAST-MODIFIED:20250515T153912Z
UID:10003294-1747372500-1747375200@www.ashlandy.org
SUMMARY:Cycling
DESCRIPTION:Instructor: Terrence Webb
URL:https://www.ashlandy.org/event/cycling-77/
LOCATION:Cycling Room
CATEGORIES:Group Ex-Schedule
END:VEVENT
BEGIN:VEVENT
DTSTART;TZID=America/New_York:20250515T080000
DTEND;TZID=America/New_York:20250515T083000
DTSTAMP:20260419T193337
CREATED:20250318T114648Z
LAST-MODIFIED:20250514T150914Z
UID:10003280-1747296000-1747297800@www.ashlandy.org
SUMMARY:Cycle Strong
DESCRIPTION:
URL:https://www.ashlandy.org/event/cycle-strong-193/
LOCATION:Cycling Room
CATEGORIES:Group Ex-Schedule
END:VEVENT
BEGIN:VEVENT
DTSTART;TZID=America/New_York:20250515T051500
DTEND;TZID=America/New_York:20250515T060000
DTSTAMP:20260419T193337
CREATED:20250319T121739Z
LAST-MODIFIED:20250514T150914Z
UID:10003286-1747286100-1747288800@www.ashlandy.org
SUMMARY:Cycling-w/Michelle McDonald
DESCRIPTION:First come. First served.
URL:https://www.ashlandy.org/event/cycling-w-michelle-mcdonald-118/
LOCATION:Cycling Room
CATEGORIES:Group Ex-Schedule
END:VEVENT
BEGIN:VEVENT
DTSTART;TZID=America/New_York:20250514T083000
DTEND;TZID=America/New_York:20250514T090000
DTSTAMP:20260419T193337
CREATED:20250318T114645Z
LAST-MODIFIED:20250513T143941Z
UID:10003274-1747211400-1747213200@www.ashlandy.org
SUMMARY:Cycle Strong
DESCRIPTION:Instructor: Shelly \nSpots: 19 \nDescription: Intervals\, rolling hills\, sprints\, climbs\, runs\, surges and jumps all to music hand-picked to motivate and inspire! This is a great workout if you want to burn calories and increase endurance.
URL:https://www.ashlandy.org/event/cycle-strong-192/
LOCATION:Cycling Room
CATEGORIES:Group Ex-Schedule
END:VEVENT
BEGIN:VEVENT
DTSTART;TZID=America/New_York:20250513T181500
DTEND;TZID=America/New_York:20250513T190000
DTSTAMP:20260419T193337
CREATED:20250317T111809Z
LAST-MODIFIED:20250513T143940Z
UID:10003270-1747160100-1747162800@www.ashlandy.org
SUMMARY:LIGHTBAR Cycling
DESCRIPTION:Instructor: Shelly \nSpots: 19 \nDescription: Intervals\, rolling hills\, sprints\, climbs\, runs\, surges and jumps all to music hand-picked to motivate and inspire! This is a great workout if you want to burn calories and increase endurance
URL:https://www.ashlandy.org/event/lightbar-cycling-10/
LOCATION:Cycling Room
CATEGORIES:Group Ex-Schedule
END:VEVENT
BEGIN:VEVENT
DTSTART;TZID=America/New_York:20250513T051500
DTEND;TZID=America/New_York:20250513T060000
DTSTAMP:20260419T193337
CREATED:20250317T111807Z
LAST-MODIFIED:20250512T140937Z
UID:10003267-1747113300-1747116000@www.ashlandy.org
SUMMARY:Cycling-w/Michelle McDonald
DESCRIPTION:First come. First served.
URL:https://www.ashlandy.org/event/cycling-w-michelle-mcdonald-117/
LOCATION:Cycling Room
CATEGORIES:Group Ex-Schedule
END:VEVENT
BEGIN:VEVENT
DTSTART;TZID=America/New_York:20250512T051500
DTEND;TZID=America/New_York:20250512T060000
DTSTAMP:20260419T193337
CREATED:20250314T094751Z
LAST-MODIFIED:20250511T133936Z
UID:10003253-1747026900-1747029600@www.ashlandy.org
SUMMARY:Cycling
DESCRIPTION:Class with Terrence Webb
URL:https://www.ashlandy.org/event/cycling-74/
LOCATION:Cycling Room
CATEGORIES:Group Ex-Schedule
END:VEVENT
BEGIN:VEVENT
DTSTART;TZID=America/New_York:20250509T051500
DTEND;TZID=America/New_York:20250509T060000
DTSTAMP:20260419T193337
CREATED:20250313T091749Z
LAST-MODIFIED:20250508T120942Z
UID:10003241-1746767700-1746770400@www.ashlandy.org
SUMMARY:Cycling
DESCRIPTION:Instructor: Terrence Webb
URL:https://www.ashlandy.org/event/cycling-73/
LOCATION:Cycling Room
CATEGORIES:Group Ex-Schedule
END:VEVENT
BEGIN:VEVENT
DTSTART;TZID=America/New_York:20250508T080000
DTEND;TZID=America/New_York:20250508T083000
DTSTAMP:20260419T193337
CREATED:20250312T084732Z
LAST-MODIFIED:20250508T120940Z
UID:10003232-1746691200-1746693000@www.ashlandy.org
SUMMARY:Cycle Strong
DESCRIPTION:
URL:https://www.ashlandy.org/event/cycle-strong-191/
LOCATION:Cycling Room
CATEGORIES:Group Ex-Schedule
END:VEVENT
BEGIN:VEVENT
DTSTART;TZID=America/New_York:20250508T051500
DTEND;TZID=America/New_York:20250508T060000
DTSTAMP:20260419T193337
CREATED:20250312T084731Z
LAST-MODIFIED:20250507T113925Z
UID:10003229-1746681300-1746684000@www.ashlandy.org
SUMMARY:Cycling-w/Michelle McDonald
DESCRIPTION:First come. First served.
URL:https://www.ashlandy.org/event/cycling-w-michelle-mcdonald-116/
LOCATION:Cycling Room
CATEGORIES:Group Ex-Schedule
END:VEVENT
BEGIN:VEVENT
DTSTART;TZID=America/New_York:20250507T083000
DTEND;TZID=America/New_York:20250507T090000
DTSTAMP:20260419T193337
CREATED:20250311T081754Z
LAST-MODIFIED:20250507T113923Z
UID:10003219-1746606600-1746608400@www.ashlandy.org
SUMMARY:Cycle Strong
DESCRIPTION:Instructor: Shelly \nSpots: 19 \nDescription: Intervals\, rolling hills\, sprints\, climbs\, runs\, surges and jumps all to music hand-picked to motivate and inspire! This is a great workout if you want to burn calories and increase endurance.
URL:https://www.ashlandy.org/event/cycle-strong-190/
LOCATION:Cycling Room
CATEGORIES:Group Ex-Schedule
END:VEVENT
BEGIN:VEVENT
DTSTART;TZID=America/New_York:20250506T181500
DTEND;TZID=America/New_York:20250506T190000
DTSTAMP:20260419T193337
CREATED:20250311T081754Z
LAST-MODIFIED:20250506T110913Z
UID:10003218-1746555300-1746558000@www.ashlandy.org
SUMMARY:LIGHTBAR Cycling
DESCRIPTION:Instructor: Shelly \nSpots: 19 \nDescription: Intervals\, rolling hills\, sprints\, climbs\, runs\, surges and jumps all to music hand-picked to motivate and inspire! This is a great workout if you want to burn calories and increase endurance
URL:https://www.ashlandy.org/event/lightbar-cycling-9/
LOCATION:Cycling Room
CATEGORIES:Group Ex-Schedule
END:VEVENT
BEGIN:VEVENT
DTSTART;TZID=America/New_York:20250506T051500
DTEND;TZID=America/New_York:20250506T060000
DTSTAMP:20260419T193337
CREATED:20250309T071758Z
LAST-MODIFIED:20250505T103913Z
UID:10003216-1746508500-1746511200@www.ashlandy.org
SUMMARY:Cycling-w/Michelle McDonald
DESCRIPTION:First come. First served.
URL:https://www.ashlandy.org/event/cycling-w-michelle-mcdonald-115/
LOCATION:Cycling Room
CATEGORIES:Group Ex-Schedule
END:VEVENT
BEGIN:VEVENT
DTSTART;TZID=America/New_York:20250505T051500
DTEND;TZID=America/New_York:20250505T060000
DTSTAMP:20260419T193337
CREATED:20250307T063053Z
LAST-MODIFIED:20250504T100940Z
UID:10003200-1746422100-1746424800@www.ashlandy.org
SUMMARY:Cycling
DESCRIPTION:Class with Terrence Webb
URL:https://www.ashlandy.org/event/cycling-70/
LOCATION:Cycling Room
CATEGORIES:Group Ex-Schedule
END:VEVENT
BEGIN:VEVENT
DTSTART;TZID=America/New_York:20250502T051500
DTEND;TZID=America/New_York:20250502T060000
DTSTAMP:20260419T193337
CREATED:20250306T061802Z
LAST-MODIFIED:20250502T090940Z
UID:10003188-1746162900-1746165600@www.ashlandy.org
SUMMARY:Cycling
DESCRIPTION:Instructor: Terrence Webb
URL:https://www.ashlandy.org/event/cycling-69/
LOCATION:Cycling Room
CATEGORIES:Group Ex-Schedule
END:VEVENT
BEGIN:VEVENT
DTSTART;TZID=America/New_York:20250501T080000
DTEND;TZID=America/New_York:20250501T083000
DTSTAMP:20260419T193337
CREATED:20250305T054754Z
LAST-MODIFIED:20250501T083938Z
UID:10003181-1746086400-1746088200@www.ashlandy.org
SUMMARY:Cycle Strong
DESCRIPTION:
URL:https://www.ashlandy.org/event/cycle-strong-189/
LOCATION:Cycling Room
CATEGORIES:Group Ex-Schedule
END:VEVENT
BEGIN:VEVENT
DTSTART;TZID=America/New_York:20250501T051500
DTEND;TZID=America/New_York:20250501T060000
DTSTAMP:20260419T193337
CREATED:20250305T054753Z
LAST-MODIFIED:20250501T083936Z
UID:10003178-1746076500-1746079200@www.ashlandy.org
SUMMARY:Cycling-w/Michelle McDonald
DESCRIPTION:First come. First served.
URL:https://www.ashlandy.org/event/cycling-w-michelle-mcdonald-114/
LOCATION:Cycling Room
CATEGORIES:Group Ex-Schedule
END:VEVENT
BEGIN:VEVENT
DTSTART;TZID=America/New_York:20250430T083000
DTEND;TZID=America/New_York:20250430T090000
DTSTAMP:20260419T193337
CREATED:20250304T051823Z
LAST-MODIFIED:20250430T080940Z
UID:10003168-1746001800-1746003600@www.ashlandy.org
SUMMARY:Cycle Strong
DESCRIPTION:Instructor: Shelly \nSpots: 19 \nDescription: Intervals\, rolling hills\, sprints\, climbs\, runs\, surges and jumps all to music hand-picked to motivate and inspire! This is a great workout if you want to burn calories and increase endurance.
URL:https://www.ashlandy.org/event/cycle-strong-188/
LOCATION:Cycling Room
CATEGORIES:Group Ex-Schedule
END:VEVENT
BEGIN:VEVENT
DTSTART;TZID=America/New_York:20250429T181500
DTEND;TZID=America/New_York:20250429T190000
DTSTAMP:20260419T193337
CREATED:20250304T051823Z
LAST-MODIFIED:20250429T073940Z
UID:10003167-1745950500-1745953200@www.ashlandy.org
SUMMARY:LIGHTBAR Cycling
DESCRIPTION:Instructor: Shelly \nSpots: 19 \nDescription: Intervals\, rolling hills\, sprints\, climbs\, runs\, surges and jumps all to music hand-picked to motivate and inspire! This is a great workout if you want to burn calories and increase endurance
URL:https://www.ashlandy.org/event/lightbar-cycling-8/
LOCATION:Cycling Room
CATEGORIES:Group Ex-Schedule
END:VEVENT
BEGIN:VEVENT
DTSTART;TZID=America/New_York:20250429T051500
DTEND;TZID=America/New_York:20250429T060000
DTSTAMP:20260419T193337
CREATED:20250302T041736Z
LAST-MODIFIED:20250429T073939Z
UID:10003165-1745903700-1745906400@www.ashlandy.org
SUMMARY:Cycling-w/Michelle McDonald
DESCRIPTION:First come. First served.
URL:https://www.ashlandy.org/event/cycling-w-michelle-mcdonald-113/
LOCATION:Cycling Room
CATEGORIES:Group Ex-Schedule
END:VEVENT
BEGIN:VEVENT
DTSTART;TZID=America/New_York:20250428T051500
DTEND;TZID=America/New_York:20250428T060000
DTSTAMP:20260419T193337
CREATED:20250228T031754Z
LAST-MODIFIED:20250428T070938Z
UID:10003144-1745817300-1745820000@www.ashlandy.org
SUMMARY:Cycling
DESCRIPTION:Class with Terrence Webb
URL:https://www.ashlandy.org/event/cycling-66/
LOCATION:Cycling Room
CATEGORIES:Group Ex-Schedule
END:VEVENT
BEGIN:VEVENT
DTSTART;TZID=America/New_York:20250425T051500
DTEND;TZID=America/New_York:20250425T060000
DTSTAMP:20260419T193337
CREATED:20250227T024749Z
LAST-MODIFIED:20250425T053935Z
UID:10003132-1745558100-1745560800@www.ashlandy.org
SUMMARY:Cycling
DESCRIPTION:Instructor: Terrence Webb
URL:https://www.ashlandy.org/event/cycling-65/
LOCATION:Cycling Room
CATEGORIES:Group Ex-Schedule
END:VEVENT
BEGIN:VEVENT
DTSTART;TZID=America/New_York:20250424T080000
DTEND;TZID=America/New_York:20250424T083000
DTSTAMP:20260419T193337
CREATED:20250226T021747Z
LAST-MODIFIED:20250424T050916Z
UID:10003128-1745481600-1745483400@www.ashlandy.org
SUMMARY:Cycle Strong
DESCRIPTION:
URL:https://www.ashlandy.org/event/cycle-strong-187/
LOCATION:Cycling Room
CATEGORIES:Group Ex-Schedule
END:VEVENT
BEGIN:VEVENT
DTSTART;TZID=America/New_York:20250424T051500
DTEND;TZID=America/New_York:20250424T060000
DTSTAMP:20260419T193337
CREATED:20250226T021745Z
LAST-MODIFIED:20250424T050914Z
UID:10003125-1745471700-1745474400@www.ashlandy.org
SUMMARY:Cycling-w/Michelle McDonald
DESCRIPTION:First come. First served.
URL:https://www.ashlandy.org/event/cycling-w-michelle-mcdonald-112/
LOCATION:Cycling Room
CATEGORIES:Group Ex-Schedule
END:VEVENT
BEGIN:VEVENT
DTSTART;TZID=America/New_York:20250423T083000
DTEND;TZID=America/New_York:20250423T090000
DTSTAMP:20260419T193337
CREATED:20250225T014647Z
LAST-MODIFIED:20250423T043936Z
UID:10003114-1745397000-1745398800@www.ashlandy.org
SUMMARY:Cycle Strong
DESCRIPTION:Instructor: Shelly \nSpots: 19 \nDescription: Intervals\, rolling hills\, sprints\, climbs\, runs\, surges and jumps all to music hand-picked to motivate and inspire! This is a great workout if you want to burn calories and increase endurance.
URL:https://www.ashlandy.org/event/cycle-strong-186/
LOCATION:Cycling Room
CATEGORIES:Group Ex-Schedule
END:VEVENT
BEGIN:VEVENT
DTSTART;TZID=America/New_York:20250422T181500
DTEND;TZID=America/New_York:20250422T190000
DTSTAMP:20260419T193337
CREATED:20250225T014647Z
LAST-MODIFIED:20250422T042235Z
UID:10003113-1745345700-1745348400@www.ashlandy.org
SUMMARY:LIGHTBAR Cycling
DESCRIPTION:Instructor: Shelly \nSpots: 19 \nDescription: Intervals\, rolling hills\, sprints\, climbs\, runs\, surges and jumps all to music hand-picked to motivate and inspire! This is a great workout if you want to burn calories and increase endurance
URL:https://www.ashlandy.org/event/lightbar-cycling-7/
LOCATION:Cycling Room
CATEGORIES:Group Ex-Schedule
END:VEVENT
BEGIN:VEVENT
DTSTART;TZID=America/New_York:20250422T051500
DTEND;TZID=America/New_York:20250422T060000
DTSTAMP:20260419T193337
CREATED:20250223T004711Z
LAST-MODIFIED:20250422T042234Z
UID:10003110-1745298900-1745301600@www.ashlandy.org
SUMMARY:Cycling-w/Michelle McDonald
DESCRIPTION:First come. First served.
URL:https://www.ashlandy.org/event/cycling-w-michelle-mcdonald-111/
LOCATION:Cycling Room
CATEGORIES:Group Ex-Schedule
END:VEVENT
BEGIN:VEVENT
DTSTART;TZID=America/New_York:20250421T051500
DTEND;TZID=America/New_York:20250421T060000
DTSTAMP:20260419T193337
CREATED:20250220T234734Z
LAST-MODIFIED:20250421T040938Z
UID:10003097-1745212500-1745215200@www.ashlandy.org
SUMMARY:Cycling
DESCRIPTION:Class with Terrence Webb
URL:https://www.ashlandy.org/event/cycling-62/
LOCATION:Cycling Room
CATEGORIES:Group Ex-Schedule
END:VEVENT
BEGIN:VEVENT
DTSTART;TZID=America/New_York:20250418T051500
DTEND;TZID=America/New_York:20250418T060000
DTSTAMP:20260419T193337
CREATED:20250219T231711Z
LAST-MODIFIED:20250418T023911Z
UID:10003085-1744953300-1744956000@www.ashlandy.org
SUMMARY:Cycling
DESCRIPTION:Instructor: Terrence Webb
URL:https://www.ashlandy.org/event/cycling-61/
LOCATION:Cycling Room
CATEGORIES:Group Ex-Schedule
END:VEVENT
BEGIN:VEVENT
DTSTART;TZID=America/New_York:20250417T080000
DTEND;TZID=America/New_York:20250417T083000
DTSTAMP:20260419T193337
CREATED:20250218T224712Z
LAST-MODIFIED:20250417T020913Z
UID:10003076-1744876800-1744878600@www.ashlandy.org
SUMMARY:Cycle Strong
DESCRIPTION:
URL:https://www.ashlandy.org/event/cycle-strong-185/
LOCATION:Cycling Room
CATEGORIES:Group Ex-Schedule
END:VEVENT
END:VCALENDAR