BEGIN:VCALENDAR
VERSION:2.0
PRODID:-//YMCA of Ashland, Ohio - ECPv6.5.0//NONSGML v1.0//EN
CALSCALE:GREGORIAN
METHOD:PUBLISH
X-ORIGINAL-URL:https://www.ashlandy.org
X-WR-CALDESC:Events for YMCA of Ashland, Ohio
REFRESH-INTERVAL;VALUE=DURATION:PT1H
X-Robots-Tag:noindex
X-PUBLISHED-TTL:PT1H
BEGIN:VTIMEZONE
TZID:America/New_York
BEGIN:DAYLIGHT
TZOFFSETFROM:-0500
TZOFFSETTO:-0400
TZNAME:EDT
DTSTART:20250309T070000
END:DAYLIGHT
BEGIN:STANDARD
TZOFFSETFROM:-0400
TZOFFSETTO:-0500
TZNAME:EST
DTSTART:20251102T060000
END:STANDARD
END:VTIMEZONE
BEGIN:VEVENT
DTSTART;TZID=America/New_York:20250423T083000
DTEND;TZID=America/New_York:20250423T090000
DTSTAMP:20260420T004738
CREATED:20250225T014647Z
LAST-MODIFIED:20250423T043936Z
UID:10003114-1745397000-1745398800@www.ashlandy.org
SUMMARY:Cycle Strong
DESCRIPTION:Instructor: Shelly \nSpots: 19 \nDescription: Intervals\, rolling hills\, sprints\, climbs\, runs\, surges and jumps all to music hand-picked to motivate and inspire! This is a great workout if you want to burn calories and increase endurance.
URL:https://www.ashlandy.org/event/cycle-strong-186/
LOCATION:Cycling Room
CATEGORIES:Group Ex-Schedule
END:VEVENT
BEGIN:VEVENT
DTSTART;TZID=America/New_York:20250422T181500
DTEND;TZID=America/New_York:20250422T190000
DTSTAMP:20260420T004738
CREATED:20250225T014647Z
LAST-MODIFIED:20250422T042235Z
UID:10003113-1745345700-1745348400@www.ashlandy.org
SUMMARY:LIGHTBAR Cycling
DESCRIPTION:Instructor: Shelly \nSpots: 19 \nDescription: Intervals\, rolling hills\, sprints\, climbs\, runs\, surges and jumps all to music hand-picked to motivate and inspire! This is a great workout if you want to burn calories and increase endurance
URL:https://www.ashlandy.org/event/lightbar-cycling-7/
LOCATION:Cycling Room
CATEGORIES:Group Ex-Schedule
END:VEVENT
BEGIN:VEVENT
DTSTART;TZID=America/New_York:20250422T051500
DTEND;TZID=America/New_York:20250422T060000
DTSTAMP:20260420T004738
CREATED:20250223T004711Z
LAST-MODIFIED:20250422T042234Z
UID:10003110-1745298900-1745301600@www.ashlandy.org
SUMMARY:Cycling-w/Michelle McDonald
DESCRIPTION:First come. First served.
URL:https://www.ashlandy.org/event/cycling-w-michelle-mcdonald-111/
LOCATION:Cycling Room
CATEGORIES:Group Ex-Schedule
END:VEVENT
BEGIN:VEVENT
DTSTART;TZID=America/New_York:20250421T051500
DTEND;TZID=America/New_York:20250421T060000
DTSTAMP:20260420T004738
CREATED:20250220T234734Z
LAST-MODIFIED:20250421T040938Z
UID:10003097-1745212500-1745215200@www.ashlandy.org
SUMMARY:Cycling
DESCRIPTION:Class with Terrence Webb
URL:https://www.ashlandy.org/event/cycling-62/
LOCATION:Cycling Room
CATEGORIES:Group Ex-Schedule
END:VEVENT
BEGIN:VEVENT
DTSTART;TZID=America/New_York:20250418T051500
DTEND;TZID=America/New_York:20250418T060000
DTSTAMP:20260420T004738
CREATED:20250219T231711Z
LAST-MODIFIED:20250418T023911Z
UID:10003085-1744953300-1744956000@www.ashlandy.org
SUMMARY:Cycling
DESCRIPTION:Instructor: Terrence Webb
URL:https://www.ashlandy.org/event/cycling-61/
LOCATION:Cycling Room
CATEGORIES:Group Ex-Schedule
END:VEVENT
BEGIN:VEVENT
DTSTART;TZID=America/New_York:20250417T080000
DTEND;TZID=America/New_York:20250417T083000
DTSTAMP:20260420T004738
CREATED:20250218T224712Z
LAST-MODIFIED:20250417T020913Z
UID:10003076-1744876800-1744878600@www.ashlandy.org
SUMMARY:Cycle Strong
DESCRIPTION:
URL:https://www.ashlandy.org/event/cycle-strong-185/
LOCATION:Cycling Room
CATEGORIES:Group Ex-Schedule
END:VEVENT
BEGIN:VEVENT
DTSTART;TZID=America/New_York:20250417T051500
DTEND;TZID=America/New_York:20250417T060000
DTSTAMP:20260420T004738
CREATED:20250218T224711Z
LAST-MODIFIED:20250417T020911Z
UID:10003075-1744866900-1744869600@www.ashlandy.org
SUMMARY:Cycling-w/Michelle McDonald
DESCRIPTION:First come. First served.
URL:https://www.ashlandy.org/event/cycling-w-michelle-mcdonald-110/
LOCATION:Cycling Room
CATEGORIES:Group Ex-Schedule
END:VEVENT
BEGIN:VEVENT
DTSTART;TZID=America/New_York:20250416T083000
DTEND;TZID=America/New_York:20250416T090000
DTSTAMP:20260420T004738
CREATED:20250217T221705Z
LAST-MODIFIED:20250416T013936Z
UID:10003067-1744792200-1744794000@www.ashlandy.org
SUMMARY:Cycle Strong
DESCRIPTION:Instructor: Shelly \nSpots: 19 \nDescription: Intervals\, rolling hills\, sprints\, climbs\, runs\, surges and jumps all to music hand-picked to motivate and inspire! This is a great workout if you want to burn calories and increase endurance.
URL:https://www.ashlandy.org/event/cycle-strong-184/
LOCATION:Cycling Room
CATEGORIES:Group Ex-Schedule
END:VEVENT
BEGIN:VEVENT
DTSTART;TZID=America/New_York:20250415T181500
DTEND;TZID=America/New_York:20250415T190000
DTSTAMP:20260420T004738
CREATED:20250217T221703Z
LAST-MODIFIED:20250415T010939Z
UID:10003064-1744740900-1744743600@www.ashlandy.org
SUMMARY:LIGHTBAR Cycling
DESCRIPTION:Instructor: Shelly \nSpots: 19 \nDescription: Intervals\, rolling hills\, sprints\, climbs\, runs\, surges and jumps all to music hand-picked to motivate and inspire! This is a great workout if you want to burn calories and increase endurance
URL:https://www.ashlandy.org/event/lightbar-cycling-6/
LOCATION:Cycling Room
CATEGORIES:Group Ex-Schedule
END:VEVENT
BEGIN:VEVENT
DTSTART;TZID=America/New_York:20250415T051500
DTEND;TZID=America/New_York:20250415T060000
DTSTAMP:20260420T004738
CREATED:20250215T211656Z
LAST-MODIFIED:20250415T010937Z
UID:10003059-1744694100-1744696800@www.ashlandy.org
SUMMARY:Cycling-w/Michelle McDonald
DESCRIPTION:First come. First served.
URL:https://www.ashlandy.org/event/cycling-w-michelle-mcdonald-109/
LOCATION:Cycling Room
CATEGORIES:Group Ex-Schedule
END:VEVENT
BEGIN:VEVENT
DTSTART;TZID=America/New_York:20250414T051500
DTEND;TZID=America/New_York:20250414T060000
DTSTAMP:20260420T004738
CREATED:20250213T201712Z
LAST-MODIFIED:20250414T003941Z
UID:10003046-1744607700-1744610400@www.ashlandy.org
SUMMARY:Cycling
DESCRIPTION:Class with Terrence Webb
URL:https://www.ashlandy.org/event/cycling-58/
LOCATION:Cycling Room
CATEGORIES:Group Ex-Schedule
END:VEVENT
BEGIN:VEVENT
DTSTART;TZID=America/New_York:20250411T051500
DTEND;TZID=America/New_York:20250411T060000
DTSTAMP:20260420T004738
CREATED:20250212T194726Z
LAST-MODIFIED:20250410T230940Z
UID:10003034-1744348500-1744351200@www.ashlandy.org
SUMMARY:Cycling
DESCRIPTION:Instructor: Terrence Webb
URL:https://www.ashlandy.org/event/cycling-57/
LOCATION:Cycling Room
CATEGORIES:Group Ex-Schedule
END:VEVENT
BEGIN:VEVENT
DTSTART;TZID=America/New_York:20250410T080000
DTEND;TZID=America/New_York:20250410T083000
DTSTAMP:20260420T004738
CREATED:20250211T191708Z
LAST-MODIFIED:20250409T223940Z
UID:10003025-1744272000-1744273800@www.ashlandy.org
SUMMARY:Cycle Strong
DESCRIPTION:
URL:https://www.ashlandy.org/event/cycle-strong-183/
LOCATION:Cycling Room
CATEGORIES:Group Ex-Schedule
END:VEVENT
BEGIN:VEVENT
DTSTART;TZID=America/New_York:20250410T051500
DTEND;TZID=America/New_York:20250410T060000
DTSTAMP:20260420T004738
CREATED:20250211T191707Z
LAST-MODIFIED:20250409T223938Z
UID:10003023-1744262100-1744264800@www.ashlandy.org
SUMMARY:Cycling-w/Michelle McDonald
DESCRIPTION:First come. First served.
URL:https://www.ashlandy.org/event/cycling-w-michelle-mcdonald-108/
LOCATION:Cycling Room
CATEGORIES:Group Ex-Schedule
END:VEVENT
BEGIN:VEVENT
DTSTART;TZID=America/New_York:20250409T083000
DTEND;TZID=America/New_York:20250409T090000
DTSTAMP:20260420T004738
CREATED:20250210T184646Z
LAST-MODIFIED:20250408T220936Z
UID:10003016-1744187400-1744189200@www.ashlandy.org
SUMMARY:Cycle Strong
DESCRIPTION:Instructor: Shelly \nSpots: 19 \nDescription: Intervals\, rolling hills\, sprints\, climbs\, runs\, surges and jumps all to music hand-picked to motivate and inspire! This is a great workout if you want to burn calories and increase endurance.
URL:https://www.ashlandy.org/event/cycle-strong-182/
LOCATION:Cycling Room
CATEGORIES:Group Ex-Schedule
END:VEVENT
BEGIN:VEVENT
DTSTART;TZID=America/New_York:20250408T181500
DTEND;TZID=America/New_York:20250408T190000
DTSTAMP:20260420T004738
CREATED:20250210T184645Z
LAST-MODIFIED:20250408T220935Z
UID:10003013-1744136100-1744138800@www.ashlandy.org
SUMMARY:LIGHTBAR Cycling
DESCRIPTION:Instructor: Shelly \nSpots: 19 \nDescription: Intervals\, rolling hills\, sprints\, climbs\, runs\, surges and jumps all to music hand-picked to motivate and inspire! This is a great workout if you want to burn calories and increase endurance
URL:https://www.ashlandy.org/event/lightbar-cycling-5/
LOCATION:Cycling Room
CATEGORIES:Group Ex-Schedule
END:VEVENT
BEGIN:VEVENT
DTSTART;TZID=America/New_York:20250408T051500
DTEND;TZID=America/New_York:20250408T060000
DTSTAMP:20260420T004738
CREATED:20250208T174648Z
LAST-MODIFIED:20250407T213938Z
UID:10003008-1744089300-1744092000@www.ashlandy.org
SUMMARY:Cycling-w/Michelle McDonald
DESCRIPTION:First come. First served.
URL:https://www.ashlandy.org/event/cycling-w-michelle-mcdonald-107/
LOCATION:Cycling Room
CATEGORIES:Group Ex-Schedule
END:VEVENT
BEGIN:VEVENT
DTSTART;TZID=America/New_York:20250407T051500
DTEND;TZID=America/New_York:20250407T060000
DTSTAMP:20260420T004738
CREATED:20250206T164643Z
LAST-MODIFIED:20250406T210938Z
UID:10002992-1744002900-1744005600@www.ashlandy.org
SUMMARY:Cycling
DESCRIPTION:Class with Terrence Webb
URL:https://www.ashlandy.org/event/cycling-54/
LOCATION:Cycling Room
CATEGORIES:Group Ex-Schedule
END:VEVENT
BEGIN:VEVENT
DTSTART;TZID=America/New_York:20250404T051500
DTEND;TZID=America/New_York:20250404T060000
DTSTAMP:20260420T004738
CREATED:20250206T164626Z
LAST-MODIFIED:20250403T193938Z
UID:10002983-1743743700-1743746400@www.ashlandy.org
SUMMARY:Cycling
DESCRIPTION:Instructor: Terrence Webb
URL:https://www.ashlandy.org/event/cycling-53/
LOCATION:Cycling Room
CATEGORIES:Group Ex-Schedule
END:VEVENT
BEGIN:VEVENT
DTSTART;TZID=America/New_York:20250403T080000
DTEND;TZID=America/New_York:20250403T083000
DTSTAMP:20260420T004738
CREATED:20250206T164624Z
LAST-MODIFIED:20250402T190914Z
UID:10002979-1743667200-1743669000@www.ashlandy.org
SUMMARY:Cycle Strong
DESCRIPTION:
URL:https://www.ashlandy.org/event/cycle-strong-181/
LOCATION:Cycling Room
CATEGORIES:Group Ex-Schedule
END:VEVENT
BEGIN:VEVENT
DTSTART;TZID=America/New_York:20250403T051500
DTEND;TZID=America/New_York:20250403T060000
DTSTAMP:20260420T004738
CREATED:20250206T164622Z
LAST-MODIFIED:20250402T190913Z
UID:10002978-1743657300-1743660000@www.ashlandy.org
SUMMARY:Cycling-w/Michelle McDonald
DESCRIPTION:First come. First served.
URL:https://www.ashlandy.org/event/cycling-w-michelle-mcdonald-106/
LOCATION:Cycling Room
CATEGORIES:Group Ex-Schedule
END:VEVENT
BEGIN:VEVENT
DTSTART;TZID=America/New_York:20250402T083000
DTEND;TZID=America/New_York:20250402T090000
DTSTAMP:20260420T004738
CREATED:20250203T151712Z
LAST-MODIFIED:20250401T183938Z
UID:10002961-1743582600-1743584400@www.ashlandy.org
SUMMARY:Cycle Strong
DESCRIPTION:Instructor: Shelly \nSpots: 19 \nDescription: Intervals\, rolling hills\, sprints\, climbs\, runs\, surges and jumps all to music hand-picked to motivate and inspire! This is a great workout if you want to burn calories and increase endurance.
URL:https://www.ashlandy.org/event/cycle-strong-180/
LOCATION:Cycling Room
CATEGORIES:Group Ex-Schedule
END:VEVENT
BEGIN:VEVENT
DTSTART;TZID=America/New_York:20250401T181500
DTEND;TZID=America/New_York:20250401T190000
DTSTAMP:20260420T004738
CREATED:20250203T151711Z
LAST-MODIFIED:20250401T183937Z
UID:10002959-1743531300-1743534000@www.ashlandy.org
SUMMARY:LIGHTBAR Cycling
DESCRIPTION:Instructor: Shelly \nSpots: 19 \nDescription: Intervals\, rolling hills\, sprints\, climbs\, runs\, surges and jumps all to music hand-picked to motivate and inspire! This is a great workout if you want to burn calories and increase endurance
URL:https://www.ashlandy.org/event/lightbar-cycling-4/
LOCATION:Cycling Room
CATEGORIES:Group Ex-Schedule
END:VEVENT
BEGIN:VEVENT
DTSTART;TZID=America/New_York:20250401T051500
DTEND;TZID=America/New_York:20250401T060000
DTSTAMP:20260420T004738
CREATED:20250201T141728Z
LAST-MODIFIED:20250331T180940Z
UID:10002953-1743484500-1743487200@www.ashlandy.org
SUMMARY:Cycling-w/Michelle McDonald
DESCRIPTION:First come. First served.
URL:https://www.ashlandy.org/event/cycling-w-michelle-mcdonald-105/
LOCATION:Cycling Room
CATEGORIES:Group Ex-Schedule
END:VEVENT
BEGIN:VEVENT
DTSTART;TZID=America/New_York:20250331T051500
DTEND;TZID=America/New_York:20250331T060000
DTSTAMP:20260420T004738
CREATED:20250131T134708Z
LAST-MODIFIED:20250330T173937Z
UID:10002943-1743398100-1743400800@www.ashlandy.org
SUMMARY:Cycling
DESCRIPTION:Class with Terrence Webb
URL:https://www.ashlandy.org/event/cycling-50/
LOCATION:Cycling Room
CATEGORIES:Group Ex-Schedule
END:VEVENT
BEGIN:VEVENT
DTSTART;TZID=America/New_York:20250328T051500
DTEND;TZID=America/New_York:20250328T060000
DTSTAMP:20260420T004738
CREATED:20250131T134652Z
LAST-MODIFIED:20250327T160939Z
UID:10002934-1743138900-1743141600@www.ashlandy.org
SUMMARY:Cycling
DESCRIPTION:Instructor: Terrence Webb
URL:https://www.ashlandy.org/event/cycling-49/
LOCATION:Cycling Room
CATEGORIES:Group Ex-Schedule
END:VEVENT
BEGIN:VEVENT
DTSTART;TZID=America/New_York:20250327T080000
DTEND;TZID=America/New_York:20250327T083000
DTSTAMP:20260420T004738
CREATED:20250129T131725Z
LAST-MODIFIED:20250326T153941Z
UID:10002920-1743062400-1743064200@www.ashlandy.org
SUMMARY:Cycle Strong
DESCRIPTION:
URL:https://www.ashlandy.org/event/cycle-strong-179/
LOCATION:Cycling Room
CATEGORIES:Group Ex-Schedule
END:VEVENT
BEGIN:VEVENT
DTSTART;TZID=America/New_York:20250327T051500
DTEND;TZID=America/New_York:20250327T060000
DTSTAMP:20260420T004738
CREATED:20250128T124835Z
LAST-MODIFIED:20250326T153941Z
UID:10002915-1743052500-1743055200@www.ashlandy.org
SUMMARY:Cycling-w/Michelle McDonald
DESCRIPTION:First come. First served.
URL:https://www.ashlandy.org/event/cycling-w-michelle-mcdonald-104/
LOCATION:Cycling Room
CATEGORIES:Group Ex-Schedule
END:VEVENT
BEGIN:VEVENT
DTSTART;TZID=America/New_York:20250326T083000
DTEND;TZID=America/New_York:20250326T090000
DTSTAMP:20260420T004738
CREATED:20250128T124832Z
LAST-MODIFIED:20250325T150939Z
UID:10002909-1742977800-1742979600@www.ashlandy.org
SUMMARY:Cycle Strong
DESCRIPTION:Instructor: Shelly \nSpots: 19 \nDescription: Intervals\, rolling hills\, sprints\, climbs\, runs\, surges and jumps all to music hand-picked to motivate and inspire! This is a great workout if you want to burn calories and increase endurance.
URL:https://www.ashlandy.org/event/cycle-strong-178/
LOCATION:Cycling Room
CATEGORIES:Group Ex-Schedule
END:VEVENT
BEGIN:VEVENT
DTSTART;TZID=America/New_York:20250325T181500
DTEND;TZID=America/New_York:20250325T190000
DTSTAMP:20260420T004738
CREATED:20250127T121710Z
LAST-MODIFIED:20250325T150939Z
UID:10002905-1742926500-1742929200@www.ashlandy.org
SUMMARY:LIGHTBAR Cycling
DESCRIPTION:Instructor: Shelly \nSpots: 19 \nDescription: Intervals\, rolling hills\, sprints\, climbs\, runs\, surges and jumps all to music hand-picked to motivate and inspire! This is a great workout if you want to burn calories and increase endurance
URL:https://www.ashlandy.org/event/lightbar-cycling-3/
LOCATION:Cycling Room
CATEGORIES:Group Ex-Schedule
END:VEVENT
END:VCALENDAR