BEGIN:VCALENDAR
VERSION:2.0
PRODID:-//YMCA of Ashland, Ohio - ECPv6.5.0//NONSGML v1.0//EN
CALSCALE:GREGORIAN
METHOD:PUBLISH
X-WR-CALNAME:YMCA of Ashland, Ohio
X-ORIGINAL-URL:https://www.ashlandy.org
X-WR-CALDESC:Events for YMCA of Ashland, Ohio
REFRESH-INTERVAL;VALUE=DURATION:PT1H
X-Robots-Tag:noindex
X-PUBLISHED-TTL:PT1H
BEGIN:VTIMEZONE
TZID:America/New_York
BEGIN:DAYLIGHT
TZOFFSETFROM:-0500
TZOFFSETTO:-0400
TZNAME:EDT
DTSTART:20240310T070000
END:DAYLIGHT
BEGIN:STANDARD
TZOFFSETFROM:-0400
TZOFFSETTO:-0500
TZNAME:EST
DTSTART:20241103T060000
END:STANDARD
END:VTIMEZONE
BEGIN:VEVENT
DTSTART;TZID=America/New_York:20241203T051500
DTEND;TZID=America/New_York:20241203T060000
DTSTAMP:20260421T002002
CREATED:20240918T231721Z
LAST-MODIFIED:20241203T103939Z
UID:10001734-1733202900-1733205600@www.ashlandy.org
SUMMARY:Cycling-w/Michelle McDonald
DESCRIPTION:First come. First served.
URL:https://www.ashlandy.org/event/cycling-w-michelle-mcdonald-71/
LOCATION:Cycling Room
CATEGORIES:Group Ex-Schedule
END:VEVENT
BEGIN:VEVENT
DTSTART;TZID=America/New_York:20241130T083000
DTEND;TZID=America/New_York:20241130T090000
DTSTAMP:20260421T002002
CREATED:20240917T224710Z
LAST-MODIFIED:20241130T090941Z
UID:10001722-1732955400-1732957200@www.ashlandy.org
SUMMARY:Cycle Strong
DESCRIPTION:Instructor: Shelly \nClass Description: High-intensity interval training full-body workout\, with timed intervals with heart-thumping music designed to motivate and move you.
URL:https://www.ashlandy.org/event/cycle-strong-120/
LOCATION:Cycling Room
CATEGORIES:Group Ex-Schedule
END:VEVENT
BEGIN:VEVENT
DTSTART;TZID=America/New_York:20241129T080000
DTEND;TZID=America/New_York:20241129T083000
DTSTAMP:20260421T002002
CREATED:20240916T221725Z
LAST-MODIFIED:20241002T051836Z
UID:10001715-1732867200-1732869000@www.ashlandy.org
SUMMARY:Cycle Strong
DESCRIPTION:Instructor: Jennifer  \nDescription: Cycle Strong is a 60-minute cycling experience brought indoors. Roll over hills\, chase the pack\, spin the flats\, climb mountains and sprint to the finish. You’ll feel the thrill of energetic music and group dynamics as you get all the benefits of authentic interval training.
URL:https://www.ashlandy.org/event/cycle-strong-119/
LOCATION:Cycling Room
CATEGORIES:Group Ex-Schedule
END:VEVENT
BEGIN:VEVENT
DTSTART;TZID=America/New_York:20241128T183000
DTEND;TZID=America/New_York:20241128T191500
DTSTAMP:20260421T002002
CREATED:20241003T054653Z
LAST-MODIFIED:20241128T080941Z
UID:10001886-1732818600-1732821300@www.ashlandy.org
SUMMARY:HIIT Strength
DESCRIPTION:
URL:https://www.ashlandy.org/event/hiit-strength-17/
LOCATION:Cycling Room
CATEGORIES:Group Ex-Schedule
END:VEVENT
BEGIN:VEVENT
DTSTART;TZID=America/New_York:20241128T080000
DTEND;TZID=America/New_York:20241128T083000
DTSTAMP:20260421T002002
CREATED:20241003T054637Z
LAST-MODIFIED:20241128T080940Z
UID:10001884-1732780800-1732782600@www.ashlandy.org
SUMMARY:Cycle Strong
DESCRIPTION:
URL:https://www.ashlandy.org/event/cycle-strong-135/
LOCATION:Cycling Room
CATEGORIES:Group Ex-Schedule
END:VEVENT
BEGIN:VEVENT
DTSTART;TZID=America/New_York:20241128T051500
DTEND;TZID=America/New_York:20241128T060000
DTSTAMP:20260421T002002
CREATED:20240913T204707Z
LAST-MODIFIED:20241128T080939Z
UID:10001707-1732770900-1732773600@www.ashlandy.org
SUMMARY:Cycling-w/Michelle McDonald
DESCRIPTION:First come. First served.
URL:https://www.ashlandy.org/event/cycling-w-michelle-mcdonald-70/
LOCATION:Cycling Room
CATEGORIES:Group Ex-Schedule
END:VEVENT
BEGIN:VEVENT
DTSTART;TZID=America/New_York:20241127T083000
DTEND;TZID=America/New_York:20241127T090000
DTSTAMP:20260421T002002
CREATED:20240912T201732Z
LAST-MODIFIED:20241127T073939Z
UID:10001698-1732696200-1732698000@www.ashlandy.org
SUMMARY:Cycle Strong
DESCRIPTION:Instructor: Shelly \nSpots: 19 \nDescription: Intervals\, rolling hills\, sprints\, climbs\, runs\, surges and jumps all to music hand-picked to motivate and inspire! This is a great workout if you want to burn calories and increase endurance.
URL:https://www.ashlandy.org/event/cycle-strong-118/
LOCATION:Cycling Room
CATEGORIES:Group Ex-Schedule
END:VEVENT
BEGIN:VEVENT
DTSTART;TZID=America/New_York:20241126T183000
DTEND;TZID=America/New_York:20241126T190000
DTSTAMP:20260421T002002
CREATED:20240912T201732Z
LAST-MODIFIED:20241002T051810Z
UID:10001697-1732645800-1732647600@www.ashlandy.org
SUMMARY:Power + Cycle
DESCRIPTION:Instructor: Shelly \nSpots: 19 \nDescription: A 30-minute High-Intensity Interval Training (HIIT) workout\, using an indoor bike to achieve fast results. It’s a short\, intense style of training where the thrill and motivation come from pushing your physical and mental limits. A high-intensity\, low-impact workout\, it’s scientifically proven to return rapid results.
URL:https://www.ashlandy.org/event/power-cycle-34/
LOCATION:Cycling Room
CATEGORIES:Group Ex-Schedule
END:VEVENT
BEGIN:VEVENT
DTSTART;TZID=America/New_York:20241126T181500
DTEND;TZID=America/New_York:20241126T190000
DTSTAMP:20260421T002002
CREATED:20241003T054635Z
LAST-MODIFIED:20241126T070943Z
UID:10001882-1732644900-1732647600@www.ashlandy.org
SUMMARY:Power + Cycling
DESCRIPTION:Instructor: Shelly \nSpots: 19 \nDescription: Intervals\, rolling hills\, sprints\, climbs\, runs\, surges and jumps all to music hand-picked to motivate and inspire! This is a great workout if you want to burn calories and increase endurance
URL:https://www.ashlandy.org/event/power-cycling-44/
LOCATION:Cycling Room
CATEGORIES:Group Ex-Schedule
END:VEVENT
BEGIN:VEVENT
DTSTART;TZID=America/New_York:20241126T083000
DTEND;TZID=America/New_York:20241126T090000
DTSTAMP:20260421T002002
CREATED:20240911T194807Z
LAST-MODIFIED:20241002T051751Z
UID:10001690-1732609800-1732611600@www.ashlandy.org
SUMMARY:Power + Cycling
DESCRIPTION:Instructor: Shelly \nSpots: 19 \nDescription: Intervals\, rolling hills\, sprints\, climbs\, runs\, surges and jumps all to music hand-picked to motivate and inspire! This is a great workout if you want to burn calories and increase endurance
URL:https://www.ashlandy.org/event/power-cycling-34/
LOCATION:Cycling Room
CATEGORIES:Group Ex-Schedule
END:VEVENT
BEGIN:VEVENT
DTSTART;TZID=America/New_York:20241126T051500
DTEND;TZID=America/New_York:20241126T060000
DTSTAMP:20260421T002002
CREATED:20240912T201729Z
LAST-MODIFIED:20241126T070942Z
UID:10001694-1732598100-1732600800@www.ashlandy.org
SUMMARY:Cycling-w/Michelle McDonald
DESCRIPTION:First come. First served.
URL:https://www.ashlandy.org/event/cycling-w-michelle-mcdonald-69/
LOCATION:Cycling Room
CATEGORIES:Group Ex-Schedule
END:VEVENT
BEGIN:VEVENT
DTSTART;TZID=America/New_York:20241123T083000
DTEND;TZID=America/New_York:20241123T090000
DTSTAMP:20260421T002002
CREATED:20240910T191729Z
LAST-MODIFIED:20241123T053939Z
UID:10001680-1732350600-1732352400@www.ashlandy.org
SUMMARY:Cycle Strong
DESCRIPTION:Instructor: Shelly \nClass Description: High-intensity interval training full-body workout\, with timed intervals with heart-thumping music designed to motivate and move you.
URL:https://www.ashlandy.org/event/cycle-strong-117/
LOCATION:Cycling Room
CATEGORIES:Group Ex-Schedule
END:VEVENT
BEGIN:VEVENT
DTSTART;TZID=America/New_York:20241122T080000
DTEND;TZID=America/New_York:20241122T083000
DTSTAMP:20260421T002002
CREATED:20240909T184725Z
LAST-MODIFIED:20241002T051729Z
UID:10001672-1732262400-1732264200@www.ashlandy.org
SUMMARY:Cycle Strong
DESCRIPTION:Instructor: Jennifer  \nDescription: Cycle Strong is a 60-minute cycling experience brought indoors. Roll over hills\, chase the pack\, spin the flats\, climb mountains and sprint to the finish. You’ll feel the thrill of energetic music and group dynamics as you get all the benefits of authentic interval training.
URL:https://www.ashlandy.org/event/cycle-strong-116/
LOCATION:Cycling Room
CATEGORIES:Group Ex-Schedule
END:VEVENT
BEGIN:VEVENT
DTSTART;TZID=America/New_York:20241121T183000
DTEND;TZID=America/New_York:20241121T191500
DTSTAMP:20260421T002002
CREATED:20241003T054602Z
LAST-MODIFIED:20241121T043943Z
UID:10001877-1732213800-1732216500@www.ashlandy.org
SUMMARY:HIIT Strength
DESCRIPTION:
URL:https://www.ashlandy.org/event/hiit-strength-15/
LOCATION:Cycling Room
CATEGORIES:Group Ex-Schedule
END:VEVENT
BEGIN:VEVENT
DTSTART;TZID=America/New_York:20241121T080000
DTEND;TZID=America/New_York:20241121T083000
DTSTAMP:20260421T002002
CREATED:20241003T054546Z
LAST-MODIFIED:20241121T043942Z
UID:10001875-1732176000-1732177800@www.ashlandy.org
SUMMARY:Cycle Strong
DESCRIPTION:
URL:https://www.ashlandy.org/event/cycle-strong-134/
LOCATION:Cycling Room
CATEGORIES:Group Ex-Schedule
END:VEVENT
BEGIN:VEVENT
DTSTART;TZID=America/New_York:20241121T051500
DTEND;TZID=America/New_York:20241121T060000
DTSTAMP:20260421T002002
CREATED:20240906T171719Z
LAST-MODIFIED:20241121T043940Z
UID:10001662-1732166100-1732168800@www.ashlandy.org
SUMMARY:Cycling-w/Michelle McDonald
DESCRIPTION:First come. First served.
URL:https://www.ashlandy.org/event/cycling-w-michelle-mcdonald-68/
LOCATION:Cycling Room
CATEGORIES:Group Ex-Schedule
END:VEVENT
BEGIN:VEVENT
DTSTART;TZID=America/New_York:20241120T083000
DTEND;TZID=America/New_York:20241120T090000
DTSTAMP:20260421T002002
CREATED:20240905T164658Z
LAST-MODIFIED:20241120T040417Z
UID:10001654-1732091400-1732093200@www.ashlandy.org
SUMMARY:Cycle Strong
DESCRIPTION:Instructor: Shelly \nSpots: 19 \nDescription: Intervals\, rolling hills\, sprints\, climbs\, runs\, surges and jumps all to music hand-picked to motivate and inspire! This is a great workout if you want to burn calories and increase endurance.
URL:https://www.ashlandy.org/event/cycle-strong-115/
LOCATION:Cycling Room
CATEGORIES:Group Ex-Schedule
END:VEVENT
BEGIN:VEVENT
DTSTART;TZID=America/New_York:20241119T183000
DTEND;TZID=America/New_York:20241119T190000
DTSTAMP:20260421T002002
CREATED:20240905T164657Z
LAST-MODIFIED:20241002T051706Z
UID:10001653-1732041000-1732042800@www.ashlandy.org
SUMMARY:Power + Cycle
DESCRIPTION:Instructor: Shelly \nSpots: 19 \nDescription: A 30-minute High-Intensity Interval Training (HIIT) workout\, using an indoor bike to achieve fast results. It’s a short\, intense style of training where the thrill and motivation come from pushing your physical and mental limits. A high-intensity\, low-impact workout\, it’s scientifically proven to return rapid results.
URL:https://www.ashlandy.org/event/power-cycle-33/
LOCATION:Cycling Room
CATEGORIES:Group Ex-Schedule
END:VEVENT
BEGIN:VEVENT
DTSTART;TZID=America/New_York:20241119T181500
DTEND;TZID=America/New_York:20241119T190000
DTSTAMP:20260421T002002
CREATED:20241003T054529Z
LAST-MODIFIED:20241119T033939Z
UID:10001872-1732040100-1732042800@www.ashlandy.org
SUMMARY:Power + Cycling
DESCRIPTION:Instructor: Shelly \nSpots: 19 \nDescription: Intervals\, rolling hills\, sprints\, climbs\, runs\, surges and jumps all to music hand-picked to motivate and inspire! This is a great workout if you want to burn calories and increase endurance
URL:https://www.ashlandy.org/event/power-cycling-43/
LOCATION:Cycling Room
CATEGORIES:Group Ex-Schedule
END:VEVENT
BEGIN:VEVENT
DTSTART;TZID=America/New_York:20241119T083000
DTEND;TZID=America/New_York:20241119T090000
DTSTAMP:20260421T002002
CREATED:20240904T161734Z
LAST-MODIFIED:20241002T051705Z
UID:10001645-1732005000-1732006800@www.ashlandy.org
SUMMARY:Power + Cycling
DESCRIPTION:Instructor: Shelly \nSpots: 19 \nDescription: Intervals\, rolling hills\, sprints\, climbs\, runs\, surges and jumps all to music hand-picked to motivate and inspire! This is a great workout if you want to burn calories and increase endurance
URL:https://www.ashlandy.org/event/power-cycling-33/
LOCATION:Cycling Room
CATEGORIES:Group Ex-Schedule
END:VEVENT
BEGIN:VEVENT
DTSTART;TZID=America/New_York:20241119T051500
DTEND;TZID=America/New_York:20241119T060000
DTSTAMP:20260421T002002
CREATED:20240905T164655Z
LAST-MODIFIED:20241119T033938Z
UID:10001650-1731993300-1731996000@www.ashlandy.org
SUMMARY:Cycling-w/Michelle McDonald
DESCRIPTION:First come. First served.
URL:https://www.ashlandy.org/event/cycling-w-michelle-mcdonald-67/
LOCATION:Cycling Room
CATEGORIES:Group Ex-Schedule
END:VEVENT
BEGIN:VEVENT
DTSTART;TZID=America/New_York:20241116T083000
DTEND;TZID=America/New_York:20241116T090000
DTSTAMP:20260421T002002
CREATED:20240903T154721Z
LAST-MODIFIED:20241116T023938Z
UID:10001636-1731745800-1731747600@www.ashlandy.org
SUMMARY:Cycle Strong
DESCRIPTION:Instructor: Shelly \nClass Description: High-intensity interval training full-body workout\, with timed intervals with heart-thumping music designed to motivate and move you.
URL:https://www.ashlandy.org/event/cycle-strong-114/
LOCATION:Cycling Room
CATEGORIES:Group Ex-Schedule
END:VEVENT
BEGIN:VEVENT
DTSTART;TZID=America/New_York:20241115T080000
DTEND;TZID=America/New_York:20241115T083000
DTSTAMP:20260421T002002
CREATED:20240902T151714Z
LAST-MODIFIED:20241002T051631Z
UID:10001630-1731657600-1731659400@www.ashlandy.org
SUMMARY:Cycle Strong
DESCRIPTION:Instructor: Jennifer  \nDescription: Cycle Strong is a 60-minute cycling experience brought indoors. Roll over hills\, chase the pack\, spin the flats\, climb mountains and sprint to the finish. You’ll feel the thrill of energetic music and group dynamics as you get all the benefits of authentic interval training.
URL:https://www.ashlandy.org/event/cycle-strong-113/
LOCATION:Cycling Room
CATEGORIES:Group Ex-Schedule
END:VEVENT
BEGIN:VEVENT
DTSTART;TZID=America/New_York:20241114T183000
DTEND;TZID=America/New_York:20241114T191500
DTSTAMP:20260421T002002
CREATED:20241003T054511Z
LAST-MODIFIED:20241114T013943Z
UID:10001869-1731609000-1731611700@www.ashlandy.org
SUMMARY:HIIT Strength
DESCRIPTION:
URL:https://www.ashlandy.org/event/hiit-strength-13/
LOCATION:Cycling Room
CATEGORIES:Group Ex-Schedule
END:VEVENT
BEGIN:VEVENT
DTSTART;TZID=America/New_York:20241114T080000
DTEND;TZID=America/New_York:20241114T083000
DTSTAMP:20260421T002002
CREATED:20241003T054455Z
LAST-MODIFIED:20241114T013941Z
UID:10001866-1731571200-1731573000@www.ashlandy.org
SUMMARY:Cycle Strong
DESCRIPTION:
URL:https://www.ashlandy.org/event/cycle-strong-133/
LOCATION:Cycling Room
CATEGORIES:Group Ex-Schedule
END:VEVENT
BEGIN:VEVENT
DTSTART;TZID=America/New_York:20241114T051500
DTEND;TZID=America/New_York:20241114T060000
DTSTAMP:20260421T002002
CREATED:20240831T141720Z
LAST-MODIFIED:20241114T013940Z
UID:10001623-1731561300-1731564000@www.ashlandy.org
SUMMARY:Cycling-w/Michelle McDonald
DESCRIPTION:First come. First served.
URL:https://www.ashlandy.org/event/cycling-w-michelle-mcdonald-66/
LOCATION:Cycling Room
CATEGORIES:Group Ex-Schedule
END:VEVENT
BEGIN:VEVENT
DTSTART;TZID=America/New_York:20241113T083000
DTEND;TZID=America/New_York:20241113T090000
DTSTAMP:20260421T002002
CREATED:20240830T134805Z
LAST-MODIFIED:20241113T010914Z
UID:10001614-1731486600-1731488400@www.ashlandy.org
SUMMARY:Cycle Strong
DESCRIPTION:Instructor: Shelly \nSpots: 19 \nDescription: Intervals\, rolling hills\, sprints\, climbs\, runs\, surges and jumps all to music hand-picked to motivate and inspire! This is a great workout if you want to burn calories and increase endurance.
URL:https://www.ashlandy.org/event/cycle-strong-112/
LOCATION:Cycling Room
CATEGORIES:Group Ex-Schedule
END:VEVENT
BEGIN:VEVENT
DTSTART;TZID=America/New_York:20241112T183000
DTEND;TZID=America/New_York:20241112T190000
DTSTAMP:20260421T002002
CREATED:20240830T134805Z
LAST-MODIFIED:20241002T051605Z
UID:10001613-1731436200-1731438000@www.ashlandy.org
SUMMARY:Power + Cycle
DESCRIPTION:Instructor: Shelly \nSpots: 19 \nDescription: A 30-minute High-Intensity Interval Training (HIIT) workout\, using an indoor bike to achieve fast results. It’s a short\, intense style of training where the thrill and motivation come from pushing your physical and mental limits. A high-intensity\, low-impact workout\, it’s scientifically proven to return rapid results.
URL:https://www.ashlandy.org/event/power-cycle-32/
LOCATION:Cycling Room
CATEGORIES:Group Ex-Schedule
END:VEVENT
BEGIN:VEVENT
DTSTART;TZID=America/New_York:20241112T181500
DTEND;TZID=America/New_York:20241112T190000
DTSTAMP:20260421T002002
CREATED:20241003T054438Z
LAST-MODIFIED:20241112T003939Z
UID:10001863-1731435300-1731438000@www.ashlandy.org
SUMMARY:Power + Cycling
DESCRIPTION:Instructor: Shelly \nSpots: 19 \nDescription: Intervals\, rolling hills\, sprints\, climbs\, runs\, surges and jumps all to music hand-picked to motivate and inspire! This is a great workout if you want to burn calories and increase endurance
URL:https://www.ashlandy.org/event/power-cycling-42/
LOCATION:Cycling Room
CATEGORIES:Group Ex-Schedule
END:VEVENT
BEGIN:VEVENT
DTSTART;TZID=America/New_York:20241112T083000
DTEND;TZID=America/New_York:20241112T090000
DTSTAMP:20260421T002002
CREATED:20240829T131710Z
LAST-MODIFIED:20241002T051604Z
UID:10001608-1731400200-1731402000@www.ashlandy.org
SUMMARY:Power + Cycling
DESCRIPTION:Instructor: Shelly \nSpots: 19 \nDescription: Intervals\, rolling hills\, sprints\, climbs\, runs\, surges and jumps all to music hand-picked to motivate and inspire! This is a great workout if you want to burn calories and increase endurance
URL:https://www.ashlandy.org/event/power-cycling-32/
LOCATION:Cycling Room
CATEGORIES:Group Ex-Schedule
END:VEVENT
END:VCALENDAR