BEGIN:VCALENDAR
VERSION:2.0
PRODID:-//YMCA of Ashland, Ohio - ECPv6.5.0//NONSGML v1.0//EN
CALSCALE:GREGORIAN
METHOD:PUBLISH
X-WR-CALNAME:YMCA of Ashland, Ohio
X-ORIGINAL-URL:https://www.ashlandy.org
X-WR-CALDESC:Events for YMCA of Ashland, Ohio
REFRESH-INTERVAL;VALUE=DURATION:PT1H
X-Robots-Tag:noindex
X-PUBLISHED-TTL:PT1H
BEGIN:VTIMEZONE
TZID:America/New_York
BEGIN:DAYLIGHT
TZOFFSETFROM:-0500
TZOFFSETTO:-0400
TZNAME:EDT
DTSTART:20240310T070000
END:DAYLIGHT
BEGIN:STANDARD
TZOFFSETFROM:-0400
TZOFFSETTO:-0500
TZNAME:EST
DTSTART:20241103T060000
END:STANDARD
END:VTIMEZONE
BEGIN:VEVENT
DTSTART;TZID=America/New_York:20241029T183000
DTEND;TZID=America/New_York:20241029T190000
DTSTAMP:20260421T061935
CREATED:20240816T064727Z
LAST-MODIFIED:20241002T051355Z
UID:10001531-1730226600-1730228400@www.ashlandy.org
SUMMARY:Power + Cycle
DESCRIPTION:Instructor: Shelly \nSpots: 19 \nDescription: A 30-minute High-Intensity Interval Training (HIIT) workout\, using an indoor bike to achieve fast results. It’s a short\, intense style of training where the thrill and motivation come from pushing your physical and mental limits. A high-intensity\, low-impact workout\, it’s scientifically proven to return rapid results.
URL:https://www.ashlandy.org/event/power-cycle-30/
LOCATION:Cycling Room
CATEGORIES:Group Ex-Schedule
END:VEVENT
BEGIN:VEVENT
DTSTART;TZID=America/New_York:20241029T181500
DTEND;TZID=America/New_York:20241029T190000
DTSTAMP:20260421T061935
CREATED:20241003T054257Z
LAST-MODIFIED:20241029T182041Z
UID:10001846-1730225700-1730228400@www.ashlandy.org
SUMMARY:Power + Cycling
DESCRIPTION:Instructor: Shelly \nSpots: 19 \nDescription: Intervals\, rolling hills\, sprints\, climbs\, runs\, surges and jumps all to music hand-picked to motivate and inspire! This is a great workout if you want to burn calories and increase endurance
URL:https://www.ashlandy.org/event/power-cycling-40/
LOCATION:Cycling Room
CATEGORIES:Group Ex-Schedule
END:VEVENT
BEGIN:VEVENT
DTSTART;TZID=America/New_York:20241029T083000
DTEND;TZID=America/New_York:20241029T090000
DTSTAMP:20260421T061935
CREATED:20240815T061713Z
LAST-MODIFIED:20241002T051336Z
UID:10001524-1730190600-1730192400@www.ashlandy.org
SUMMARY:Power + Cycling
DESCRIPTION:Instructor: Shelly \nSpots: 19 \nDescription: Intervals\, rolling hills\, sprints\, climbs\, runs\, surges and jumps all to music hand-picked to motivate and inspire! This is a great workout if you want to burn calories and increase endurance
URL:https://www.ashlandy.org/event/power-cycling-30/
LOCATION:Cycling Room
CATEGORIES:Group Ex-Schedule
END:VEVENT
BEGIN:VEVENT
DTSTART;TZID=America/New_York:20241029T051500
DTEND;TZID=America/New_York:20241029T060000
DTSTAMP:20260421T061935
CREATED:20240815T061712Z
LAST-MODIFIED:20241028T180940Z
UID:10001522-1730178900-1730181600@www.ashlandy.org
SUMMARY:Cycling-w/Michelle McDonald
DESCRIPTION:First come. First served.
URL:https://www.ashlandy.org/event/cycling-w-michelle-mcdonald-61/
LOCATION:Cycling Room
CATEGORIES:Group Ex-Schedule
END:VEVENT
BEGIN:VEVENT
DTSTART;TZID=America/New_York:20241026T083000
DTEND;TZID=America/New_York:20241026T090000
DTSTAMP:20260421T061935
CREATED:20240814T054716Z
LAST-MODIFIED:20241025T163939Z
UID:10001514-1729931400-1729933200@www.ashlandy.org
SUMMARY:Cycle Strong
DESCRIPTION:Instructor: Shelly \nClass Description: High-intensity interval training full-body workout\, with timed intervals with heart-thumping music designed to motivate and move you.
URL:https://www.ashlandy.org/event/cycle-strong-105/
LOCATION:Cycling Room
CATEGORIES:Group Ex-Schedule
END:VEVENT
BEGIN:VEVENT
DTSTART;TZID=America/New_York:20241025T080000
DTEND;TZID=America/New_York:20241025T083000
DTSTAMP:20260421T061935
CREATED:20240813T051849Z
LAST-MODIFIED:20241002T051304Z
UID:10001505-1729843200-1729845000@www.ashlandy.org
SUMMARY:Cycle Strong
DESCRIPTION:Instructor: Jennifer  \nDescription: Cycle Strong is a 60-minute cycling experience brought indoors. Roll over hills\, chase the pack\, spin the flats\, climb mountains and sprint to the finish. You’ll feel the thrill of energetic music and group dynamics as you get all the benefits of authentic interval training.
URL:https://www.ashlandy.org/event/cycle-strong-104/
LOCATION:Cycling Room
CATEGORIES:Group Ex-Schedule
END:VEVENT
BEGIN:VEVENT
DTSTART;TZID=America/New_York:20241024T183000
DTEND;TZID=America/New_York:20241024T191500
DTSTAMP:20260421T061935
CREATED:20241003T054227Z
LAST-MODIFIED:20241024T160915Z
UID:10001842-1729794600-1729797300@www.ashlandy.org
SUMMARY:HIIT Strength
DESCRIPTION:
URL:https://www.ashlandy.org/event/hiit-strength-7/
LOCATION:Cycling Room
CATEGORIES:Group Ex-Schedule
END:VEVENT
BEGIN:VEVENT
DTSTART;TZID=America/New_York:20241024T080000
DTEND;TZID=America/New_York:20241024T083000
DTSTAMP:20260421T061935
CREATED:20241003T054225Z
LAST-MODIFIED:20241023T153914Z
UID:10001839-1729756800-1729758600@www.ashlandy.org
SUMMARY:Cycle Strong
DESCRIPTION:
URL:https://www.ashlandy.org/event/cycle-strong-130/
LOCATION:Cycling Room
CATEGORIES:Group Ex-Schedule
END:VEVENT
BEGIN:VEVENT
DTSTART;TZID=America/New_York:20241024T051500
DTEND;TZID=America/New_York:20241024T060000
DTSTAMP:20260421T061935
CREATED:20240810T034749Z
LAST-MODIFIED:20241023T153913Z
UID:10001498-1729746900-1729749600@www.ashlandy.org
SUMMARY:Cycling-w/Michelle McDonald
DESCRIPTION:First come. First served.
URL:https://www.ashlandy.org/event/cycling-w-michelle-mcdonald-60/
LOCATION:Cycling Room
CATEGORIES:Group Ex-Schedule
END:VEVENT
BEGIN:VEVENT
DTSTART;TZID=America/New_York:20241023T083000
DTEND;TZID=America/New_York:20241023T090000
DTSTAMP:20260421T061935
CREATED:20240809T032210Z
LAST-MODIFIED:20241022T150915Z
UID:10001490-1729672200-1729674000@www.ashlandy.org
SUMMARY:Cycle Strong
DESCRIPTION:Instructor: Shelly \nSpots: 19 \nDescription: Intervals\, rolling hills\, sprints\, climbs\, runs\, surges and jumps all to music hand-picked to motivate and inspire! This is a great workout if you want to burn calories and increase endurance.
URL:https://www.ashlandy.org/event/cycle-strong-103/
LOCATION:Cycling Room
CATEGORIES:Group Ex-Schedule
END:VEVENT
BEGIN:VEVENT
DTSTART;TZID=America/New_York:20241022T183000
DTEND;TZID=America/New_York:20241022T190000
DTSTAMP:20260421T061935
CREATED:20240809T032209Z
LAST-MODIFIED:20241002T051240Z
UID:10001489-1729621800-1729623600@www.ashlandy.org
SUMMARY:Power + Cycle
DESCRIPTION:Instructor: Shelly \nSpots: 19 \nDescription: A 30-minute High-Intensity Interval Training (HIIT) workout\, using an indoor bike to achieve fast results. It’s a short\, intense style of training where the thrill and motivation come from pushing your physical and mental limits. A high-intensity\, low-impact workout\, it’s scientifically proven to return rapid results.
URL:https://www.ashlandy.org/event/power-cycle-29/
LOCATION:Cycling Room
CATEGORIES:Group Ex-Schedule
END:VEVENT
BEGIN:VEVENT
DTSTART;TZID=America/New_York:20241022T181500
DTEND;TZID=America/New_York:20241022T190000
DTSTAMP:20260421T061935
CREATED:20241003T054209Z
LAST-MODIFIED:20241022T150914Z
UID:10001837-1729620900-1729623600@www.ashlandy.org
SUMMARY:Power + Cycling
DESCRIPTION:Instructor: Shelly \nSpots: 19 \nDescription: Intervals\, rolling hills\, sprints\, climbs\, runs\, surges and jumps all to music hand-picked to motivate and inspire! This is a great workout if you want to burn calories and increase endurance
URL:https://www.ashlandy.org/event/power-cycling-39/
LOCATION:Cycling Room
CATEGORIES:Group Ex-Schedule
END:VEVENT
BEGIN:VEVENT
DTSTART;TZID=America/New_York:20241022T083000
DTEND;TZID=America/New_York:20241022T090000
DTSTAMP:20260421T061935
CREATED:20240808T024819Z
LAST-MODIFIED:20241002T051237Z
UID:10001481-1729585800-1729587600@www.ashlandy.org
SUMMARY:Power + Cycling
DESCRIPTION:Instructor: Shelly \nSpots: 19 \nDescription: Intervals\, rolling hills\, sprints\, climbs\, runs\, surges and jumps all to music hand-picked to motivate and inspire! This is a great workout if you want to burn calories and increase endurance
URL:https://www.ashlandy.org/event/power-cycling-29/
LOCATION:Cycling Room
CATEGORIES:Group Ex-Schedule
END:VEVENT
BEGIN:VEVENT
DTSTART;TZID=America/New_York:20241022T051500
DTEND;TZID=America/New_York:20241022T060000
DTSTAMP:20260421T061935
CREATED:20240808T024818Z
LAST-MODIFIED:20241021T143914Z
UID:10001479-1729574100-1729576800@www.ashlandy.org
SUMMARY:Cycling-w/Michelle McDonald
DESCRIPTION:First come. First served.
URL:https://www.ashlandy.org/event/cycling-w-michelle-mcdonald-59/
LOCATION:Cycling Room
CATEGORIES:Group Ex-Schedule
END:VEVENT
BEGIN:VEVENT
DTSTART;TZID=America/New_York:20241019T083000
DTEND;TZID=America/New_York:20241019T090000
DTSTAMP:20260421T061935
CREATED:20240807T022455Z
LAST-MODIFIED:20241018T130939Z
UID:10001469-1729326600-1729328400@www.ashlandy.org
SUMMARY:Cycle Strong
DESCRIPTION:Instructor: Shelly \nClass Description: High-intensity interval training full-body workout\, with timed intervals with heart-thumping music designed to motivate and move you.
URL:https://www.ashlandy.org/event/cycle-strong-102/
LOCATION:Cycling Room
CATEGORIES:Group Ex-Schedule
END:VEVENT
BEGIN:VEVENT
DTSTART;TZID=America/New_York:20241018T080000
DTEND;TZID=America/New_York:20241018T083000
DTSTAMP:20260421T061935
CREATED:20240806T014725Z
LAST-MODIFIED:20241002T051152Z
UID:10001461-1729238400-1729240200@www.ashlandy.org
SUMMARY:Cycle Strong
DESCRIPTION:Instructor: Jennifer  \nDescription: Cycle Strong is a 60-minute cycling experience brought indoors. Roll over hills\, chase the pack\, spin the flats\, climb mountains and sprint to the finish. You’ll feel the thrill of energetic music and group dynamics as you get all the benefits of authentic interval training.
URL:https://www.ashlandy.org/event/cycle-strong-101/
LOCATION:Cycling Room
CATEGORIES:Group Ex-Schedule
END:VEVENT
BEGIN:VEVENT
DTSTART;TZID=America/New_York:20241017T183000
DTEND;TZID=America/New_York:20241017T191500
DTSTAMP:20260421T061935
CREATED:20241003T054135Z
LAST-MODIFIED:20241017T123939Z
UID:10001831-1729189800-1729192500@www.ashlandy.org
SUMMARY:HIIT Strength
DESCRIPTION:
URL:https://www.ashlandy.org/event/hiit-strength-5/
LOCATION:Cycling Room
CATEGORIES:Group Ex-Schedule
END:VEVENT
BEGIN:VEVENT
DTSTART;TZID=America/New_York:20241017T080000
DTEND;TZID=America/New_York:20241017T083000
DTSTAMP:20260421T061935
CREATED:20241003T054121Z
LAST-MODIFIED:20241016T120940Z
UID:10001830-1729152000-1729153800@www.ashlandy.org
SUMMARY:Cycle Strong
DESCRIPTION:
URL:https://www.ashlandy.org/event/cycle-strong-129/
LOCATION:Cycling Room
CATEGORIES:Group Ex-Schedule
END:VEVENT
BEGIN:VEVENT
DTSTART;TZID=America/New_York:20241017T051500
DTEND;TZID=America/New_York:20241017T060000
DTSTAMP:20260421T061935
CREATED:20240803T001755Z
LAST-MODIFIED:20241016T120940Z
UID:10001454-1729142100-1729144800@www.ashlandy.org
SUMMARY:Cycling-w/Michelle McDonald
DESCRIPTION:First come. First served.
URL:https://www.ashlandy.org/event/cycling-w-michelle-mcdonald-58/
LOCATION:Cycling Room
CATEGORIES:Group Ex-Schedule
END:VEVENT
BEGIN:VEVENT
DTSTART;TZID=America/New_York:20241016T083000
DTEND;TZID=America/New_York:20241016T090000
DTSTAMP:20260421T061935
CREATED:20240801T234734Z
LAST-MODIFIED:20241016T120938Z
UID:10001445-1729067400-1729069200@www.ashlandy.org
SUMMARY:Cycle Strong
DESCRIPTION:Instructor: Shelly \nSpots: 19 \nDescription: Intervals\, rolling hills\, sprints\, climbs\, runs\, surges and jumps all to music hand-picked to motivate and inspire! This is a great workout if you want to burn calories and increase endurance.
URL:https://www.ashlandy.org/event/cycle-strong-100/
LOCATION:Cycling Room
CATEGORIES:Group Ex-Schedule
END:VEVENT
BEGIN:VEVENT
DTSTART;TZID=America/New_York:20241015T183000
DTEND;TZID=America/New_York:20241015T190000
DTSTAMP:20260421T061935
CREATED:20240801T234734Z
LAST-MODIFIED:20241002T051129Z
UID:10001444-1729017000-1729018800@www.ashlandy.org
SUMMARY:Power + Cycle
DESCRIPTION:Instructor: Shelly \nSpots: 19 \nDescription: A 30-minute High-Intensity Interval Training (HIIT) workout\, using an indoor bike to achieve fast results. It’s a short\, intense style of training where the thrill and motivation come from pushing your physical and mental limits. A high-intensity\, low-impact workout\, it’s scientifically proven to return rapid results.
URL:https://www.ashlandy.org/event/power-cycle-28/
LOCATION:Cycling Room
CATEGORIES:Group Ex-Schedule
END:VEVENT
BEGIN:VEVENT
DTSTART;TZID=America/New_York:20241015T181500
DTEND;TZID=America/New_York:20241015T190000
DTSTAMP:20260421T061935
CREATED:20241003T054104Z
LAST-MODIFIED:20241015T113938Z
UID:10001827-1729016100-1729018800@www.ashlandy.org
SUMMARY:Power + Cycling
DESCRIPTION:Instructor: Shelly \nSpots: 19 \nDescription: Intervals\, rolling hills\, sprints\, climbs\, runs\, surges and jumps all to music hand-picked to motivate and inspire! This is a great workout if you want to burn calories and increase endurance
URL:https://www.ashlandy.org/event/power-cycling-38/
LOCATION:Cycling Room
CATEGORIES:Group Ex-Schedule
END:VEVENT
BEGIN:VEVENT
DTSTART;TZID=America/New_York:20241015T083000
DTEND;TZID=America/New_York:20241015T090000
DTSTAMP:20260421T061935
CREATED:20240801T234732Z
LAST-MODIFIED:20241002T051124Z
UID:10001442-1728981000-1728982800@www.ashlandy.org
SUMMARY:Power + Cycling
DESCRIPTION:Instructor: Shelly \nSpots: 19 \nDescription: Intervals\, rolling hills\, sprints\, climbs\, runs\, surges and jumps all to music hand-picked to motivate and inspire! This is a great workout if you want to burn calories and increase endurance
URL:https://www.ashlandy.org/event/power-cycling-28/
LOCATION:Cycling Room
CATEGORIES:Group Ex-Schedule
END:VEVENT
BEGIN:VEVENT
DTSTART;TZID=America/New_York:20241015T051500
DTEND;TZID=America/New_York:20241015T060000
DTSTAMP:20260421T061935
CREATED:20240731T231800Z
LAST-MODIFIED:20241014T110940Z
UID:10001438-1728969300-1728972000@www.ashlandy.org
SUMMARY:Cycling-w/Michelle McDonald
DESCRIPTION:First come. First served.
URL:https://www.ashlandy.org/event/cycling-w-michelle-mcdonald-57/
LOCATION:Cycling Room
CATEGORIES:Group Ex-Schedule
END:VEVENT
BEGIN:VEVENT
DTSTART;TZID=America/New_York:20241012T083000
DTEND;TZID=America/New_York:20241012T090000
DTSTAMP:20260421T061935
CREATED:20240730T224840Z
LAST-MODIFIED:20241012T100936Z
UID:10001426-1728721800-1728723600@www.ashlandy.org
SUMMARY:Cycle Strong
DESCRIPTION:Instructor: Shelly \nClass Description: High-intensity interval training full-body workout\, with timed intervals with heart-thumping music designed to motivate and move you.
URL:https://www.ashlandy.org/event/cycle-strong-99/
LOCATION:Cycling Room
CATEGORIES:Group Ex-Schedule
END:VEVENT
BEGIN:VEVENT
DTSTART;TZID=America/New_York:20241011T080000
DTEND;TZID=America/New_York:20241011T083000
DTSTAMP:20260421T061935
CREATED:20240729T221823Z
LAST-MODIFIED:20241002T051043Z
UID:10001418-1728633600-1728635400@www.ashlandy.org
SUMMARY:Cycle Strong
DESCRIPTION:Instructor: Jennifer  \nDescription: Cycle Strong is a 60-minute cycling experience brought indoors. Roll over hills\, chase the pack\, spin the flats\, climb mountains and sprint to the finish. You’ll feel the thrill of energetic music and group dynamics as you get all the benefits of authentic interval training.
URL:https://www.ashlandy.org/event/cycle-strong-98/
LOCATION:Cycling Room
CATEGORIES:Group Ex-Schedule
END:VEVENT
BEGIN:VEVENT
DTSTART;TZID=America/New_York:20241010T183000
DTEND;TZID=America/New_York:20241010T191500
DTSTAMP:20260421T061935
CREATED:20241003T054031Z
LAST-MODIFIED:20241010T090941Z
UID:10001822-1728585000-1728587700@www.ashlandy.org
SUMMARY:HIIT Strength
DESCRIPTION:
URL:https://www.ashlandy.org/event/hiit-strength-3/
LOCATION:Cycling Room
CATEGORIES:Group Ex-Schedule
END:VEVENT
BEGIN:VEVENT
DTSTART;TZID=America/New_York:20241010T080000
DTEND;TZID=America/New_York:20241010T083000
DTSTAMP:20260421T061935
CREATED:20241003T054030Z
LAST-MODIFIED:20241010T090939Z
UID:10001821-1728547200-1728549000@www.ashlandy.org
SUMMARY:Cycle Strong
DESCRIPTION:
URL:https://www.ashlandy.org/event/cycle-strong-128/
LOCATION:Cycling Room
CATEGORIES:Group Ex-Schedule
END:VEVENT
BEGIN:VEVENT
DTSTART;TZID=America/New_York:20241010T051500
DTEND;TZID=America/New_York:20241010T060000
DTSTAMP:20260421T061935
CREATED:20240726T204805Z
LAST-MODIFIED:20241010T090938Z
UID:10001406-1728537300-1728540000@www.ashlandy.org
SUMMARY:Cycling-w/Michelle McDonald
DESCRIPTION:First come. First served.
URL:https://www.ashlandy.org/event/cycling-w-michelle-mcdonald-56/
LOCATION:Cycling Room
CATEGORIES:Group Ex-Schedule
END:VEVENT
BEGIN:VEVENT
DTSTART;TZID=America/New_York:20241009T083000
DTEND;TZID=America/New_York:20241009T090000
DTSTAMP:20260421T061935
CREATED:20240725T201919Z
LAST-MODIFIED:20241009T083937Z
UID:10001401-1728462600-1728464400@www.ashlandy.org
SUMMARY:Cycle Strong
DESCRIPTION:Instructor: Shelly \nSpots: 19 \nDescription: Intervals\, rolling hills\, sprints\, climbs\, runs\, surges and jumps all to music hand-picked to motivate and inspire! This is a great workout if you want to burn calories and increase endurance.
URL:https://www.ashlandy.org/event/cycle-strong-97/
LOCATION:Cycling Room
CATEGORIES:Group Ex-Schedule
END:VEVENT
END:VCALENDAR