BEGIN:VCALENDAR
VERSION:2.0
PRODID:-//YMCA of Ashland, Ohio - ECPv6.5.0//NONSGML v1.0//EN
CALSCALE:GREGORIAN
METHOD:PUBLISH
X-ORIGINAL-URL:https://www.ashlandy.org
X-WR-CALDESC:Events for YMCA of Ashland, Ohio
REFRESH-INTERVAL;VALUE=DURATION:PT1H
X-Robots-Tag:noindex
X-PUBLISHED-TTL:PT1H
BEGIN:VTIMEZONE
TZID:America/New_York
BEGIN:DAYLIGHT
TZOFFSETFROM:-0500
TZOFFSETTO:-0400
TZNAME:EDT
DTSTART:20240310T070000
END:DAYLIGHT
BEGIN:STANDARD
TZOFFSETFROM:-0400
TZOFFSETTO:-0500
TZNAME:EST
DTSTART:20241103T060000
END:STANDARD
END:VTIMEZONE
BEGIN:VEVENT
DTSTART;TZID=America/New_York:20241003T183000
DTEND;TZID=America/New_York:20241003T191500
DTSTAMP:20260421T104521
CREATED:20241003T053941Z
LAST-MODIFIED:20241003T053941Z
UID:10001814-1727980200-1727982900@www.ashlandy.org
SUMMARY:HIIT Strength
DESCRIPTION:
URL:https://www.ashlandy.org/event/hiit-strength/
LOCATION:Cycling Room
CATEGORIES:Group Ex-Schedule
END:VEVENT
BEGIN:VEVENT
DTSTART;TZID=America/New_York:20241003T080000
DTEND;TZID=America/New_York:20241003T083000
DTSTAMP:20260421T104521
CREATED:20241003T053940Z
LAST-MODIFIED:20241003T053940Z
UID:10001812-1727942400-1727944200@www.ashlandy.org
SUMMARY:Cycle Strong
DESCRIPTION:
URL:https://www.ashlandy.org/event/cycle-strong-127/
LOCATION:Cycling Room
CATEGORIES:Group Ex-Schedule
END:VEVENT
BEGIN:VEVENT
DTSTART;TZID=America/New_York:20241003T051500
DTEND;TZID=America/New_York:20241003T060000
DTSTAMP:20260421T104521
CREATED:20240723T191817Z
LAST-MODIFIED:20241003T053938Z
UID:10001372-1727932500-1727935200@www.ashlandy.org
SUMMARY:Cycling-w/Michelle McDonald
DESCRIPTION:First come. First served.
URL:https://www.ashlandy.org/event/cycling-w-michelle-mcdonald-54/
LOCATION:Cycling Room
CATEGORIES:Group Ex-Schedule
END:VEVENT
BEGIN:VEVENT
DTSTART;TZID=America/New_York:20241002T083000
DTEND;TZID=America/New_York:20241002T090000
DTSTAMP:20260421T104521
CREATED:20240722T185005Z
LAST-MODIFIED:20241002T050918Z
UID:10001366-1727857800-1727859600@www.ashlandy.org
SUMMARY:Cycle Strong
DESCRIPTION:Instructor: Shelly \nSpots: 19 \nDescription: Intervals\, rolling hills\, sprints\, climbs\, runs\, surges and jumps all to music hand-picked to motivate and inspire! This is a great workout if you want to burn calories and increase endurance.
URL:https://www.ashlandy.org/event/cycle-strong-94/
LOCATION:Cycling Room
CATEGORIES:Group Ex-Schedule
END:VEVENT
BEGIN:VEVENT
DTSTART;TZID=America/New_York:20241001T183000
DTEND;TZID=America/New_York:20241001T190000
DTSTAMP:20260421T104521
CREATED:20240722T185004Z
LAST-MODIFIED:20241001T043939Z
UID:10001365-1727807400-1727809200@www.ashlandy.org
SUMMARY:Power + Cycle
DESCRIPTION:Instructor: Shelly \nSpots: 19 \nDescription: A 30-minute High-Intensity Interval Training (HIIT) workout\, using an indoor bike to achieve fast results. It’s a short\, intense style of training where the thrill and motivation come from pushing your physical and mental limits. A high-intensity\, low-impact workout\, it’s scientifically proven to return rapid results.
URL:https://www.ashlandy.org/event/power-cycle-26/
LOCATION:Cycling Room
CATEGORIES:Group Ex-Schedule
END:VEVENT
BEGIN:VEVENT
DTSTART;TZID=America/New_York:20241001T083000
DTEND;TZID=America/New_York:20241001T090000
DTSTAMP:20260421T104521
CREATED:20240717T161814Z
LAST-MODIFIED:20241001T043937Z
UID:10001341-1727771400-1727773200@www.ashlandy.org
SUMMARY:Power + Cycling
DESCRIPTION:Instructor: Shelly \nSpots: 19 \nDescription: Intervals\, rolling hills\, sprints\, climbs\, runs\, surges and jumps all to music hand-picked to motivate and inspire! This is a great workout if you want to burn calories and increase endurance
URL:https://www.ashlandy.org/event/power-cycling-26/
LOCATION:Cycling Room
CATEGORIES:Group Ex-Schedule
END:VEVENT
BEGIN:VEVENT
DTSTART;TZID=America/New_York:20241001T051500
DTEND;TZID=America/New_York:20241001T060000
DTSTAMP:20260421T104521
CREATED:20240717T161813Z
LAST-MODIFIED:20241001T043937Z
UID:10001340-1727759700-1727762400@www.ashlandy.org
SUMMARY:Cycling-w/Michelle McDonald
DESCRIPTION:First come. First served.
URL:https://www.ashlandy.org/event/cycling-w-michelle-mcdonald-53/
LOCATION:Cycling Room
CATEGORIES:Group Ex-Schedule
END:VEVENT
BEGIN:VEVENT
DTSTART;TZID=America/New_York:20240928T083000
DTEND;TZID=America/New_York:20240928T090000
DTSTAMP:20260421T104521
CREATED:20240716T154744Z
LAST-MODIFIED:20240928T033938Z
UID:10001329-1727512200-1727514000@www.ashlandy.org
SUMMARY:Cycle Strong
DESCRIPTION:Instructor: Shelly \nClass Description: High-intensity interval training full-body workout\, with timed intervals with heart-thumping music designed to motivate and move you.
URL:https://www.ashlandy.org/event/cycle-strong-93/
LOCATION:Cycling Room
CATEGORIES:Group Ex-Schedule
END:VEVENT
BEGIN:VEVENT
DTSTART;TZID=America/New_York:20240927T080000
DTEND;TZID=America/New_York:20240927T083000
DTSTAMP:20260421T104521
CREATED:20240715T151757Z
LAST-MODIFIED:20240927T030938Z
UID:10001324-1727424000-1727425800@www.ashlandy.org
SUMMARY:Cycle Strong
DESCRIPTION:Instructor: Jennifer  \nDescription: Cycle Strong is a 60-minute cycling experience brought indoors. Roll over hills\, chase the pack\, spin the flats\, climb mountains and sprint to the finish. You’ll feel the thrill of energetic music and group dynamics as you get all the benefits of authentic interval training.
URL:https://www.ashlandy.org/event/cycle-strong-92/
LOCATION:Cycling Room
CATEGORIES:Group Ex-Schedule
END:VEVENT
BEGIN:VEVENT
DTSTART;TZID=America/New_York:20240926T051500
DTEND;TZID=America/New_York:20240926T060000
DTSTAMP:20260421T104521
CREATED:20240713T141751Z
LAST-MODIFIED:20240926T023936Z
UID:10001317-1727327700-1727330400@www.ashlandy.org
SUMMARY:Cycling-w/Michelle McDonald
DESCRIPTION:First come. First served.
URL:https://www.ashlandy.org/event/cycling-w-michelle-mcdonald-52/
LOCATION:Cycling Room
CATEGORIES:Group Ex-Schedule
END:VEVENT
BEGIN:VEVENT
DTSTART;TZID=America/New_York:20240925T083000
DTEND;TZID=America/New_York:20240925T090000
DTSTAMP:20260421T104521
CREATED:20240712T135019Z
LAST-MODIFIED:20240925T020937Z
UID:10001310-1727253000-1727254800@www.ashlandy.org
SUMMARY:Cycle Strong
DESCRIPTION:Instructor: Shelly \nSpots: 19 \nDescription: Intervals\, rolling hills\, sprints\, climbs\, runs\, surges and jumps all to music hand-picked to motivate and inspire! This is a great workout if you want to burn calories and increase endurance.
URL:https://www.ashlandy.org/event/cycle-strong-91/
LOCATION:Cycling Room
CATEGORIES:Group Ex-Schedule
END:VEVENT
BEGIN:VEVENT
DTSTART;TZID=America/New_York:20240924T183000
DTEND;TZID=America/New_York:20240924T190000
DTSTAMP:20260421T104521
CREATED:20240712T135017Z
LAST-MODIFIED:20240924T013939Z
UID:10001309-1727202600-1727204400@www.ashlandy.org
SUMMARY:Power + Cycle
DESCRIPTION:Instructor: Shelly \nSpots: 19 \nDescription: A 30-minute High-Intensity Interval Training (HIIT) workout\, using an indoor bike to achieve fast results. It’s a short\, intense style of training where the thrill and motivation come from pushing your physical and mental limits. A high-intensity\, low-impact workout\, it’s scientifically proven to return rapid results.
URL:https://www.ashlandy.org/event/power-cycle-25/
LOCATION:Cycling Room
CATEGORIES:Group Ex-Schedule
END:VEVENT
BEGIN:VEVENT
DTSTART;TZID=America/New_York:20240924T083000
DTEND;TZID=America/New_York:20240924T090000
DTSTAMP:20260421T104521
CREATED:20240711T131747Z
LAST-MODIFIED:20240924T013937Z
UID:10001303-1727166600-1727168400@www.ashlandy.org
SUMMARY:Power + Cycling
DESCRIPTION:Instructor: Shelly \nSpots: 19 \nDescription: Intervals\, rolling hills\, sprints\, climbs\, runs\, surges and jumps all to music hand-picked to motivate and inspire! This is a great workout if you want to burn calories and increase endurance
URL:https://www.ashlandy.org/event/power-cycling-25/
LOCATION:Cycling Room
CATEGORIES:Group Ex-Schedule
END:VEVENT
BEGIN:VEVENT
DTSTART;TZID=America/New_York:20240924T051500
DTEND;TZID=America/New_York:20240924T060000
DTSTAMP:20260421T104521
CREATED:20240711T131746Z
LAST-MODIFIED:20240924T013937Z
UID:10001301-1727154900-1727157600@www.ashlandy.org
SUMMARY:Cycling-w/Michelle McDonald
DESCRIPTION:First come. First served.
URL:https://www.ashlandy.org/event/cycling-w-michelle-mcdonald-51/
LOCATION:Cycling Room
CATEGORIES:Group Ex-Schedule
END:VEVENT
BEGIN:VEVENT
DTSTART;TZID=America/New_York:20240921T083000
DTEND;TZID=America/New_York:20240921T090000
DTSTAMP:20260421T104521
CREATED:20240710T124740Z
LAST-MODIFIED:20240921T000940Z
UID:10001291-1726907400-1726909200@www.ashlandy.org
SUMMARY:Cycle Strong
DESCRIPTION:Instructor: Shelly \nClass Description: High-intensity interval training full-body workout\, with timed intervals with heart-thumping music designed to motivate and move you.
URL:https://www.ashlandy.org/event/cycle-strong-90/
LOCATION:Cycling Room
CATEGORIES:Group Ex-Schedule
END:VEVENT
BEGIN:VEVENT
DTSTART;TZID=America/New_York:20240920T080000
DTEND;TZID=America/New_York:20240920T083000
DTSTAMP:20260421T104521
CREATED:20240709T121727Z
LAST-MODIFIED:20240919T233937Z
UID:10001284-1726819200-1726821000@www.ashlandy.org
SUMMARY:Cycle Strong
DESCRIPTION:Instructor: Jennifer  \nDescription: Cycle Strong is a 60-minute cycling experience brought indoors. Roll over hills\, chase the pack\, spin the flats\, climb mountains and sprint to the finish. You’ll feel the thrill of energetic music and group dynamics as you get all the benefits of authentic interval training.
URL:https://www.ashlandy.org/event/cycle-strong-89/
LOCATION:Cycling Room
CATEGORIES:Group Ex-Schedule
END:VEVENT
BEGIN:VEVENT
DTSTART;TZID=America/New_York:20240919T051500
DTEND;TZID=America/New_York:20240919T060000
DTSTAMP:20260421T104521
CREATED:20240706T104654Z
LAST-MODIFIED:20240918T230937Z
UID:10001275-1726722900-1726725600@www.ashlandy.org
SUMMARY:Cycling-w/Michelle McDonald
DESCRIPTION:First come. First served.
URL:https://www.ashlandy.org/event/cycling-w-michelle-mcdonald-50/
LOCATION:Cycling Room
CATEGORIES:Group Ex-Schedule
END:VEVENT
BEGIN:VEVENT
DTSTART;TZID=America/New_York:20240918T083000
DTEND;TZID=America/New_York:20240918T090000
DTSTAMP:20260421T104521
CREATED:20240706T104653Z
LAST-MODIFIED:20240917T223937Z
UID:10001272-1726648200-1726650000@www.ashlandy.org
SUMMARY:Cycle Strong
DESCRIPTION:Instructor: Shelly \nSpots: 19 \nDescription: Intervals\, rolling hills\, sprints\, climbs\, runs\, surges and jumps all to music hand-picked to motivate and inspire! This is a great workout if you want to burn calories and increase endurance.
URL:https://www.ashlandy.org/event/cycle-strong-88/
LOCATION:Cycling Room
CATEGORIES:Group Ex-Schedule
END:VEVENT
BEGIN:VEVENT
DTSTART;TZID=America/New_York:20240917T183000
DTEND;TZID=America/New_York:20240917T190000
DTSTAMP:20260421T104521
CREATED:20240706T104652Z
LAST-MODIFIED:20240917T223936Z
UID:10001270-1726597800-1726599600@www.ashlandy.org
SUMMARY:Power + Cycle
DESCRIPTION:Instructor: Shelly \nSpots: 19 \nDescription: A 30-minute High-Intensity Interval Training (HIIT) workout\, using an indoor bike to achieve fast results. It’s a short\, intense style of training where the thrill and motivation come from pushing your physical and mental limits. A high-intensity\, low-impact workout\, it’s scientifically proven to return rapid results.
URL:https://www.ashlandy.org/event/power-cycle-24/
LOCATION:Cycling Room
CATEGORIES:Group Ex-Schedule
END:VEVENT
BEGIN:VEVENT
DTSTART;TZID=America/New_York:20240917T083000
DTEND;TZID=America/New_York:20240917T090000
DTSTAMP:20260421T104521
CREATED:20240706T104651Z
LAST-MODIFIED:20240916T220940Z
UID:10001267-1726561800-1726563600@www.ashlandy.org
SUMMARY:Power + Cycling
DESCRIPTION:Instructor: Shelly \nSpots: 19 \nDescription: Intervals\, rolling hills\, sprints\, climbs\, runs\, surges and jumps all to music hand-picked to motivate and inspire! This is a great workout if you want to burn calories and increase endurance
URL:https://www.ashlandy.org/event/power-cycling-24/
LOCATION:Cycling Room
CATEGORIES:Group Ex-Schedule
END:VEVENT
BEGIN:VEVENT
DTSTART;TZID=America/New_York:20240917T051500
DTEND;TZID=America/New_York:20240917T060000
DTSTAMP:20260421T104521
CREATED:20240704T094703Z
LAST-MODIFIED:20240916T220939Z
UID:10001258-1726550100-1726552800@www.ashlandy.org
SUMMARY:Cycling-w/Michelle McDonald
DESCRIPTION:First come. First served.
URL:https://www.ashlandy.org/event/cycling-w-michelle-mcdonald-49/
LOCATION:Cycling Room
CATEGORIES:Group Ex-Schedule
END:VEVENT
BEGIN:VEVENT
DTSTART;TZID=America/New_York:20240914T083000
DTEND;TZID=America/New_York:20240914T090000
DTSTAMP:20260421T104521
CREATED:20240703T091731Z
LAST-MODIFIED:20240913T203936Z
UID:10001247-1726302600-1726304400@www.ashlandy.org
SUMMARY:Cycle Strong
DESCRIPTION:Instructor: Shelly \nClass Description: High-intensity interval training full-body workout\, with timed intervals with heart-thumping music designed to motivate and move you.
URL:https://www.ashlandy.org/event/cycle-strong-87/
LOCATION:Cycling Room
CATEGORIES:Group Ex-Schedule
END:VEVENT
BEGIN:VEVENT
DTSTART;TZID=America/New_York:20240913T080000
DTEND;TZID=America/New_York:20240913T083000
DTSTAMP:20260421T104521
CREATED:20240702T084724Z
LAST-MODIFIED:20240912T200937Z
UID:10001241-1726214400-1726216200@www.ashlandy.org
SUMMARY:Cycle Strong
DESCRIPTION:Instructor: Jennifer  \nDescription: Cycle Strong is a 60-minute cycling experience brought indoors. Roll over hills\, chase the pack\, spin the flats\, climb mountains and sprint to the finish. You’ll feel the thrill of energetic music and group dynamics as you get all the benefits of authentic interval training.
URL:https://www.ashlandy.org/event/cycle-strong-86/
LOCATION:Cycling Room
CATEGORIES:Group Ex-Schedule
END:VEVENT
BEGIN:VEVENT
DTSTART;TZID=America/New_York:20240912T051500
DTEND;TZID=America/New_York:20240912T060000
DTSTAMP:20260421T104521
CREATED:20240629T071726Z
LAST-MODIFIED:20240911T193939Z
UID:10001233-1726118100-1726120800@www.ashlandy.org
SUMMARY:Cycling-w/Michelle McDonald
DESCRIPTION:First come. First served.
URL:https://www.ashlandy.org/event/cycling-w-michelle-mcdonald-48/
LOCATION:Cycling Room
CATEGORIES:Group Ex-Schedule
END:VEVENT
BEGIN:VEVENT
DTSTART;TZID=America/New_York:20240911T083000
DTEND;TZID=America/New_York:20240911T090000
DTSTAMP:20260421T104521
CREATED:20240628T064739Z
LAST-MODIFIED:20240910T190942Z
UID:10001223-1726043400-1726045200@www.ashlandy.org
SUMMARY:Cycle Strong
DESCRIPTION:Instructor: Shelly \nSpots: 19 \nDescription: Intervals\, rolling hills\, sprints\, climbs\, runs\, surges and jumps all to music hand-picked to motivate and inspire! This is a great workout if you want to burn calories and increase endurance.
URL:https://www.ashlandy.org/event/cycle-strong-85/
LOCATION:Cycling Room
CATEGORIES:Group Ex-Schedule
END:VEVENT
BEGIN:VEVENT
DTSTART;TZID=America/New_York:20240910T183000
DTEND;TZID=America/New_York:20240910T190000
DTSTAMP:20260421T104521
CREATED:20240628T064738Z
LAST-MODIFIED:20240910T190941Z
UID:10001222-1725993000-1725994800@www.ashlandy.org
SUMMARY:Power + Cycle
DESCRIPTION:Instructor: Shelly \nSpots: 19 \nDescription: A 30-minute High-Intensity Interval Training (HIIT) workout\, using an indoor bike to achieve fast results. It’s a short\, intense style of training where the thrill and motivation come from pushing your physical and mental limits. A high-intensity\, low-impact workout\, it’s scientifically proven to return rapid results.
URL:https://www.ashlandy.org/event/power-cycle-23/
LOCATION:Cycling Room
CATEGORIES:Group Ex-Schedule
END:VEVENT
BEGIN:VEVENT
DTSTART;TZID=America/New_York:20240910T083000
DTEND;TZID=America/New_York:20240910T090000
DTSTAMP:20260421T104521
CREATED:20240628T064737Z
LAST-MODIFIED:20240909T183938Z
UID:10001220-1725957000-1725958800@www.ashlandy.org
SUMMARY:Power + Cycling
DESCRIPTION:Instructor: Shelly \nSpots: 19 \nDescription: Intervals\, rolling hills\, sprints\, climbs\, runs\, surges and jumps all to music hand-picked to motivate and inspire! This is a great workout if you want to burn calories and increase endurance
URL:https://www.ashlandy.org/event/power-cycling-23/
LOCATION:Cycling Room
CATEGORIES:Group Ex-Schedule
END:VEVENT
BEGIN:VEVENT
DTSTART;TZID=America/New_York:20240910T051500
DTEND;TZID=America/New_York:20240910T060000
DTSTAMP:20260421T104521
CREATED:20240627T061719Z
LAST-MODIFIED:20240909T183937Z
UID:10001214-1725945300-1725948000@www.ashlandy.org
SUMMARY:Cycling-w/Michelle McDonald
DESCRIPTION:First come. First served.
URL:https://www.ashlandy.org/event/cycling-w-michelle-mcdonald-47/
LOCATION:Cycling Room
CATEGORIES:Group Ex-Schedule
END:VEVENT
BEGIN:VEVENT
DTSTART;TZID=America/New_York:20240907T083000
DTEND;TZID=America/New_York:20240907T090000
DTSTAMP:20260421T104521
CREATED:20240626T054803Z
LAST-MODIFIED:20240906T170913Z
UID:10001203-1725697800-1725699600@www.ashlandy.org
SUMMARY:Cycle Strong
DESCRIPTION:Instructor: Shelly \nClass Description: High-intensity interval training full-body workout\, with timed intervals with heart-thumping music designed to motivate and move you.
URL:https://www.ashlandy.org/event/cycle-strong-84/
LOCATION:Cycling Room
CATEGORIES:Group Ex-Schedule
END:VEVENT
BEGIN:VEVENT
DTSTART;TZID=America/New_York:20240906T080000
DTEND;TZID=America/New_York:20240906T083000
DTSTAMP:20260421T104521
CREATED:20240625T052002Z
LAST-MODIFIED:20240905T163914Z
UID:10001198-1725609600-1725611400@www.ashlandy.org
SUMMARY:Cycle Strong
DESCRIPTION:Instructor: Jennifer  \nDescription: Cycle Strong is a 60-minute cycling experience brought indoors. Roll over hills\, chase the pack\, spin the flats\, climb mountains and sprint to the finish. You’ll feel the thrill of energetic music and group dynamics as you get all the benefits of authentic interval training.
URL:https://www.ashlandy.org/event/cycle-strong-83/
LOCATION:Cycling Room
CATEGORIES:Group Ex-Schedule
END:VEVENT
END:VCALENDAR