BEGIN:VCALENDAR
VERSION:2.0
PRODID:-//YMCA of Ashland, Ohio - ECPv6.5.0//NONSGML v1.0//EN
CALSCALE:GREGORIAN
METHOD:PUBLISH
X-WR-CALNAME:YMCA of Ashland, Ohio
X-ORIGINAL-URL:https://www.ashlandy.org
X-WR-CALDESC:Events for YMCA of Ashland, Ohio
REFRESH-INTERVAL;VALUE=DURATION:PT1H
X-Robots-Tag:noindex
X-PUBLISHED-TTL:PT1H
BEGIN:VTIMEZONE
TZID:America/New_York
BEGIN:DAYLIGHT
TZOFFSETFROM:-0500
TZOFFSETTO:-0400
TZNAME:EDT
DTSTART:20240310T070000
END:DAYLIGHT
BEGIN:STANDARD
TZOFFSETFROM:-0400
TZOFFSETTO:-0500
TZNAME:EST
DTSTART:20241103T060000
END:STANDARD
END:VTIMEZONE
BEGIN:VEVENT
DTSTART;TZID=America/New_York:20240603T083000
DTEND;TZID=America/New_York:20240603T090000
DTSTAMP:20260422T032138
CREATED:20240403T122356Z
LAST-MODIFIED:20240507T160734Z
UID:10000601-1717403400-1717405200@www.ashlandy.org
SUMMARY:Cycle Strong
DESCRIPTION:Instructor: Shelly \nSpots: 19 \nDescription: We combine 30 minutes of intensity\, challenge\, strength-building\, and stamina in this class for advanced students. An interval training workout. This class takes you on a great ride and adds strength and endurance moves for the upper and lower body.
URL:https://www.ashlandy.org/event/cycle-strong-37/
LOCATION:Cycling Room
CATEGORIES:Group Ex-Schedule
END:VEVENT
BEGIN:VEVENT
DTSTART;TZID=America/New_York:20240601T083000
DTEND;TZID=America/New_York:20240601T090000
DTSTAMP:20260422T032138
CREATED:20240403T122355Z
LAST-MODIFIED:20240531T210644Z
UID:10000598-1717230600-1717232400@www.ashlandy.org
SUMMARY:Cycle Strong
DESCRIPTION:Instructor: Shelly \nClass Description: High-intensity interval training full-body workout\, with timed intervals with heart-thumping music designed to motivate and move you.
URL:https://www.ashlandy.org/event/cycle-strong-36/
LOCATION:Cycling Room
CATEGORIES:Group Ex-Schedule
END:VEVENT
BEGIN:VEVENT
DTSTART;TZID=America/New_York:20240531T080000
DTEND;TZID=America/New_York:20240531T083000
DTSTAMP:20260422T032138
CREATED:20240403T122352Z
LAST-MODIFIED:20240530T065159Z
UID:10000594-1717142400-1717144200@www.ashlandy.org
SUMMARY:Cycle Strong
DESCRIPTION:Instructor: Jennifer  \nDescription: Cycle Strong is a 60-minute cycling experience brought indoors. Roll over hills\, chase the pack\, spin the flats\, climb mountains and sprint to the finish. You’ll feel the thrill of energetic music and group dynamics as you get all the benefits of authentic interval training.
URL:https://www.ashlandy.org/event/cycle-strong-35/
LOCATION:Cycling Room
CATEGORIES:Group Ex-Schedule
END:VEVENT
BEGIN:VEVENT
DTSTART;TZID=America/New_York:20240530T051500
DTEND;TZID=America/New_York:20240530T060000
DTSTAMP:20260422T032138
CREATED:20240403T122348Z
LAST-MODIFIED:20240530T065157Z
UID:10000587-1717046100-1717048800@www.ashlandy.org
SUMMARY:Cycling-w/Michelle McDonald
DESCRIPTION:First come. First served.
URL:https://www.ashlandy.org/event/cycling-w-michelle-mcdonald-18/
LOCATION:Cycling Room
CATEGORIES:Group Ex-Schedule
END:VEVENT
BEGIN:VEVENT
DTSTART;TZID=America/New_York:20240529T083000
DTEND;TZID=America/New_York:20240529T090000
DTSTAMP:20260422T032138
CREATED:20240403T122347Z
LAST-MODIFIED:20240528T123610Z
UID:10000584-1716971400-1716973200@www.ashlandy.org
SUMMARY:Cycle Strong
DESCRIPTION:Instructor: Shelly \nSpots: 19 \nDescription: Intervals\, rolling hills\, sprints\, climbs\, runs\, surges and jumps all to music hand-picked to motivate and inspire! This is a great workout if you want to burn calories and increase endurance.
URL:https://www.ashlandy.org/event/cycle-strong-34/
LOCATION:Cycling Room
CATEGORIES:Group Ex-Schedule
END:VEVENT
BEGIN:VEVENT
DTSTART;TZID=America/New_York:20240528T183000
DTEND;TZID=America/New_York:20240528T190000
DTSTAMP:20260422T032138
CREATED:20240403T122345Z
LAST-MODIFIED:20240528T123610Z
UID:10000580-1716921000-1716922800@www.ashlandy.org
SUMMARY:Power + Cycle
DESCRIPTION:Instructor: Shelly \nSpots: 19 \nDescription: A 30-minute High-Intensity Interval Training (HIIT) workout\, using an indoor bike to achieve fast results. It’s a short\, intense style of training where the thrill and motivation come from pushing your physical and mental limits. A high-intensity\, low-impact workout\, it’s scientifically proven to return rapid results.
URL:https://www.ashlandy.org/event/power-cycle-8/
LOCATION:Cycling Room
CATEGORIES:Group Ex-Schedule
END:VEVENT
BEGIN:VEVENT
DTSTART;TZID=America/New_York:20240528T083000
DTEND;TZID=America/New_York:20240528T090000
DTSTAMP:20260422T032138
CREATED:20240403T122345Z
LAST-MODIFIED:20240528T123608Z
UID:10000577-1716885000-1716886800@www.ashlandy.org
SUMMARY:Power + Cycling
DESCRIPTION:Instructor: Shelly \nSpots: 19 \nDescription: Intervals\, rolling hills\, sprints\, climbs\, runs\, surges and jumps all to music hand-picked to motivate and inspire! This is a great workout if you want to burn calories and increase endurance
URL:https://www.ashlandy.org/event/power-cycling-8/
LOCATION:Cycling Room
CATEGORIES:Group Ex-Schedule
END:VEVENT
BEGIN:VEVENT
DTSTART;TZID=America/New_York:20240528T051500
DTEND;TZID=America/New_York:20240528T060000
DTSTAMP:20260422T032138
CREATED:20240403T122343Z
LAST-MODIFIED:20240527T064956Z
UID:10000573-1716873300-1716876000@www.ashlandy.org
SUMMARY:Cycling-w/Michelle McDonald
DESCRIPTION:First come. First served.
URL:https://www.ashlandy.org/event/cycling-w-michelle-mcdonald-17/
LOCATION:Cycling Room
CATEGORIES:Group Ex-Schedule
END:VEVENT
BEGIN:VEVENT
DTSTART;TZID=America/New_York:20240527T083000
DTEND;TZID=America/New_York:20240527T090000
DTSTAMP:20260422T032138
CREATED:20240403T122341Z
LAST-MODIFIED:20240507T160625Z
UID:10000567-1716798600-1716800400@www.ashlandy.org
SUMMARY:Cycle Strong
DESCRIPTION:Instructor: Shelly \nSpots: 19 \nDescription: We combine 30 minutes of intensity\, challenge\, strength-building\, and stamina in this class for advanced students. An interval training workout. This class takes you on a great ride and adds strength and endurance moves for the upper and lower body.
URL:https://www.ashlandy.org/event/cycle-strong-33/
LOCATION:Cycling Room
CATEGORIES:Group Ex-Schedule
END:VEVENT
BEGIN:VEVENT
DTSTART;TZID=America/New_York:20240525T083000
DTEND;TZID=America/New_York:20240525T090000
DTSTAMP:20260422T032138
CREATED:20240403T122339Z
LAST-MODIFIED:20240525T065224Z
UID:10000565-1716625800-1716627600@www.ashlandy.org
SUMMARY:Cycle Strong
DESCRIPTION:Instructor: Shelly \nClass Description: High-intensity interval training full-body workout\, with timed intervals with heart-thumping music designed to motivate and move you.
URL:https://www.ashlandy.org/event/cycle-strong-32/
LOCATION:Cycling Room
CATEGORIES:Group Ex-Schedule
END:VEVENT
BEGIN:VEVENT
DTSTART;TZID=America/New_York:20240524T080000
DTEND;TZID=America/New_York:20240524T083000
DTSTAMP:20260422T032138
CREATED:20240403T122337Z
LAST-MODIFIED:20240523T183857Z
UID:10000563-1716537600-1716539400@www.ashlandy.org
SUMMARY:Cycle Strong
DESCRIPTION:Instructor: Jennifer  \nDescription: Cycle Strong is a 60-minute cycling experience brought indoors. Roll over hills\, chase the pack\, spin the flats\, climb mountains and sprint to the finish. You’ll feel the thrill of energetic music and group dynamics as you get all the benefits of authentic interval training.
URL:https://www.ashlandy.org/event/cycle-strong-31/
LOCATION:Cycling Room
CATEGORIES:Group Ex-Schedule
END:VEVENT
BEGIN:VEVENT
DTSTART;TZID=America/New_York:20240523T051500
DTEND;TZID=America/New_York:20240523T060000
DTSTAMP:20260422T032138
CREATED:20240403T122334Z
LAST-MODIFIED:20240522T174533Z
UID:10000554-1716441300-1716444000@www.ashlandy.org
SUMMARY:Cycling-w/Michelle McDonald
DESCRIPTION:First come. First served.
URL:https://www.ashlandy.org/event/cycling-w-michelle-mcdonald-16/
LOCATION:Cycling Room
CATEGORIES:Group Ex-Schedule
END:VEVENT
BEGIN:VEVENT
DTSTART;TZID=America/New_York:20240522T083000
DTEND;TZID=America/New_York:20240522T090000
DTSTAMP:20260422T032138
CREATED:20240403T122332Z
LAST-MODIFIED:20240521T172343Z
UID:10000549-1716366600-1716368400@www.ashlandy.org
SUMMARY:Cycle Strong
DESCRIPTION:Instructor: Shelly \nSpots: 19 \nDescription: Intervals\, rolling hills\, sprints\, climbs\, runs\, surges and jumps all to music hand-picked to motivate and inspire! This is a great workout if you want to burn calories and increase endurance.
URL:https://www.ashlandy.org/event/cycle-strong-30/
LOCATION:Cycling Room
CATEGORIES:Group Ex-Schedule
END:VEVENT
BEGIN:VEVENT
DTSTART;TZID=America/New_York:20240521T183000
DTEND;TZID=America/New_York:20240521T190000
DTSTAMP:20260422T032138
CREATED:20240403T122331Z
LAST-MODIFIED:20240521T172343Z
UID:10000547-1716316200-1716318000@www.ashlandy.org
SUMMARY:Power + Cycle
DESCRIPTION:Instructor: Shelly \nSpots: 19 \nDescription: A 30-minute High-Intensity Interval Training (HIIT) workout\, using an indoor bike to achieve fast results. It’s a short\, intense style of training where the thrill and motivation come from pushing your physical and mental limits. A high-intensity\, low-impact workout\, it’s scientifically proven to return rapid results.
URL:https://www.ashlandy.org/event/power-cycle-7/
LOCATION:Cycling Room
CATEGORIES:Group Ex-Schedule
END:VEVENT
BEGIN:VEVENT
DTSTART;TZID=America/New_York:20240521T083000
DTEND;TZID=America/New_York:20240521T090000
DTSTAMP:20260422T032138
CREATED:20240403T122330Z
LAST-MODIFIED:20240520T130514Z
UID:10000542-1716280200-1716282000@www.ashlandy.org
SUMMARY:Power + Cycling
DESCRIPTION:Instructor: Shelly \nSpots: 19 \nDescription: Intervals\, rolling hills\, sprints\, climbs\, runs\, surges and jumps all to music hand-picked to motivate and inspire! This is a great workout if you want to burn calories and increase endurance
URL:https://www.ashlandy.org/event/power-cycling-7/
LOCATION:Cycling Room
CATEGORIES:Group Ex-Schedule
END:VEVENT
BEGIN:VEVENT
DTSTART;TZID=America/New_York:20240521T051500
DTEND;TZID=America/New_York:20240521T060000
DTSTAMP:20260422T032138
CREATED:20240403T122329Z
LAST-MODIFIED:20240520T130514Z
UID:10000540-1716268500-1716271200@www.ashlandy.org
SUMMARY:Cycling-w/Michelle McDonald
DESCRIPTION:First come. First served.
URL:https://www.ashlandy.org/event/cycling-w-michelle-mcdonald-15/
LOCATION:Cycling Room
CATEGORIES:Group Ex-Schedule
END:VEVENT
BEGIN:VEVENT
DTSTART;TZID=America/New_York:20240520T083000
DTEND;TZID=America/New_York:20240520T090000
DTSTAMP:20260422T032138
CREATED:20240403T122327Z
LAST-MODIFIED:20240507T160538Z
UID:10000535-1716193800-1716195600@www.ashlandy.org
SUMMARY:Cycle Strong
DESCRIPTION:Instructor: Shelly \nSpots: 19 \nDescription: We combine 30 minutes of intensity\, challenge\, strength-building\, and stamina in this class for advanced students. An interval training workout. This class takes you on a great ride and adds strength and endurance moves for the upper and lower body.
URL:https://www.ashlandy.org/event/cycle-strong-29/
LOCATION:Cycling Room
CATEGORIES:Group Ex-Schedule
END:VEVENT
BEGIN:VEVENT
DTSTART;TZID=America/New_York:20240518T083000
DTEND;TZID=America/New_York:20240518T090000
DTSTAMP:20260422T032138
CREATED:20240403T122326Z
LAST-MODIFIED:20240517T065127Z
UID:10000532-1716021000-1716022800@www.ashlandy.org
SUMMARY:Cycle Strong
DESCRIPTION:Instructor: Shelly \nClass Description: High-intensity interval training full-body workout\, with timed intervals with heart-thumping music designed to motivate and move you.
URL:https://www.ashlandy.org/event/cycle-strong-28/
LOCATION:Cycling Room
CATEGORIES:Group Ex-Schedule
END:VEVENT
BEGIN:VEVENT
DTSTART;TZID=America/New_York:20240517T080000
DTEND;TZID=America/New_York:20240517T083000
DTSTAMP:20260422T032138
CREATED:20240403T122325Z
LAST-MODIFIED:20240517T065125Z
UID:10000530-1715932800-1715934600@www.ashlandy.org
SUMMARY:Cycle Strong
DESCRIPTION:Instructor: Jennifer  \nDescription: Cycle Strong is a 60-minute cycling experience brought indoors. Roll over hills\, chase the pack\, spin the flats\, climb mountains and sprint to the finish. You’ll feel the thrill of energetic music and group dynamics as you get all the benefits of authentic interval training.
URL:https://www.ashlandy.org/event/cycle-strong-27/
LOCATION:Cycling Room
CATEGORIES:Group Ex-Schedule
END:VEVENT
BEGIN:VEVENT
DTSTART;TZID=America/New_York:20240516T051500
DTEND;TZID=America/New_York:20240516T060000
DTSTAMP:20260422T032138
CREATED:20240403T122322Z
LAST-MODIFIED:20240515T200242Z
UID:10000522-1715836500-1715839200@www.ashlandy.org
SUMMARY:Cycling-w/Michelle McDonald
DESCRIPTION:First come. First served.
URL:https://www.ashlandy.org/event/cycling-w-michelle-mcdonald-14/
LOCATION:Cycling Room
CATEGORIES:Group Ex-Schedule
END:VEVENT
BEGIN:VEVENT
DTSTART;TZID=America/New_York:20240515T083000
DTEND;TZID=America/New_York:20240515T090000
DTSTAMP:20260422T032138
CREATED:20240403T122321Z
LAST-MODIFIED:20240514T194817Z
UID:10000517-1715761800-1715763600@www.ashlandy.org
SUMMARY:Cycle Strong
DESCRIPTION:Instructor: Shelly \nSpots: 19 \nDescription: Intervals\, rolling hills\, sprints\, climbs\, runs\, surges and jumps all to music hand-picked to motivate and inspire! This is a great workout if you want to burn calories and increase endurance.
URL:https://www.ashlandy.org/event/cycle-strong-26/
LOCATION:Cycling Room
CATEGORIES:Group Ex-Schedule
END:VEVENT
BEGIN:VEVENT
DTSTART;TZID=America/New_York:20240514T183000
DTEND;TZID=America/New_York:20240514T190000
DTSTAMP:20260422T032138
CREATED:20240403T122320Z
LAST-MODIFIED:20240514T194817Z
UID:10000513-1715711400-1715713200@www.ashlandy.org
SUMMARY:Power + Cycle
DESCRIPTION:Instructor: Shelly \nSpots: 19 \nDescription: A 30-minute High-Intensity Interval Training (HIIT) workout\, using an indoor bike to achieve fast results. It’s a short\, intense style of training where the thrill and motivation come from pushing your physical and mental limits. A high-intensity\, low-impact workout\, it’s scientifically proven to return rapid results.
URL:https://www.ashlandy.org/event/power-cycle-6/
LOCATION:Cycling Room
CATEGORIES:Group Ex-Schedule
END:VEVENT
BEGIN:VEVENT
DTSTART;TZID=America/New_York:20240514T083000
DTEND;TZID=America/New_York:20240514T090000
DTSTAMP:20260422T032138
CREATED:20240403T122318Z
LAST-MODIFIED:20240513T065043Z
UID:10000508-1715675400-1715677200@www.ashlandy.org
SUMMARY:Power + Cycling
DESCRIPTION:Instructor: Shelly \nSpots: 19 \nDescription: Intervals\, rolling hills\, sprints\, climbs\, runs\, surges and jumps all to music hand-picked to motivate and inspire! This is a great workout if you want to burn calories and increase endurance
URL:https://www.ashlandy.org/event/power-cycling-6/
LOCATION:Cycling Room
CATEGORIES:Group Ex-Schedule
END:VEVENT
BEGIN:VEVENT
DTSTART;TZID=America/New_York:20240514T051500
DTEND;TZID=America/New_York:20240514T060000
DTSTAMP:20260422T032138
CREATED:20240403T122318Z
LAST-MODIFIED:20240513T065042Z
UID:10000507-1715663700-1715666400@www.ashlandy.org
SUMMARY:Cycling-w/Michelle McDonald
DESCRIPTION:First come. First served.
URL:https://www.ashlandy.org/event/cycling-w-michelle-mcdonald-13/
LOCATION:Cycling Room
CATEGORIES:Group Ex-Schedule
END:VEVENT
BEGIN:VEVENT
DTSTART;TZID=America/New_York:20240513T083000
DTEND;TZID=America/New_York:20240513T090000
DTSTAMP:20260422T032138
CREATED:20240403T122317Z
LAST-MODIFIED:20240507T160449Z
UID:10000504-1715589000-1715590800@www.ashlandy.org
SUMMARY:Cycle Strong
DESCRIPTION:Instructor: Shelly \nSpots: 19 \nDescription: We combine 30 minutes of intensity\, challenge\, strength-building\, and stamina in this class for advanced students. An interval training workout. This class takes you on a great ride and adds strength and endurance moves for the upper and lower body.
URL:https://www.ashlandy.org/event/cycle-strong-25/
LOCATION:Cycling Room
CATEGORIES:Group Ex-Schedule
END:VEVENT
BEGIN:VEVENT
DTSTART;TZID=America/New_York:20240511T083000
DTEND;TZID=America/New_York:20240511T090000
DTSTAMP:20260422T032138
CREATED:20240403T122315Z
LAST-MODIFIED:20240511T064920Z
UID:10000499-1715416200-1715418000@www.ashlandy.org
SUMMARY:Cycle Strong
DESCRIPTION:Instructor: Shelly \nClass Description: High-intensity interval training full-body workout\, with timed intervals with heart-thumping music designed to motivate and move you.
URL:https://www.ashlandy.org/event/cycle-strong-24/
LOCATION:Cycling Room
CATEGORIES:Group Ex-Schedule
END:VEVENT
BEGIN:VEVENT
DTSTART;TZID=America/New_York:20240510T080000
DTEND;TZID=America/New_York:20240510T083000
DTSTAMP:20260422T032138
CREATED:20240403T122313Z
LAST-MODIFIED:20240509T064949Z
UID:10000494-1715328000-1715329800@www.ashlandy.org
SUMMARY:Cycle Strong
DESCRIPTION:Instructor: Jennifer  \nDescription: Cycle Strong is a 60-minute cycling experience brought indoors. Roll over hills\, chase the pack\, spin the flats\, climb mountains and sprint to the finish. You’ll feel the thrill of energetic music and group dynamics as you get all the benefits of authentic interval training.
URL:https://www.ashlandy.org/event/cycle-strong-23/
LOCATION:Cycling Room
CATEGORIES:Group Ex-Schedule
END:VEVENT
BEGIN:VEVENT
DTSTART;TZID=America/New_York:20240509T051500
DTEND;TZID=America/New_York:20240509T060000
DTSTAMP:20260422T032138
CREATED:20240403T122311Z
LAST-MODIFIED:20240509T064948Z
UID:10000488-1715231700-1715234400@www.ashlandy.org
SUMMARY:Cycling-w/Michelle McDonald
DESCRIPTION:First come. First served.
URL:https://www.ashlandy.org/event/cycling-w-michelle-mcdonald-12/
LOCATION:Cycling Room
CATEGORIES:Group Ex-Schedule
END:VEVENT
BEGIN:VEVENT
DTSTART;TZID=America/New_York:20240508T083000
DTEND;TZID=America/New_York:20240508T090000
DTSTAMP:20260422T032138
CREATED:20240403T122310Z
LAST-MODIFIED:20240507T160414Z
UID:10000486-1715157000-1715158800@www.ashlandy.org
SUMMARY:Cycle Strong
DESCRIPTION:Instructor: Shelly \nSpots: 19 \nDescription: Intervals\, rolling hills\, sprints\, climbs\, runs\, surges and jumps all to music hand-picked to motivate and inspire! This is a great workout if you want to burn calories and increase endurance.
URL:https://www.ashlandy.org/event/cycle-strong-22/
LOCATION:Cycling Room
CATEGORIES:Group Ex-Schedule
END:VEVENT
BEGIN:VEVENT
DTSTART;TZID=America/New_York:20240507T183000
DTEND;TZID=America/New_York:20240507T190000
DTSTAMP:20260422T032138
CREATED:20240403T122308Z
LAST-MODIFIED:20240507T160411Z
UID:10000481-1715106600-1715108400@www.ashlandy.org
SUMMARY:Power + Cycle
DESCRIPTION:Instructor: Shelly \nSpots: 19 \nDescription: A 30-minute High-Intensity Interval Training (HIIT) workout\, using an indoor bike to achieve fast results. It’s a short\, intense style of training where the thrill and motivation come from pushing your physical and mental limits. A high-intensity\, low-impact workout\, it’s scientifically proven to return rapid results.
URL:https://www.ashlandy.org/event/power-cycle-5/
LOCATION:Cycling Room
CATEGORIES:Group Ex-Schedule
END:VEVENT
END:VCALENDAR