BEGIN:VCALENDAR
VERSION:2.0
PRODID:-//YMCA of Ashland, Ohio - ECPv6.5.0//NONSGML v1.0//EN
CALSCALE:GREGORIAN
METHOD:PUBLISH
X-WR-CALNAME:YMCA of Ashland, Ohio
X-ORIGINAL-URL:https://www.ashlandy.org
X-WR-CALDESC:Events for YMCA of Ashland, Ohio
REFRESH-INTERVAL;VALUE=DURATION:PT1H
X-Robots-Tag:noindex
X-PUBLISHED-TTL:PT1H
BEGIN:VTIMEZONE
TZID:America/New_York
BEGIN:DAYLIGHT
TZOFFSETFROM:-0500
TZOFFSETTO:-0400
TZNAME:EDT
DTSTART:20240310T070000
END:DAYLIGHT
BEGIN:STANDARD
TZOFFSETFROM:-0400
TZOFFSETTO:-0500
TZNAME:EST
DTSTART:20241103T060000
END:STANDARD
END:VTIMEZONE
BEGIN:VEVENT
DTSTART;TZID=America/New_York:20240501T083000
DTEND;TZID=America/New_York:20240501T090000
DTSTAMP:20260422T075928
CREATED:20240403T122251Z
LAST-MODIFIED:20240422T065228Z
UID:10000450-1714552200-1714554000@www.ashlandy.org
SUMMARY:Cycle Strong
DESCRIPTION:Instructor: Shelly \nSpots: 19 \nDescription: Intervals\, rolling hills\, sprints\, climbs\, runs\, surges and jumps all to music hand-picked to motivate and inspire! This is a great workout if you want to burn calories and increase endurance.
URL:https://www.ashlandy.org/event/cycle-strong-18/
LOCATION:Cycling Room
CATEGORIES:Group Ex-Schedule
END:VEVENT
BEGIN:VEVENT
DTSTART;TZID=America/New_York:20240430T183000
DTEND;TZID=America/New_York:20240430T190000
DTSTAMP:20260422T075928
CREATED:20240403T122251Z
LAST-MODIFIED:20240422T065227Z
UID:10000448-1714501800-1714503600@www.ashlandy.org
SUMMARY:Power + Cycle
DESCRIPTION:Instructor: Shelly \nSpots: 19 \nDescription: A 30-minute High-Intensity Interval Training (HIIT) workout\, using an indoor bike to achieve fast results. It’s a short\, intense style of training where the thrill and motivation come from pushing your physical and mental limits. A high-intensity\, low-impact workout\, it’s scientifically proven to return rapid results.
URL:https://www.ashlandy.org/event/power-cycle-4/
LOCATION:Cycling Room
CATEGORIES:Group Ex-Schedule
END:VEVENT
BEGIN:VEVENT
DTSTART;TZID=America/New_York:20240430T083000
DTEND;TZID=America/New_York:20240430T090000
DTSTAMP:20260422T075928
CREATED:20240403T122249Z
LAST-MODIFIED:20240422T065225Z
UID:10000443-1714465800-1714467600@www.ashlandy.org
SUMMARY:Power + Cycling
DESCRIPTION:Instructor: Shelly \nSpots: 19 \nDescription: Intervals\, rolling hills\, sprints\, climbs\, runs\, surges and jumps all to music hand-picked to motivate and inspire! This is a great workout if you want to burn calories and increase endurance
URL:https://www.ashlandy.org/event/power-cycling-4/
LOCATION:Cycling Room
CATEGORIES:Group Ex-Schedule
END:VEVENT
BEGIN:VEVENT
DTSTART;TZID=America/New_York:20240430T051500
DTEND;TZID=America/New_York:20240430T060000
DTSTAMP:20260422T075928
CREATED:20240403T122248Z
LAST-MODIFIED:20240422T065224Z
UID:10000441-1714454100-1714456800@www.ashlandy.org
SUMMARY:Cycling-w/Michelle McDonald
DESCRIPTION:First come. First served.
URL:https://www.ashlandy.org/event/cycling-w-michelle-mcdonald-9/
LOCATION:Cycling Room
CATEGORIES:Group Ex-Schedule
END:VEVENT
BEGIN:VEVENT
DTSTART;TZID=America/New_York:20240429T083000
DTEND;TZID=America/New_York:20240429T090000
DTSTAMP:20260422T075928
CREATED:20240403T122248Z
LAST-MODIFIED:20240422T065219Z
UID:10000438-1714379400-1714381200@www.ashlandy.org
SUMMARY:Cycle Strong
DESCRIPTION:Instructor: Shelly \nSpots: 19 \nDescription: We combine 30 minutes of intensity\, challenge\, strength-building\, and stamina in this class for advanced students. An interval training workout. This class takes you on a great ride and adds strength and endurance moves for the upper and lower body.
URL:https://www.ashlandy.org/event/cycle-strong-17/
LOCATION:Cycling Room
CATEGORIES:Group Ex-Schedule
END:VEVENT
BEGIN:VEVENT
DTSTART;TZID=America/New_York:20240427T083000
DTEND;TZID=America/New_York:20240427T090000
DTSTAMP:20260422T075928
CREATED:20240403T122245Z
LAST-MODIFIED:20240422T065218Z
UID:10000434-1714206600-1714208400@www.ashlandy.org
SUMMARY:Cycle Strong
DESCRIPTION:Instructor: Shelly \nClass Description: High-intensity interval training full-body workout\, with timed intervals with heart-thumping music designed to motivate and move you.
URL:https://www.ashlandy.org/event/cycle-strong-16/
LOCATION:Cycling Room
CATEGORIES:Group Ex-Schedule
END:VEVENT
BEGIN:VEVENT
DTSTART;TZID=America/New_York:20240426T080000
DTEND;TZID=America/New_York:20240426T083000
DTSTAMP:20260422T075928
CREATED:20240403T122243Z
LAST-MODIFIED:20240422T065216Z
UID:10000428-1714118400-1714120200@www.ashlandy.org
SUMMARY:Cycle Strong
DESCRIPTION:Instructor: Jennifer  \nDescription: Cycle Strong is a 60-minute cycling experience brought indoors. Roll over hills\, chase the pack\, spin the flats\, climb mountains and sprint to the finish. You’ll feel the thrill of energetic music and group dynamics as you get all the benefits of authentic interval training.
URL:https://www.ashlandy.org/event/cycle-strong-15/
LOCATION:Cycling Room
CATEGORIES:Group Ex-Schedule
END:VEVENT
BEGIN:VEVENT
DTSTART;TZID=America/New_York:20240425T051500
DTEND;TZID=America/New_York:20240425T060000
DTSTAMP:20260422T075928
CREATED:20240403T122240Z
LAST-MODIFIED:20240422T065215Z
UID:10000422-1714022100-1714024800@www.ashlandy.org
SUMMARY:Cycling-w/Michelle McDonald
DESCRIPTION:First come. First served.
URL:https://www.ashlandy.org/event/cycling-w-michelle-mcdonald-8/
LOCATION:Cycling Room
CATEGORIES:Group Ex-Schedule
END:VEVENT
BEGIN:VEVENT
DTSTART;TZID=America/New_York:20240424T083000
DTEND;TZID=America/New_York:20240424T090000
DTSTAMP:20260422T075928
CREATED:20240403T122239Z
LAST-MODIFIED:20240422T065213Z
UID:10000419-1713947400-1713949200@www.ashlandy.org
SUMMARY:Cycle Strong
DESCRIPTION:Instructor: Shelly \nSpots: 19 \nDescription: Intervals\, rolling hills\, sprints\, climbs\, runs\, surges and jumps all to music hand-picked to motivate and inspire! This is a great workout if you want to burn calories and increase endurance.
URL:https://www.ashlandy.org/event/cycle-strong-14/
LOCATION:Cycling Room
CATEGORIES:Group Ex-Schedule
END:VEVENT
BEGIN:VEVENT
DTSTART;TZID=America/New_York:20240423T183000
DTEND;TZID=America/New_York:20240423T190000
DTSTAMP:20260422T075928
CREATED:20240403T122236Z
LAST-MODIFIED:20240422T065208Z
UID:10000414-1713897000-1713898800@www.ashlandy.org
SUMMARY:Power + Cycle
DESCRIPTION:Instructor: Shelly \nSpots: 19 \nDescription: A 30-minute High-Intensity Interval Training (HIIT) workout\, using an indoor bike to achieve fast results. It’s a short\, intense style of training where the thrill and motivation come from pushing your physical and mental limits. A high-intensity\, low-impact workout\, it’s scientifically proven to return rapid results.
URL:https://www.ashlandy.org/event/power-cycle-3/
LOCATION:Cycling Room
CATEGORIES:Group Ex-Schedule
END:VEVENT
BEGIN:VEVENT
DTSTART;TZID=America/New_York:20240423T083000
DTEND;TZID=America/New_York:20240423T090000
DTSTAMP:20260422T075928
CREATED:20240403T122233Z
LAST-MODIFIED:20240422T065205Z
UID:10000410-1713861000-1713862800@www.ashlandy.org
SUMMARY:Power + Cycling
DESCRIPTION:Instructor: Shelly \nSpots: 19 \nDescription: Intervals\, rolling hills\, sprints\, climbs\, runs\, surges and jumps all to music hand-picked to motivate and inspire! This is a great workout if you want to burn calories and increase endurance
URL:https://www.ashlandy.org/event/power-cycling-3/
LOCATION:Cycling Room
CATEGORIES:Group Ex-Schedule
END:VEVENT
BEGIN:VEVENT
DTSTART;TZID=America/New_York:20240423T051500
DTEND;TZID=America/New_York:20240423T060000
DTSTAMP:20260422T075928
CREATED:20240403T122232Z
LAST-MODIFIED:20240422T065205Z
UID:10000409-1713849300-1713852000@www.ashlandy.org
SUMMARY:Cycling-w/Michelle McDonald
DESCRIPTION:First come. First served.
URL:https://www.ashlandy.org/event/cycling-w-michelle-mcdonald-7/
LOCATION:Cycling Room
CATEGORIES:Group Ex-Schedule
END:VEVENT
BEGIN:VEVENT
DTSTART;TZID=America/New_York:20240422T083000
DTEND;TZID=America/New_York:20240422T090000
DTSTAMP:20260422T075928
CREATED:20240403T122223Z
LAST-MODIFIED:20240422T065200Z
UID:10000402-1713774600-1713776400@www.ashlandy.org
SUMMARY:Cycle Strong
DESCRIPTION:Instructor: Shelly \nSpots: 19 \nDescription: We combine 30 minutes of intensity\, challenge\, strength-building\, and stamina in this class for advanced students. An interval training workout. This class takes you on a great ride and adds strength and endurance moves for the upper and lower body.
URL:https://www.ashlandy.org/event/cycle-strong-13/
LOCATION:Cycling Room
CATEGORIES:Group Ex-Schedule
END:VEVENT
BEGIN:VEVENT
DTSTART;TZID=America/New_York:20240420T083000
DTEND;TZID=America/New_York:20240420T090000
DTSTAMP:20260422T075928
CREATED:20240403T122223Z
LAST-MODIFIED:20240420T065527Z
UID:10000401-1713601800-1713603600@www.ashlandy.org
SUMMARY:Cycle Strong
DESCRIPTION:Instructor: Shelly \nClass Description: High-intensity interval training full-body workout\, with timed intervals with heart-thumping music designed to motivate and move you.
URL:https://www.ashlandy.org/event/cycle-strong-12/
LOCATION:Cycling Room
CATEGORIES:Group Ex-Schedule
END:VEVENT
BEGIN:VEVENT
DTSTART;TZID=America/New_York:20240419T080000
DTEND;TZID=America/New_York:20240419T083000
DTSTAMP:20260422T075928
CREATED:20240403T122220Z
LAST-MODIFIED:20240418T140749Z
UID:10000396-1713513600-1713515400@www.ashlandy.org
SUMMARY:Cycle Strong
DESCRIPTION:Instructor: Jennifer  \nDescription: Cycle Strong is a 60-minute cycling experience brought indoors. Roll over hills\, chase the pack\, spin the flats\, climb mountains and sprint to the finish. You’ll feel the thrill of energetic music and group dynamics as you get all the benefits of authentic interval training.
URL:https://www.ashlandy.org/event/cycle-strong-11/
LOCATION:Cycling Room
CATEGORIES:Group Ex-Schedule
END:VEVENT
BEGIN:VEVENT
DTSTART;TZID=America/New_York:20240418T051500
DTEND;TZID=America/New_York:20240418T060000
DTSTAMP:20260422T075928
CREATED:20240403T122218Z
LAST-MODIFIED:20240417T071601Z
UID:10000389-1713417300-1713420000@www.ashlandy.org
SUMMARY:Cycling-w/Michelle McDonald
DESCRIPTION:First come. First served.
URL:https://www.ashlandy.org/event/cycling-w-michelle-mcdonald-6/
LOCATION:Cycling Room
CATEGORIES:Group Ex-Schedule
END:VEVENT
BEGIN:VEVENT
DTSTART;TZID=America/New_York:20240417T083000
DTEND;TZID=America/New_York:20240417T090000
DTSTAMP:20260422T075928
CREATED:20240403T122217Z
LAST-MODIFIED:20240417T071557Z
UID:10000386-1713342600-1713344400@www.ashlandy.org
SUMMARY:Cycle Strong
DESCRIPTION:Instructor: Shelly \nSpots: 19 \nDescription: Intervals\, rolling hills\, sprints\, climbs\, runs\, surges and jumps all to music hand-picked to motivate and inspire! This is a great workout if you want to burn calories and increase endurance.
URL:https://www.ashlandy.org/event/cycle-strong-10/
LOCATION:Cycling Room
CATEGORIES:Group Ex-Schedule
END:VEVENT
BEGIN:VEVENT
DTSTART;TZID=America/New_York:20240416T183000
DTEND;TZID=America/New_York:20240416T190000
DTSTAMP:20260422T075928
CREATED:20240403T122216Z
LAST-MODIFIED:20240416T065159Z
UID:10000383-1713292200-1713294000@www.ashlandy.org
SUMMARY:Power + Cycle
DESCRIPTION:Instructor: Shelly \nSpots: 19 \nDescription: A 30-minute High-Intensity Interval Training (HIIT) workout\, using an indoor bike to achieve fast results. It’s a short\, intense style of training where the thrill and motivation come from pushing your physical and mental limits. A high-intensity\, low-impact workout\, it’s scientifically proven to return rapid results.
URL:https://www.ashlandy.org/event/power-cycle-2/
LOCATION:Cycling Room
CATEGORIES:Group Ex-Schedule
END:VEVENT
BEGIN:VEVENT
DTSTART;TZID=America/New_York:20240416T083000
DTEND;TZID=America/New_York:20240416T090000
DTSTAMP:20260422T075928
CREATED:20240403T122214Z
LAST-MODIFIED:20240416T065156Z
UID:10000377-1713256200-1713258000@www.ashlandy.org
SUMMARY:Power + Cycling
DESCRIPTION:Instructor: Shelly \nSpots: 19 \nDescription: Intervals\, rolling hills\, sprints\, climbs\, runs\, surges and jumps all to music hand-picked to motivate and inspire! This is a great workout if you want to burn calories and increase endurance
URL:https://www.ashlandy.org/event/power-cycling-2/
LOCATION:Cycling Room
CATEGORIES:Group Ex-Schedule
END:VEVENT
BEGIN:VEVENT
DTSTART;TZID=America/New_York:20240416T051500
DTEND;TZID=America/New_York:20240416T060000
DTSTAMP:20260422T075928
CREATED:20240403T122213Z
LAST-MODIFIED:20240416T065156Z
UID:10000375-1713244500-1713247200@www.ashlandy.org
SUMMARY:Cycling-w/Michelle McDonald
DESCRIPTION:First come. First served.
URL:https://www.ashlandy.org/event/cycling-w-michelle-mcdonald-5/
LOCATION:Cycling Room
CATEGORIES:Group Ex-Schedule
END:VEVENT
BEGIN:VEVENT
DTSTART;TZID=America/New_York:20240415T083000
DTEND;TZID=America/New_York:20240415T090000
DTSTAMP:20260422T075928
CREATED:20240403T122208Z
LAST-MODIFIED:20240414T165637Z
UID:10000370-1713169800-1713171600@www.ashlandy.org
SUMMARY:Cycle Strong
DESCRIPTION:Instructor: Shelly \nSpots: 19 \nDescription: We combine 30 minutes of intensity\, challenge\, strength-building\, and stamina in this class for advanced students. An interval training workout. This class takes you on a great ride and adds strength and endurance moves for the upper and lower body.
URL:https://www.ashlandy.org/event/cycle-strong-9/
LOCATION:Cycling Room
CATEGORIES:Group Ex-Schedule
END:VEVENT
BEGIN:VEVENT
DTSTART;TZID=America/New_York:20240413T083000
DTEND;TZID=America/New_York:20240413T090000
DTSTAMP:20260422T075928
CREATED:20240403T122206Z
LAST-MODIFIED:20240412T155550Z
UID:10000368-1712997000-1712998800@www.ashlandy.org
SUMMARY:Cycle Strong
DESCRIPTION:Instructor: Shelly \nClass Description: High-intensity interval training full-body workout\, with timed intervals with heart-thumping music designed to motivate and move you.
URL:https://www.ashlandy.org/event/cycle-strong-8/
LOCATION:Cycling Room
CATEGORIES:Group Ex-Schedule
END:VEVENT
BEGIN:VEVENT
DTSTART;TZID=America/New_York:20240412T080000
DTEND;TZID=America/New_York:20240412T083000
DTSTAMP:20260422T075928
CREATED:20240403T122158Z
LAST-MODIFIED:20240412T065516Z
UID:10000363-1712908800-1712910600@www.ashlandy.org
SUMMARY:Cycle Strong
DESCRIPTION:Instructor: Jennifer  \nDescription: Cycle Strong is a 60-minute cycling experience brought indoors. Roll over hills\, chase the pack\, spin the flats\, climb mountains and sprint to the finish. You’ll feel the thrill of energetic music and group dynamics as you get all the benefits of authentic interval training.
URL:https://www.ashlandy.org/event/cycle-strong-7/
LOCATION:Cycling Room
CATEGORIES:Group Ex-Schedule
END:VEVENT
BEGIN:VEVENT
DTSTART;TZID=America/New_York:20240411T051500
DTEND;TZID=America/New_York:20240411T060000
DTSTAMP:20260422T075928
CREATED:20240403T122154Z
LAST-MODIFIED:20240411T030202Z
UID:10000356-1712812500-1712815200@www.ashlandy.org
SUMMARY:Cycling-w/Michelle McDonald
DESCRIPTION:First come. First served.
URL:https://www.ashlandy.org/event/cycling-w-michelle-mcdonald-4/
LOCATION:Cycling Room
CATEGORIES:Group Ex-Schedule
END:VEVENT
BEGIN:VEVENT
DTSTART;TZID=America/New_York:20240410T083000
DTEND;TZID=America/New_York:20240410T090000
DTSTAMP:20260422T075928
CREATED:20240403T122152Z
LAST-MODIFIED:20240409T172741Z
UID:10000352-1712737800-1712739600@www.ashlandy.org
SUMMARY:Cycle Strong
DESCRIPTION:Instructor: Shelly \nSpots: 19 \nDescription: Intervals\, rolling hills\, sprints\, climbs\, runs\, surges and jumps all to music hand-picked to motivate and inspire! This is a great workout if you want to burn calories and increase endurance.
URL:https://www.ashlandy.org/event/cycle-strong-6/
LOCATION:Cycling Room
CATEGORIES:Group Ex-Schedule
END:VEVENT
BEGIN:VEVENT
DTSTART;TZID=America/New_York:20240409T183000
DTEND;TZID=America/New_York:20240409T190000
DTSTAMP:20260422T075928
CREATED:20240403T122151Z
LAST-MODIFIED:20240409T172740Z
UID:10000348-1712687400-1712689200@www.ashlandy.org
SUMMARY:Power + Cycle
DESCRIPTION:Instructor: Shelly \nSpots: 19 \nDescription: A 30-minute High-Intensity Interval Training (HIIT) workout\, using an indoor bike to achieve fast results. It’s a short\, intense style of training where the thrill and motivation come from pushing your physical and mental limits. A high-intensity\, low-impact workout\, it’s scientifically proven to return rapid results.
URL:https://www.ashlandy.org/event/power-cycle/
LOCATION:Cycling Room
CATEGORIES:Group Ex-Schedule
END:VEVENT
BEGIN:VEVENT
DTSTART;TZID=America/New_York:20240409T083000
DTEND;TZID=America/New_York:20240409T090000
DTSTAMP:20260422T075928
CREATED:20240403T122151Z
LAST-MODIFIED:20240408T070949Z
UID:10000346-1712651400-1712653200@www.ashlandy.org
SUMMARY:Power + Cycling
DESCRIPTION:Instructor: Shelly \nSpots: 19 \nDescription: Intervals\, rolling hills\, sprints\, climbs\, runs\, surges and jumps all to music hand-picked to motivate and inspire! This is a great workout if you want to burn calories and increase endurance
URL:https://www.ashlandy.org/event/power-cycling/
LOCATION:Cycling Room
CATEGORIES:Group Ex-Schedule
END:VEVENT
BEGIN:VEVENT
DTSTART;TZID=America/New_York:20240409T051500
DTEND;TZID=America/New_York:20240409T060000
DTSTAMP:20260422T075928
CREATED:20240403T122149Z
LAST-MODIFIED:20240408T070949Z
UID:10000342-1712639700-1712642400@www.ashlandy.org
SUMMARY:Cycling-w/Michelle McDonald
DESCRIPTION:First come. First served.
URL:https://www.ashlandy.org/event/cycling-w-michelle-mcdonald-3/
LOCATION:Cycling Room
CATEGORIES:Group Ex-Schedule
END:VEVENT
BEGIN:VEVENT
DTSTART;TZID=America/New_York:20240408T083000
DTEND;TZID=America/New_York:20240408T090000
DTSTAMP:20260422T075928
CREATED:20240403T122148Z
LAST-MODIFIED:20240408T070945Z
UID:10000337-1712565000-1712566800@www.ashlandy.org
SUMMARY:Cycle Strong
DESCRIPTION:Instructor: Shelly \nSpots: 19 \nDescription: We combine 30 minutes of intensity\, challenge\, strength-building\, and stamina in this class for advanced students. An interval training workout. This class takes you on a great ride and adds strength and endurance moves for the upper and lower body.
URL:https://www.ashlandy.org/event/cycle-strong-5/
LOCATION:Cycling Room
CATEGORIES:Group Ex-Schedule
END:VEVENT
BEGIN:VEVENT
DTSTART;TZID=America/New_York:20240406T083000
DTEND;TZID=America/New_York:20240406T090000
DTSTAMP:20260422T075928
CREATED:20240403T122147Z
LAST-MODIFIED:20240406T065420Z
UID:10000334-1712392200-1712394000@www.ashlandy.org
SUMMARY:Cycle Strong
DESCRIPTION:Instructor: Shelly \nClass Description: High-intensity interval training full-body workout\, with timed intervals with heart-thumping music designed to motivate and move you.
URL:https://www.ashlandy.org/event/cycle-strong-4/
LOCATION:Cycling Room
CATEGORIES:Group Ex-Schedule
END:VEVENT
END:VCALENDAR