BEGIN:VCALENDAR
VERSION:2.0
PRODID:-//YMCA of Ashland, Ohio - ECPv6.5.0//NONSGML v1.0//EN
CALSCALE:GREGORIAN
METHOD:PUBLISH
X-ORIGINAL-URL:https://www.ashlandy.org
X-WR-CALDESC:Events for YMCA of Ashland, Ohio
REFRESH-INTERVAL;VALUE=DURATION:PT1H
X-Robots-Tag:noindex
X-PUBLISHED-TTL:PT1H
BEGIN:VTIMEZONE
TZID:America/New_York
BEGIN:DAYLIGHT
TZOFFSETFROM:-0500
TZOFFSETTO:-0400
TZNAME:EDT
DTSTART:20240310T070000
END:DAYLIGHT
BEGIN:STANDARD
TZOFFSETFROM:-0400
TZOFFSETTO:-0500
TZNAME:EST
DTSTART:20241103T060000
END:STANDARD
END:VTIMEZONE
BEGIN:VEVENT
DTSTART;TZID=America/New_York:20240827T060000
DTEND;TZID=America/New_York:20240827T110000
DTSTAMP:20260419T222621
CREATED:20240403T172721Z
LAST-MODIFIED:20240827T130938Z
UID:10000620-1724738400-1724756400@www.ashlandy.org
SUMMARY:Pickle Ball
DESCRIPTION:
URL:https://www.ashlandy.org/event/pickle-ball-108/
LOCATION:Gymnasium- 1 court
CATEGORIES:Gymnasium
END:VEVENT
BEGIN:VEVENT
DTSTART;TZID=America/New_York:20240826T060000
DTEND;TZID=America/New_York:20240826T110000
DTSTAMP:20260419T222621
CREATED:20240402T153914Z
LAST-MODIFIED:20240826T123935Z
UID:10000306-1724652000-1724670000@www.ashlandy.org
SUMMARY:Pickle Ball
DESCRIPTION:
URL:https://www.ashlandy.org/event/pickle-ball-107/
LOCATION:Gymnasium- 1 court
CATEGORIES:Gymnasium
END:VEVENT
BEGIN:VEVENT
DTSTART;TZID=America/New_York:20240823T060000
DTEND;TZID=America/New_York:20240823T110000
DTSTAMP:20260419T222621
CREATED:20240331T065720Z
LAST-MODIFIED:20240823T110937Z
UID:10000303-1724392800-1724410800@www.ashlandy.org
SUMMARY:Pickle Ball
DESCRIPTION:
URL:https://www.ashlandy.org/event/pickle-ball-106/
LOCATION:Gymnasium- 1 court
CATEGORIES:Gymnasium
END:VEVENT
BEGIN:VEVENT
DTSTART;TZID=America/New_York:20240822T130000
DTEND;TZID=America/New_York:20240822T150000
DTSTAMP:20260419T222621
CREATED:20240331T065719Z
LAST-MODIFIED:20240822T103936Z
UID:10000301-1724331600-1724338800@www.ashlandy.org
SUMMARY:Pickleball
DESCRIPTION:
URL:https://www.ashlandy.org/event/pickleball-42/
LOCATION:Gymnasium- 1 court
CATEGORIES:Gymnasium
END:VEVENT
BEGIN:VEVENT
DTSTART;TZID=America/New_York:20240822T060000
DTEND;TZID=America/New_York:20240822T110000
DTSTAMP:20260419T222621
CREATED:20240329T144332Z
LAST-MODIFIED:20240822T103935Z
UID:10000300-1724306400-1724324400@www.ashlandy.org
SUMMARY:Pickle Ball
DESCRIPTION:
URL:https://www.ashlandy.org/event/pickle-ball-105/
LOCATION:Gymnasium- 1 court
CATEGORIES:Gymnasium
END:VEVENT
BEGIN:VEVENT
DTSTART;TZID=America/New_York:20240821T060000
DTEND;TZID=America/New_York:20240821T110000
DTSTAMP:20260419T222621
CREATED:20240329T144328Z
LAST-MODIFIED:20240821T100935Z
UID:10000297-1724220000-1724238000@www.ashlandy.org
SUMMARY:Pickle Ball
DESCRIPTION:
URL:https://www.ashlandy.org/event/pickle-ball-104/
LOCATION:Gymnasium- 1 court
CATEGORIES:Gymnasium
END:VEVENT
BEGIN:VEVENT
DTSTART;TZID=America/New_York:20240820T130000
DTEND;TZID=America/New_York:20240820T150000
DTSTAMP:20260419T222621
CREATED:20240329T144326Z
LAST-MODIFIED:20240820T093936Z
UID:10000295-1724158800-1724166000@www.ashlandy.org
SUMMARY:Pickleball
DESCRIPTION:
URL:https://www.ashlandy.org/event/pickleball-41/
LOCATION:Gymnasium- 1 court
CATEGORIES:Gymnasium
END:VEVENT
BEGIN:VEVENT
DTSTART;TZID=America/New_York:20240820T060000
DTEND;TZID=America/New_York:20240820T110000
DTSTAMP:20260419T222621
CREATED:20240329T144311Z
LAST-MODIFIED:20240820T093936Z
UID:10000293-1724133600-1724151600@www.ashlandy.org
SUMMARY:Pickle Ball
DESCRIPTION:
URL:https://www.ashlandy.org/event/pickle-ball-103/
LOCATION:Gymnasium- 1 court
CATEGORIES:Gymnasium
END:VEVENT
BEGIN:VEVENT
DTSTART;TZID=America/New_York:20240819T060000
DTEND;TZID=America/New_York:20240819T110000
DTSTAMP:20260419T222621
CREATED:20240329T144308Z
LAST-MODIFIED:20240819T090940Z
UID:10000291-1724047200-1724065200@www.ashlandy.org
SUMMARY:Pickle Ball
DESCRIPTION:
URL:https://www.ashlandy.org/event/pickle-ball-102/
LOCATION:Gymnasium- 1 court
CATEGORIES:Gymnasium
END:VEVENT
BEGIN:VEVENT
DTSTART;TZID=America/New_York:20240816T060000
DTEND;TZID=America/New_York:20240816T110000
DTSTAMP:20260419T222621
CREATED:20240329T144307Z
LAST-MODIFIED:20240815T230937Z
UID:10000290-1723788000-1723806000@www.ashlandy.org
SUMMARY:Pickle Ball
DESCRIPTION:
URL:https://www.ashlandy.org/event/pickle-ball-101/
LOCATION:Gymnasium- 1 court
CATEGORIES:Gymnasium
END:VEVENT
BEGIN:VEVENT
DTSTART;TZID=America/New_York:20240815T130000
DTEND;TZID=America/New_York:20240815T150000
DTSTAMP:20260419T222621
CREATED:20240329T144303Z
LAST-MODIFIED:20240814T223954Z
UID:10000287-1723726800-1723734000@www.ashlandy.org
SUMMARY:Pickleball
DESCRIPTION:
URL:https://www.ashlandy.org/event/pickleball-40/
LOCATION:Gymnasium- 1 court
CATEGORIES:Gymnasium
END:VEVENT
BEGIN:VEVENT
DTSTART;TZID=America/New_York:20240815T060000
DTEND;TZID=America/New_York:20240815T110000
DTSTAMP:20260419T222621
CREATED:20240329T144300Z
LAST-MODIFIED:20240814T223954Z
UID:10000285-1723701600-1723719600@www.ashlandy.org
SUMMARY:Pickle Ball
DESCRIPTION:
URL:https://www.ashlandy.org/event/pickle-ball-100/
LOCATION:Gymnasium- 1 court
CATEGORIES:Gymnasium
END:VEVENT
BEGIN:VEVENT
DTSTART;TZID=America/New_York:20240814T060000
DTEND;TZID=America/New_York:20240814T110000
DTSTAMP:20260419T222621
CREATED:20240329T144257Z
LAST-MODIFIED:20240813T220938Z
UID:10000283-1723615200-1723633200@www.ashlandy.org
SUMMARY:Pickle Ball
DESCRIPTION:
URL:https://www.ashlandy.org/event/pickle-ball-99/
LOCATION:Gymnasium- 1 court
CATEGORIES:Gymnasium
END:VEVENT
BEGIN:VEVENT
DTSTART;TZID=America/New_York:20240813T130000
DTEND;TZID=America/New_York:20240813T150000
DTSTAMP:20260419T222621
CREATED:20240329T144256Z
LAST-MODIFIED:20240812T213950Z
UID:10000281-1723554000-1723561200@www.ashlandy.org
SUMMARY:Pickleball
DESCRIPTION:
URL:https://www.ashlandy.org/event/pickleball-39/
LOCATION:Gymnasium- 1 court
CATEGORIES:Gymnasium
END:VEVENT
BEGIN:VEVENT
DTSTART;TZID=America/New_York:20240813T060000
DTEND;TZID=America/New_York:20240813T110000
DTSTAMP:20260419T222621
CREATED:20240329T144256Z
LAST-MODIFIED:20240812T213949Z
UID:10000280-1723528800-1723546800@www.ashlandy.org
SUMMARY:Pickle Ball
DESCRIPTION:
URL:https://www.ashlandy.org/event/pickle-ball-98/
LOCATION:Gymnasium- 1 court
CATEGORIES:Gymnasium
END:VEVENT
BEGIN:VEVENT
DTSTART;TZID=America/New_York:20240812T060000
DTEND;TZID=America/New_York:20240812T110000
DTSTAMP:20260419T222621
CREATED:20240329T144255Z
LAST-MODIFIED:20240811T210940Z
UID:10000278-1723442400-1723460400@www.ashlandy.org
SUMMARY:Pickle Ball
DESCRIPTION:
URL:https://www.ashlandy.org/event/pickle-ball-97/
LOCATION:Gymnasium- 1 court
CATEGORIES:Gymnasium
END:VEVENT
BEGIN:VEVENT
DTSTART;TZID=America/New_York:20240809T060000
DTEND;TZID=America/New_York:20240809T110000
DTSTAMP:20260419T222621
CREATED:20240329T144253Z
LAST-MODIFIED:20240808T193945Z
UID:10000275-1723183200-1723201200@www.ashlandy.org
SUMMARY:Pickle Ball
DESCRIPTION:
URL:https://www.ashlandy.org/event/pickle-ball-96/
LOCATION:Gymnasium- 1 court
CATEGORIES:Gymnasium
END:VEVENT
BEGIN:VEVENT
DTSTART;TZID=America/New_York:20240808T130000
DTEND;TZID=America/New_York:20240808T150000
DTSTAMP:20260419T222621
CREATED:20240329T144252Z
LAST-MODIFIED:20240807T190941Z
UID:10000273-1723122000-1723129200@www.ashlandy.org
SUMMARY:Pickleball
DESCRIPTION:
URL:https://www.ashlandy.org/event/pickleball-38/
LOCATION:Gymnasium- 1 court
CATEGORIES:Gymnasium
END:VEVENT
BEGIN:VEVENT
DTSTART;TZID=America/New_York:20240808T060000
DTEND;TZID=America/New_York:20240808T110000
DTSTAMP:20260419T222621
CREATED:20240329T144248Z
LAST-MODIFIED:20240807T190940Z
UID:10000271-1723096800-1723114800@www.ashlandy.org
SUMMARY:Pickle Ball
DESCRIPTION:
URL:https://www.ashlandy.org/event/pickle-ball-95/
LOCATION:Gymnasium- 1 court
CATEGORIES:Gymnasium
END:VEVENT
BEGIN:VEVENT
DTSTART;TZID=America/New_York:20240807T060000
DTEND;TZID=America/New_York:20240807T110000
DTSTAMP:20260419T222621
CREATED:20240329T144247Z
LAST-MODIFIED:20240806T183926Z
UID:10000268-1723010400-1723028400@www.ashlandy.org
SUMMARY:Pickle Ball
DESCRIPTION:
URL:https://www.ashlandy.org/event/pickle-ball-94/
LOCATION:Gymnasium- 1 court
CATEGORIES:Gymnasium
END:VEVENT
BEGIN:VEVENT
DTSTART;TZID=America/New_York:20240806T130000
DTEND;TZID=America/New_York:20240806T150000
DTSTAMP:20260419T222621
CREATED:20240329T144247Z
LAST-MODIFIED:20240806T183926Z
UID:10000267-1722949200-1722956400@www.ashlandy.org
SUMMARY:Pickleball
DESCRIPTION:
URL:https://www.ashlandy.org/event/pickleball-37/
LOCATION:Gymnasium- 1 court
CATEGORIES:Gymnasium
END:VEVENT
BEGIN:VEVENT
DTSTART;TZID=America/New_York:20240806T060000
DTEND;TZID=America/New_York:20240806T110000
DTSTAMP:20260419T222621
CREATED:20240329T144246Z
LAST-MODIFIED:20240805T180938Z
UID:10000266-1722924000-1722942000@www.ashlandy.org
SUMMARY:Pickle Ball
DESCRIPTION:
URL:https://www.ashlandy.org/event/pickle-ball-93/
LOCATION:Gymnasium- 1 court
CATEGORIES:Gymnasium
END:VEVENT
BEGIN:VEVENT
DTSTART;TZID=America/New_York:20240805T060000
DTEND;TZID=America/New_York:20240805T110000
DTSTAMP:20260419T222621
CREATED:20240329T144245Z
LAST-MODIFIED:20240804T173938Z
UID:10000263-1722837600-1722855600@www.ashlandy.org
SUMMARY:Pickle Ball
DESCRIPTION:
URL:https://www.ashlandy.org/event/pickle-ball-92/
LOCATION:Gymnasium- 1 court
CATEGORIES:Gymnasium
END:VEVENT
BEGIN:VEVENT
DTSTART;TZID=America/New_York:20240802T060000
DTEND;TZID=America/New_York:20240802T110000
DTSTAMP:20260419T222621
CREATED:20240329T144245Z
LAST-MODIFIED:20240801T160939Z
UID:10000261-1722578400-1722596400@www.ashlandy.org
SUMMARY:Pickle Ball
DESCRIPTION:
URL:https://www.ashlandy.org/event/pickle-ball-91/
LOCATION:Gymnasium- 1 court
CATEGORIES:Gymnasium
END:VEVENT
BEGIN:VEVENT
DTSTART;TZID=America/New_York:20240801T130000
DTEND;TZID=America/New_York:20240801T150000
DTSTAMP:20260419T222621
CREATED:20240329T144244Z
LAST-MODIFIED:20240801T160936Z
UID:10000259-1722517200-1722524400@www.ashlandy.org
SUMMARY:Pickleball
DESCRIPTION:
URL:https://www.ashlandy.org/event/pickleball-36/
LOCATION:Gymnasium- 1 court
CATEGORIES:Gymnasium
END:VEVENT
BEGIN:VEVENT
DTSTART;TZID=America/New_York:20240801T060000
DTEND;TZID=America/New_York:20240801T110000
DTSTAMP:20260419T222621
CREATED:20240329T144243Z
LAST-MODIFIED:20240731T153937Z
UID:10000257-1722492000-1722510000@www.ashlandy.org
SUMMARY:Pickle Ball
DESCRIPTION:
URL:https://www.ashlandy.org/event/pickle-ball-90/
LOCATION:Gymnasium- 1 court
CATEGORIES:Gymnasium
END:VEVENT
BEGIN:VEVENT
DTSTART;TZID=America/New_York:20240731T060000
DTEND;TZID=America/New_York:20240731T110000
DTSTAMP:20260419T222621
CREATED:20240329T144243Z
LAST-MODIFIED:20240730T150938Z
UID:10000255-1722405600-1722423600@www.ashlandy.org
SUMMARY:Pickle Ball
DESCRIPTION:
URL:https://www.ashlandy.org/event/pickle-ball-89/
LOCATION:Gymnasium- 1 court
CATEGORIES:Gymnasium
END:VEVENT
BEGIN:VEVENT
DTSTART;TZID=America/New_York:20240730T130000
DTEND;TZID=America/New_York:20240730T150000
DTSTAMP:20260419T222621
CREATED:20240329T144242Z
LAST-MODIFIED:20240730T150936Z
UID:10000253-1722344400-1722351600@www.ashlandy.org
SUMMARY:Pickleball
DESCRIPTION:
URL:https://www.ashlandy.org/event/pickleball-35/
LOCATION:Gymnasium- 1 court
CATEGORIES:Gymnasium
END:VEVENT
BEGIN:VEVENT
DTSTART;TZID=America/New_York:20240730T060000
DTEND;TZID=America/New_York:20240730T110000
DTSTAMP:20260419T222621
CREATED:20240329T144242Z
LAST-MODIFIED:20240729T143912Z
UID:10000252-1722319200-1722337200@www.ashlandy.org
SUMMARY:Pickle Ball
DESCRIPTION:
URL:https://www.ashlandy.org/event/pickle-ball-88/
LOCATION:Gymnasium- 1 court
CATEGORIES:Gymnasium
END:VEVENT
BEGIN:VEVENT
DTSTART;TZID=America/New_York:20240729T060000
DTEND;TZID=America/New_York:20240729T110000
DTSTAMP:20260419T222621
CREATED:20240329T144241Z
LAST-MODIFIED:20240729T143911Z
UID:10000250-1722232800-1722250800@www.ashlandy.org
SUMMARY:Pickle Ball
DESCRIPTION:
URL:https://www.ashlandy.org/event/pickle-ball-87/
LOCATION:Gymnasium- 1 court
CATEGORIES:Gymnasium
END:VEVENT
END:VCALENDAR