BEGIN:VCALENDAR
VERSION:2.0
PRODID:-//YMCA of Ashland, Ohio - ECPv6.5.0//NONSGML v1.0//EN
CALSCALE:GREGORIAN
METHOD:PUBLISH
X-WR-CALNAME:YMCA of Ashland, Ohio
X-ORIGINAL-URL:https://www.ashlandy.org
X-WR-CALDESC:Events for YMCA of Ashland, Ohio
REFRESH-INTERVAL;VALUE=DURATION:PT1H
X-Robots-Tag:noindex
X-PUBLISHED-TTL:PT1H
BEGIN:VTIMEZONE
TZID:America/New_York
BEGIN:DAYLIGHT
TZOFFSETFROM:-0500
TZOFFSETTO:-0400
TZNAME:EDT
DTSTART:20240310T070000
END:DAYLIGHT
BEGIN:STANDARD
TZOFFSETFROM:-0400
TZOFFSETTO:-0500
TZNAME:EST
DTSTART:20241103T060000
END:STANDARD
END:VTIMEZONE
BEGIN:VEVENT
DTSTART;TZID=America/New_York:20240801T130000
DTEND;TZID=America/New_York:20240801T150000
DTSTAMP:20260420T011809
CREATED:20240329T144244Z
LAST-MODIFIED:20240801T160936Z
UID:10000259-1722517200-1722524400@www.ashlandy.org
SUMMARY:Pickleball
DESCRIPTION:
URL:https://www.ashlandy.org/event/pickleball-36/
LOCATION:Gymnasium- 1 court
CATEGORIES:Gymnasium
END:VEVENT
BEGIN:VEVENT
DTSTART;TZID=America/New_York:20240801T060000
DTEND;TZID=America/New_York:20240801T110000
DTSTAMP:20260420T011809
CREATED:20240329T144243Z
LAST-MODIFIED:20240731T153937Z
UID:10000257-1722492000-1722510000@www.ashlandy.org
SUMMARY:Pickle Ball
DESCRIPTION:
URL:https://www.ashlandy.org/event/pickle-ball-90/
LOCATION:Gymnasium- 1 court
CATEGORIES:Gymnasium
END:VEVENT
BEGIN:VEVENT
DTSTART;TZID=America/New_York:20240731T060000
DTEND;TZID=America/New_York:20240731T110000
DTSTAMP:20260420T011809
CREATED:20240329T144243Z
LAST-MODIFIED:20240730T150938Z
UID:10000255-1722405600-1722423600@www.ashlandy.org
SUMMARY:Pickle Ball
DESCRIPTION:
URL:https://www.ashlandy.org/event/pickle-ball-89/
LOCATION:Gymnasium- 1 court
CATEGORIES:Gymnasium
END:VEVENT
BEGIN:VEVENT
DTSTART;TZID=America/New_York:20240730T130000
DTEND;TZID=America/New_York:20240730T150000
DTSTAMP:20260420T011809
CREATED:20240329T144242Z
LAST-MODIFIED:20240730T150936Z
UID:10000253-1722344400-1722351600@www.ashlandy.org
SUMMARY:Pickleball
DESCRIPTION:
URL:https://www.ashlandy.org/event/pickleball-35/
LOCATION:Gymnasium- 1 court
CATEGORIES:Gymnasium
END:VEVENT
BEGIN:VEVENT
DTSTART;TZID=America/New_York:20240730T060000
DTEND;TZID=America/New_York:20240730T110000
DTSTAMP:20260420T011809
CREATED:20240329T144242Z
LAST-MODIFIED:20240729T143912Z
UID:10000252-1722319200-1722337200@www.ashlandy.org
SUMMARY:Pickle Ball
DESCRIPTION:
URL:https://www.ashlandy.org/event/pickle-ball-88/
LOCATION:Gymnasium- 1 court
CATEGORIES:Gymnasium
END:VEVENT
BEGIN:VEVENT
DTSTART;TZID=America/New_York:20240729T060000
DTEND;TZID=America/New_York:20240729T110000
DTSTAMP:20260420T011809
CREATED:20240329T144241Z
LAST-MODIFIED:20240729T143911Z
UID:10000250-1722232800-1722250800@www.ashlandy.org
SUMMARY:Pickle Ball
DESCRIPTION:
URL:https://www.ashlandy.org/event/pickle-ball-87/
LOCATION:Gymnasium- 1 court
CATEGORIES:Gymnasium
END:VEVENT
BEGIN:VEVENT
DTSTART;TZID=America/New_York:20240726T060000
DTEND;TZID=America/New_York:20240726T110000
DTSTAMP:20260420T011809
CREATED:20240329T144240Z
LAST-MODIFIED:20240726T130938Z
UID:10000248-1721973600-1721991600@www.ashlandy.org
SUMMARY:Pickle Ball
DESCRIPTION:
URL:https://www.ashlandy.org/event/pickle-ball-86/
LOCATION:Gymnasium- 1 court
CATEGORIES:Gymnasium
END:VEVENT
BEGIN:VEVENT
DTSTART;TZID=America/New_York:20240725T130000
DTEND;TZID=America/New_York:20240725T150000
DTSTAMP:20260420T011809
CREATED:20240329T144238Z
LAST-MODIFIED:20240725T123941Z
UID:10000245-1721912400-1721919600@www.ashlandy.org
SUMMARY:Pickleball
DESCRIPTION:
URL:https://www.ashlandy.org/event/pickleball-34/
LOCATION:Gymnasium- 1 court
CATEGORIES:Gymnasium
END:VEVENT
BEGIN:VEVENT
DTSTART;TZID=America/New_York:20240725T060000
DTEND;TZID=America/New_York:20240725T110000
DTSTAMP:20260420T011809
CREATED:20240329T144237Z
LAST-MODIFIED:20240725T123940Z
UID:10000243-1721887200-1721905200@www.ashlandy.org
SUMMARY:Pickle Ball
DESCRIPTION:
URL:https://www.ashlandy.org/event/pickle-ball-85/
LOCATION:Gymnasium- 1 court
CATEGORIES:Gymnasium
END:VEVENT
BEGIN:VEVENT
DTSTART;TZID=America/New_York:20240724T060000
DTEND;TZID=America/New_York:20240724T110000
DTSTAMP:20260420T011809
CREATED:20240329T144236Z
LAST-MODIFIED:20240724T120936Z
UID:10000241-1721800800-1721818800@www.ashlandy.org
SUMMARY:Pickle Ball
DESCRIPTION:
URL:https://www.ashlandy.org/event/pickle-ball-84/
LOCATION:Gymnasium- 1 court
CATEGORIES:Gymnasium
END:VEVENT
BEGIN:VEVENT
DTSTART;TZID=America/New_York:20240723T130000
DTEND;TZID=America/New_York:20240723T150000
DTSTAMP:20260420T011809
CREATED:20240329T144235Z
LAST-MODIFIED:20240723T113936Z
UID:10000239-1721739600-1721746800@www.ashlandy.org
SUMMARY:Pickleball
DESCRIPTION:
URL:https://www.ashlandy.org/event/pickleball-33/
LOCATION:Gymnasium- 1 court
CATEGORIES:Gymnasium
END:VEVENT
BEGIN:VEVENT
DTSTART;TZID=America/New_York:20240723T060000
DTEND;TZID=America/New_York:20240723T110000
DTSTAMP:20260420T011809
CREATED:20240329T144234Z
LAST-MODIFIED:20240723T113936Z
UID:10000237-1721714400-1721732400@www.ashlandy.org
SUMMARY:Pickle Ball
DESCRIPTION:
URL:https://www.ashlandy.org/event/pickle-ball-83/
LOCATION:Gymnasium- 1 court
CATEGORIES:Gymnasium
END:VEVENT
BEGIN:VEVENT
DTSTART;TZID=America/New_York:20240722T060000
DTEND;TZID=America/New_York:20240722T110000
DTSTAMP:20260420T011809
CREATED:20240329T144234Z
LAST-MODIFIED:20240722T110938Z
UID:10000236-1721628000-1721646000@www.ashlandy.org
SUMMARY:Pickle Ball
DESCRIPTION:
URL:https://www.ashlandy.org/event/pickle-ball-82/
LOCATION:Gymnasium- 1 court
CATEGORIES:Gymnasium
END:VEVENT
BEGIN:VEVENT
DTSTART;TZID=America/New_York:20240719T060000
DTEND;TZID=America/New_York:20240719T110000
DTSTAMP:20260420T011809
CREATED:20240329T144233Z
LAST-MODIFIED:20240719T093932Z
UID:10000234-1721368800-1721386800@www.ashlandy.org
SUMMARY:Pickle Ball
DESCRIPTION:
URL:https://www.ashlandy.org/event/pickle-ball-81/
LOCATION:Gymnasium- 1 court
CATEGORIES:Gymnasium
END:VEVENT
BEGIN:VEVENT
DTSTART;TZID=America/New_York:20240718T130000
DTEND;TZID=America/New_York:20240718T150000
DTSTAMP:20260420T011809
CREATED:20240329T144232Z
LAST-MODIFIED:20240718T090936Z
UID:10000231-1721307600-1721314800@www.ashlandy.org
SUMMARY:Pickleball
DESCRIPTION:
URL:https://www.ashlandy.org/event/pickleball-32/
LOCATION:Gymnasium- 1 court
CATEGORIES:Gymnasium
END:VEVENT
BEGIN:VEVENT
DTSTART;TZID=America/New_York:20240718T060000
DTEND;TZID=America/New_York:20240718T110000
DTSTAMP:20260420T011809
CREATED:20240329T144231Z
LAST-MODIFIED:20240718T090935Z
UID:10000230-1721282400-1721300400@www.ashlandy.org
SUMMARY:Pickle Ball
DESCRIPTION:
URL:https://www.ashlandy.org/event/pickle-ball-80/
LOCATION:Gymnasium- 1 court
CATEGORIES:Gymnasium
END:VEVENT
BEGIN:VEVENT
DTSTART;TZID=America/New_York:20240717T060000
DTEND;TZID=America/New_York:20240717T110000
DTSTAMP:20260420T011809
CREATED:20240329T144228Z
LAST-MODIFIED:20240717T083936Z
UID:10000226-1721196000-1721214000@www.ashlandy.org
SUMMARY:Pickle Ball
DESCRIPTION:
URL:https://www.ashlandy.org/event/pickle-ball-79/
LOCATION:Gymnasium- 1 court
CATEGORIES:Gymnasium
END:VEVENT
BEGIN:VEVENT
DTSTART;TZID=America/New_York:20240716T130000
DTEND;TZID=America/New_York:20240716T150000
DTSTAMP:20260420T011809
CREATED:20240329T144227Z
LAST-MODIFIED:20240715T233936Z
UID:10000225-1721134800-1721142000@www.ashlandy.org
SUMMARY:Pickleball
DESCRIPTION:
URL:https://www.ashlandy.org/event/pickleball-31/
LOCATION:Gymnasium- 1 court
CATEGORIES:Gymnasium
END:VEVENT
BEGIN:VEVENT
DTSTART;TZID=America/New_York:20240716T060000
DTEND;TZID=America/New_York:20240716T110000
DTSTAMP:20260420T011809
CREATED:20240329T144227Z
LAST-MODIFIED:20240715T233935Z
UID:10000224-1721109600-1721127600@www.ashlandy.org
SUMMARY:Pickle Ball
DESCRIPTION:
URL:https://www.ashlandy.org/event/pickle-ball-78/
LOCATION:Gymnasium- 1 court
CATEGORIES:Gymnasium
END:VEVENT
BEGIN:VEVENT
DTSTART;TZID=America/New_York:20240715T060000
DTEND;TZID=America/New_York:20240715T110000
DTSTAMP:20260420T011809
CREATED:20240329T144226Z
LAST-MODIFIED:20240714T230938Z
UID:10000222-1721023200-1721041200@www.ashlandy.org
SUMMARY:Pickle Ball
DESCRIPTION:
URL:https://www.ashlandy.org/event/pickle-ball-77/
LOCATION:Gymnasium- 1 court
CATEGORIES:Gymnasium
END:VEVENT
BEGIN:VEVENT
DTSTART;TZID=America/New_York:20240712T060000
DTEND;TZID=America/New_York:20240712T110000
DTSTAMP:20260420T011809
CREATED:20240329T144224Z
LAST-MODIFIED:20240711T213937Z
UID:10000220-1720764000-1720782000@www.ashlandy.org
SUMMARY:Pickle Ball
DESCRIPTION:
URL:https://www.ashlandy.org/event/pickle-ball-76/
LOCATION:Gymnasium- 1 court
CATEGORIES:Gymnasium
END:VEVENT
BEGIN:VEVENT
DTSTART;TZID=America/New_York:20240711T130000
DTEND;TZID=America/New_York:20240711T150000
DTSTAMP:20260420T011809
CREATED:20240329T144223Z
LAST-MODIFIED:20240710T210939Z
UID:10000217-1720702800-1720710000@www.ashlandy.org
SUMMARY:Pickleball
DESCRIPTION:
URL:https://www.ashlandy.org/event/pickleball-30/
LOCATION:Gymnasium- 1 court
CATEGORIES:Gymnasium
END:VEVENT
BEGIN:VEVENT
DTSTART;TZID=America/New_York:20240711T060000
DTEND;TZID=America/New_York:20240711T110000
DTSTAMP:20260420T011809
CREATED:20240329T144222Z
LAST-MODIFIED:20240710T210938Z
UID:10000216-1720677600-1720695600@www.ashlandy.org
SUMMARY:Pickle Ball
DESCRIPTION:
URL:https://www.ashlandy.org/event/pickle-ball-75/
LOCATION:Gymnasium- 1 court
CATEGORIES:Gymnasium
END:VEVENT
BEGIN:VEVENT
DTSTART;TZID=America/New_York:20240710T060000
DTEND;TZID=America/New_York:20240710T110000
DTSTAMP:20260420T011809
CREATED:20240329T144221Z
LAST-MODIFIED:20240709T203933Z
UID:10000212-1720591200-1720609200@www.ashlandy.org
SUMMARY:Pickle Ball
DESCRIPTION:
URL:https://www.ashlandy.org/event/pickle-ball-74/
LOCATION:Gymnasium- 1 court
CATEGORIES:Gymnasium
END:VEVENT
BEGIN:VEVENT
DTSTART;TZID=America/New_York:20240709T130000
DTEND;TZID=America/New_York:20240709T150000
DTSTAMP:20260420T011809
CREATED:20240329T144220Z
LAST-MODIFIED:20240708T200938Z
UID:10000211-1720530000-1720537200@www.ashlandy.org
SUMMARY:Pickleball
DESCRIPTION:
URL:https://www.ashlandy.org/event/pickleball-29/
LOCATION:Gymnasium- 1 court
CATEGORIES:Gymnasium
END:VEVENT
BEGIN:VEVENT
DTSTART;TZID=America/New_York:20240709T060000
DTEND;TZID=America/New_York:20240709T110000
DTSTAMP:20260420T011809
CREATED:20240329T144219Z
LAST-MODIFIED:20240708T200938Z
UID:10000209-1720504800-1720522800@www.ashlandy.org
SUMMARY:Pickle Ball
DESCRIPTION:
URL:https://www.ashlandy.org/event/pickle-ball-73/
LOCATION:Gymnasium- 1 court
CATEGORIES:Gymnasium
END:VEVENT
BEGIN:VEVENT
DTSTART;TZID=America/New_York:20240708T060000
DTEND;TZID=America/New_York:20240708T110000
DTSTAMP:20260420T011809
CREATED:20240329T144218Z
LAST-MODIFIED:20240707T193937Z
UID:10000207-1720418400-1720436400@www.ashlandy.org
SUMMARY:Pickle Ball
DESCRIPTION:
URL:https://www.ashlandy.org/event/pickle-ball-72/
LOCATION:Gymnasium- 1 court
CATEGORIES:Gymnasium
END:VEVENT
BEGIN:VEVENT
DTSTART;TZID=America/New_York:20240705T060000
DTEND;TZID=America/New_York:20240705T110000
DTSTAMP:20260420T011809
CREATED:20240329T144217Z
LAST-MODIFIED:20240704T180912Z
UID:10000206-1720159200-1720177200@www.ashlandy.org
SUMMARY:Pickle Ball
DESCRIPTION:
URL:https://www.ashlandy.org/event/pickle-ball-71/
LOCATION:Gymnasium- 1 court
CATEGORIES:Gymnasium
END:VEVENT
BEGIN:VEVENT
DTSTART;TZID=America/New_York:20240704T130000
DTEND;TZID=America/New_York:20240704T150000
DTSTAMP:20260420T011809
CREATED:20240329T144215Z
LAST-MODIFIED:20240704T180911Z
UID:10000203-1720098000-1720105200@www.ashlandy.org
SUMMARY:Pickleball
DESCRIPTION:
URL:https://www.ashlandy.org/event/pickleball-28/
LOCATION:Gymnasium- 1 court
CATEGORIES:Gymnasium
END:VEVENT
BEGIN:VEVENT
DTSTART;TZID=America/New_York:20240704T060000
DTEND;TZID=America/New_York:20240704T110000
DTSTAMP:20260420T011809
CREATED:20240329T144215Z
LAST-MODIFIED:20240703T173936Z
UID:10000202-1720072800-1720090800@www.ashlandy.org
SUMMARY:Pickle Ball
DESCRIPTION:
URL:https://www.ashlandy.org/event/pickle-ball-70/
LOCATION:Gymnasium- 1 court
CATEGORIES:Gymnasium
END:VEVENT
END:VCALENDAR