BEGIN:VCALENDAR
VERSION:2.0
PRODID:-//YMCA of Ashland, Ohio - ECPv6.5.0//NONSGML v1.0//EN
CALSCALE:GREGORIAN
METHOD:PUBLISH
X-ORIGINAL-URL:https://www.ashlandy.org
X-WR-CALDESC:Events for YMCA of Ashland, Ohio
REFRESH-INTERVAL;VALUE=DURATION:PT1H
X-Robots-Tag:noindex
X-PUBLISHED-TTL:PT1H
BEGIN:VTIMEZONE
TZID:America/New_York
BEGIN:DAYLIGHT
TZOFFSETFROM:-0500
TZOFFSETTO:-0400
TZNAME:EDT
DTSTART:20240310T070000
END:DAYLIGHT
BEGIN:STANDARD
TZOFFSETFROM:-0400
TZOFFSETTO:-0500
TZNAME:EST
DTSTART:20241103T060000
END:STANDARD
END:VTIMEZONE
BEGIN:VEVENT
DTSTART;TZID=America/New_York:20240709T130000
DTEND;TZID=America/New_York:20240709T150000
DTSTAMP:20260420T042625
CREATED:20240329T144220Z
LAST-MODIFIED:20240708T200938Z
UID:10000211-1720530000-1720537200@www.ashlandy.org
SUMMARY:Pickleball
DESCRIPTION:
URL:https://www.ashlandy.org/event/pickleball-29/
LOCATION:Gymnasium- 1 court
CATEGORIES:Gymnasium
END:VEVENT
BEGIN:VEVENT
DTSTART;TZID=America/New_York:20240709T060000
DTEND;TZID=America/New_York:20240709T110000
DTSTAMP:20260420T042625
CREATED:20240329T144219Z
LAST-MODIFIED:20240708T200938Z
UID:10000209-1720504800-1720522800@www.ashlandy.org
SUMMARY:Pickle Ball
DESCRIPTION:
URL:https://www.ashlandy.org/event/pickle-ball-73/
LOCATION:Gymnasium- 1 court
CATEGORIES:Gymnasium
END:VEVENT
BEGIN:VEVENT
DTSTART;TZID=America/New_York:20240708T060000
DTEND;TZID=America/New_York:20240708T110000
DTSTAMP:20260420T042625
CREATED:20240329T144218Z
LAST-MODIFIED:20240707T193937Z
UID:10000207-1720418400-1720436400@www.ashlandy.org
SUMMARY:Pickle Ball
DESCRIPTION:
URL:https://www.ashlandy.org/event/pickle-ball-72/
LOCATION:Gymnasium- 1 court
CATEGORIES:Gymnasium
END:VEVENT
BEGIN:VEVENT
DTSTART;TZID=America/New_York:20240705T060000
DTEND;TZID=America/New_York:20240705T110000
DTSTAMP:20260420T042625
CREATED:20240329T144217Z
LAST-MODIFIED:20240704T180912Z
UID:10000206-1720159200-1720177200@www.ashlandy.org
SUMMARY:Pickle Ball
DESCRIPTION:
URL:https://www.ashlandy.org/event/pickle-ball-71/
LOCATION:Gymnasium- 1 court
CATEGORIES:Gymnasium
END:VEVENT
BEGIN:VEVENT
DTSTART;TZID=America/New_York:20240704T130000
DTEND;TZID=America/New_York:20240704T150000
DTSTAMP:20260420T042625
CREATED:20240329T144215Z
LAST-MODIFIED:20240704T180911Z
UID:10000203-1720098000-1720105200@www.ashlandy.org
SUMMARY:Pickleball
DESCRIPTION:
URL:https://www.ashlandy.org/event/pickleball-28/
LOCATION:Gymnasium- 1 court
CATEGORIES:Gymnasium
END:VEVENT
BEGIN:VEVENT
DTSTART;TZID=America/New_York:20240704T060000
DTEND;TZID=America/New_York:20240704T110000
DTSTAMP:20260420T042625
CREATED:20240329T144215Z
LAST-MODIFIED:20240703T173936Z
UID:10000202-1720072800-1720090800@www.ashlandy.org
SUMMARY:Pickle Ball
DESCRIPTION:
URL:https://www.ashlandy.org/event/pickle-ball-70/
LOCATION:Gymnasium- 1 court
CATEGORIES:Gymnasium
END:VEVENT
BEGIN:VEVENT
DTSTART;TZID=America/New_York:20240703T060000
DTEND;TZID=America/New_York:20240703T110000
DTSTAMP:20260420T042625
CREATED:20240329T144213Z
LAST-MODIFIED:20240702T170916Z
UID:10000198-1719986400-1720004400@www.ashlandy.org
SUMMARY:Pickle Ball
DESCRIPTION:
URL:https://www.ashlandy.org/event/pickle-ball-69/
LOCATION:Gymnasium- 1 court
CATEGORIES:Gymnasium
END:VEVENT
BEGIN:VEVENT
DTSTART;TZID=America/New_York:20240702T130000
DTEND;TZID=America/New_York:20240702T150000
DTSTAMP:20260420T042625
CREATED:20240329T144212Z
LAST-MODIFIED:20240702T170915Z
UID:10000197-1719925200-1719932400@www.ashlandy.org
SUMMARY:Pickleball
DESCRIPTION:
URL:https://www.ashlandy.org/event/pickleball-27/
LOCATION:Gymnasium- 1 court
CATEGORIES:Gymnasium
END:VEVENT
BEGIN:VEVENT
DTSTART;TZID=America/New_York:20240702T060000
DTEND;TZID=America/New_York:20240702T110000
DTSTAMP:20260420T042625
CREATED:20240329T144212Z
LAST-MODIFIED:20240701T163940Z
UID:10000196-1719900000-1719918000@www.ashlandy.org
SUMMARY:Pickle Ball
DESCRIPTION:
URL:https://www.ashlandy.org/event/pickle-ball-68/
LOCATION:Gymnasium- 1 court
CATEGORIES:Gymnasium
END:VEVENT
BEGIN:VEVENT
DTSTART;TZID=America/New_York:20240701T060000
DTEND;TZID=America/New_York:20240701T110000
DTSTAMP:20260420T042625
CREATED:20240329T144211Z
LAST-MODIFIED:20240630T160939Z
UID:10000193-1719813600-1719831600@www.ashlandy.org
SUMMARY:Pickle Ball
DESCRIPTION:
URL:https://www.ashlandy.org/event/pickle-ball-67/
LOCATION:Gymnasium- 1 court
CATEGORIES:Gymnasium
END:VEVENT
BEGIN:VEVENT
DTSTART;TZID=America/New_York:20240628T060000
DTEND;TZID=America/New_York:20240628T110000
DTSTAMP:20260420T042625
CREATED:20240329T144210Z
LAST-MODIFIED:20240627T143939Z
UID:10000191-1719554400-1719572400@www.ashlandy.org
SUMMARY:Pickle Ball
DESCRIPTION:
URL:https://www.ashlandy.org/event/pickle-ball-66/
LOCATION:Gymnasium- 1 court
CATEGORIES:Gymnasium
END:VEVENT
BEGIN:VEVENT
DTSTART;TZID=America/New_York:20240627T130000
DTEND;TZID=America/New_York:20240627T150000
DTSTAMP:20260420T042625
CREATED:20240329T144209Z
LAST-MODIFIED:20240627T143938Z
UID:10000189-1719493200-1719500400@www.ashlandy.org
SUMMARY:Pickleball
DESCRIPTION:
URL:https://www.ashlandy.org/event/pickleball-26/
LOCATION:Gymnasium- 1 court
CATEGORIES:Gymnasium
END:VEVENT
BEGIN:VEVENT
DTSTART;TZID=America/New_York:20240627T060000
DTEND;TZID=America/New_York:20240627T110000
DTSTAMP:20260420T042625
CREATED:20240329T144207Z
LAST-MODIFIED:20240627T143937Z
UID:10000187-1719468000-1719486000@www.ashlandy.org
SUMMARY:Pickle Ball
DESCRIPTION:
URL:https://www.ashlandy.org/event/pickle-ball-65/
LOCATION:Gymnasium- 1 court
CATEGORIES:Gymnasium
END:VEVENT
BEGIN:VEVENT
DTSTART;TZID=America/New_York:20240626T060000
DTEND;TZID=America/New_York:20240626T110000
DTSTAMP:20260420T042625
CREATED:20240329T144206Z
LAST-MODIFIED:20240626T140913Z
UID:10000184-1719381600-1719399600@www.ashlandy.org
SUMMARY:Pickle Ball
DESCRIPTION:
URL:https://www.ashlandy.org/event/pickle-ball-64/
LOCATION:Gymnasium- 1 court
CATEGORIES:Gymnasium
END:VEVENT
BEGIN:VEVENT
DTSTART;TZID=America/New_York:20240625T130000
DTEND;TZID=America/New_York:20240625T150000
DTSTAMP:20260420T042625
CREATED:20240329T144205Z
LAST-MODIFIED:20240625T133938Z
UID:10000183-1719320400-1719327600@www.ashlandy.org
SUMMARY:Pickleball
DESCRIPTION:
URL:https://www.ashlandy.org/event/pickleball-25/
LOCATION:Gymnasium- 1 court
CATEGORIES:Gymnasium
END:VEVENT
BEGIN:VEVENT
DTSTART;TZID=America/New_York:20240625T060000
DTEND;TZID=America/New_York:20240625T110000
DTSTAMP:20260420T042625
CREATED:20240329T144205Z
LAST-MODIFIED:20240625T133937Z
UID:10000182-1719295200-1719313200@www.ashlandy.org
SUMMARY:Pickle Ball
DESCRIPTION:
URL:https://www.ashlandy.org/event/pickle-ball-63/
LOCATION:Gymnasium- 1 court
CATEGORIES:Gymnasium
END:VEVENT
BEGIN:VEVENT
DTSTART;TZID=America/New_York:20240624T060000
DTEND;TZID=America/New_York:20240624T110000
DTSTAMP:20260420T042625
CREATED:20240329T144204Z
LAST-MODIFIED:20240624T130921Z
UID:10000179-1719208800-1719226800@www.ashlandy.org
SUMMARY:Pickle Ball
DESCRIPTION:
URL:https://www.ashlandy.org/event/pickle-ball-62/
LOCATION:Gymnasium- 1 court
CATEGORIES:Gymnasium
END:VEVENT
BEGIN:VEVENT
DTSTART;TZID=America/New_York:20240621T060000
DTEND;TZID=America/New_York:20240621T110000
DTSTAMP:20260420T042625
CREATED:20240329T144203Z
LAST-MODIFIED:20240621T113936Z
UID:10000177-1718949600-1718967600@www.ashlandy.org
SUMMARY:Pickle Ball
DESCRIPTION:
URL:https://www.ashlandy.org/event/pickle-ball-61/
LOCATION:Gymnasium- 1 court
CATEGORIES:Gymnasium
END:VEVENT
BEGIN:VEVENT
DTSTART;TZID=America/New_York:20240620T130000
DTEND;TZID=America/New_York:20240620T150000
DTSTAMP:20260420T042625
CREATED:20240329T144201Z
LAST-MODIFIED:20240620T110938Z
UID:10000175-1718888400-1718895600@www.ashlandy.org
SUMMARY:Pickleball
DESCRIPTION:
URL:https://www.ashlandy.org/event/pickleball-24/
LOCATION:Gymnasium- 1 court
CATEGORIES:Gymnasium
END:VEVENT
BEGIN:VEVENT
DTSTART;TZID=America/New_York:20240620T060000
DTEND;TZID=America/New_York:20240620T110000
DTSTAMP:20260420T042625
CREATED:20240329T144201Z
LAST-MODIFIED:20240620T110937Z
UID:10000174-1718863200-1718881200@www.ashlandy.org
SUMMARY:Pickle Ball
DESCRIPTION:
URL:https://www.ashlandy.org/event/pickle-ball-60/
LOCATION:Gymnasium- 1 court
CATEGORIES:Gymnasium
END:VEVENT
BEGIN:VEVENT
DTSTART;TZID=America/New_York:20240619T060000
DTEND;TZID=America/New_York:20240619T110000
DTSTAMP:20260420T042625
CREATED:20240329T144200Z
LAST-MODIFIED:20240619T103939Z
UID:10000171-1718776800-1718794800@www.ashlandy.org
SUMMARY:Pickle Ball
DESCRIPTION:
URL:https://www.ashlandy.org/event/pickle-ball-59/
LOCATION:Gymnasium- 1 court
CATEGORIES:Gymnasium
END:VEVENT
BEGIN:VEVENT
DTSTART;TZID=America/New_York:20240618T130000
DTEND;TZID=America/New_York:20240618T150000
DTSTAMP:20260420T042625
CREATED:20240329T144159Z
LAST-MODIFIED:20240618T100938Z
UID:10000169-1718715600-1718722800@www.ashlandy.org
SUMMARY:Pickleball
DESCRIPTION:
URL:https://www.ashlandy.org/event/pickleball-23/
LOCATION:Gymnasium- 1 court
CATEGORIES:Gymnasium
END:VEVENT
BEGIN:VEVENT
DTSTART;TZID=America/New_York:20240618T060000
DTEND;TZID=America/New_York:20240618T110000
DTSTAMP:20260420T042625
CREATED:20240329T144159Z
LAST-MODIFIED:20240618T100937Z
UID:10000168-1718690400-1718708400@www.ashlandy.org
SUMMARY:Pickle Ball
DESCRIPTION:
URL:https://www.ashlandy.org/event/pickle-ball-58/
LOCATION:Gymnasium- 1 court
CATEGORIES:Gymnasium
END:VEVENT
BEGIN:VEVENT
DTSTART;TZID=America/New_York:20240617T060000
DTEND;TZID=America/New_York:20240617T110000
DTSTAMP:20260420T042625
CREATED:20240329T144158Z
LAST-MODIFIED:20240617T093937Z
UID:10000166-1718604000-1718622000@www.ashlandy.org
SUMMARY:Pickle Ball
DESCRIPTION:
URL:https://www.ashlandy.org/event/pickle-ball-57/
LOCATION:Gymnasium- 1 court
CATEGORIES:Gymnasium
END:VEVENT
BEGIN:VEVENT
DTSTART;TZID=America/New_York:20240614T060000
DTEND;TZID=America/New_York:20240614T110000
DTSTAMP:20260420T042625
CREATED:20240329T144157Z
LAST-MODIFIED:20240613T233938Z
UID:10000163-1718344800-1718362800@www.ashlandy.org
SUMMARY:Pickle Ball
DESCRIPTION:
URL:https://www.ashlandy.org/event/pickle-ball-56/
LOCATION:Gymnasium- 1 court
CATEGORIES:Gymnasium
END:VEVENT
BEGIN:VEVENT
DTSTART;TZID=America/New_York:20240613T130000
DTEND;TZID=America/New_York:20240613T150000
DTSTAMP:20260420T042625
CREATED:20240329T144157Z
LAST-MODIFIED:20240611T230940Z
UID:10000161-1718283600-1718290800@www.ashlandy.org
SUMMARY:Pickleball
DESCRIPTION:
URL:https://www.ashlandy.org/event/pickleball-22/
LOCATION:Gymnasium- 1 court
CATEGORIES:Gymnasium
END:VEVENT
BEGIN:VEVENT
DTSTART;TZID=America/New_York:20240613T060000
DTEND;TZID=America/New_York:20240613T110000
DTSTAMP:20260420T042625
CREATED:20240329T144156Z
LAST-MODIFIED:20240611T230940Z
UID:10000160-1718258400-1718276400@www.ashlandy.org
SUMMARY:Pickle Ball
DESCRIPTION:
URL:https://www.ashlandy.org/event/pickle-ball-55/
LOCATION:Gymnasium- 1 court
CATEGORIES:Gymnasium
END:VEVENT
BEGIN:VEVENT
DTSTART;TZID=America/New_York:20240612T060000
DTEND;TZID=America/New_York:20240612T110000
DTSTAMP:20260420T042625
CREATED:20240329T144155Z
LAST-MODIFIED:20240611T230939Z
UID:10000156-1718172000-1718190000@www.ashlandy.org
SUMMARY:Pickle Ball
DESCRIPTION:
URL:https://www.ashlandy.org/event/pickle-ball-54/
LOCATION:Gymnasium- 1 court
CATEGORIES:Gymnasium
END:VEVENT
BEGIN:VEVENT
DTSTART;TZID=America/New_York:20240611T130000
DTEND;TZID=America/New_York:20240611T150000
DTSTAMP:20260420T042625
CREATED:20240329T144155Z
LAST-MODIFIED:20240610T223936Z
UID:10000155-1718110800-1718118000@www.ashlandy.org
SUMMARY:Pickleball
DESCRIPTION:
URL:https://www.ashlandy.org/event/pickleball-21/
LOCATION:Gymnasium- 1 court
CATEGORIES:Gymnasium
END:VEVENT
BEGIN:VEVENT
DTSTART;TZID=America/New_York:20240611T060000
DTEND;TZID=America/New_York:20240611T110000
DTSTAMP:20260420T042625
CREATED:20240329T144154Z
LAST-MODIFIED:20240610T223936Z
UID:10000154-1718085600-1718103600@www.ashlandy.org
SUMMARY:Pickle Ball
DESCRIPTION:
URL:https://www.ashlandy.org/event/pickle-ball-53/
LOCATION:Gymnasium- 1 court
CATEGORIES:Gymnasium
END:VEVENT
END:VCALENDAR