BEGIN:VCALENDAR
VERSION:2.0
PRODID:-//YMCA of Ashland, Ohio - ECPv6.5.0//NONSGML v1.0//EN
CALSCALE:GREGORIAN
METHOD:PUBLISH
X-ORIGINAL-URL:https://www.ashlandy.org
X-WR-CALDESC:Events for YMCA of Ashland, Ohio
REFRESH-INTERVAL;VALUE=DURATION:PT1H
X-Robots-Tag:noindex
X-PUBLISHED-TTL:PT1H
BEGIN:VTIMEZONE
TZID:America/New_York
BEGIN:DAYLIGHT
TZOFFSETFROM:-0500
TZOFFSETTO:-0400
TZNAME:EDT
DTSTART:20240310T070000
END:DAYLIGHT
BEGIN:STANDARD
TZOFFSETFROM:-0400
TZOFFSETTO:-0500
TZNAME:EST
DTSTART:20241103T060000
END:STANDARD
END:VTIMEZONE
BEGIN:VEVENT
DTSTART;TZID=America/New_York:20240510T060000
DTEND;TZID=America/New_York:20240510T110000
DTSTAMP:20260420T130155
CREATED:20240329T144122Z
LAST-MODIFIED:20240509T194822Z
UID:10000094-1715320800-1715338800@www.ashlandy.org
SUMMARY:Pickle Ball
DESCRIPTION:
URL:https://www.ashlandy.org/event/pickle-ball-31/
LOCATION:Gymnasium- 1 court
CATEGORIES:Gymnasium
END:VEVENT
BEGIN:VEVENT
DTSTART;TZID=America/New_York:20240509T130000
DTEND;TZID=America/New_York:20240509T150000
DTSTAMP:20260420T130155
CREATED:20240329T144121Z
LAST-MODIFIED:20240507T183137Z
UID:10000091-1715259600-1715266800@www.ashlandy.org
SUMMARY:Pickleball
DESCRIPTION:
URL:https://www.ashlandy.org/event/pickleball-12/
LOCATION:Gymnasium- 1 court
CATEGORIES:Gymnasium
END:VEVENT
BEGIN:VEVENT
DTSTART;TZID=America/New_York:20240509T060000
DTEND;TZID=America/New_York:20240509T110000
DTSTAMP:20260420T130155
CREATED:20240329T144121Z
LAST-MODIFIED:20240507T183137Z
UID:10000089-1715234400-1715252400@www.ashlandy.org
SUMMARY:Pickle Ball
DESCRIPTION:
URL:https://www.ashlandy.org/event/pickle-ball-30/
LOCATION:Gymnasium- 1 court
CATEGORIES:Gymnasium
END:VEVENT
BEGIN:VEVENT
DTSTART;TZID=America/New_York:20240508T060000
DTEND;TZID=America/New_York:20240508T110000
DTSTAMP:20260420T130155
CREATED:20240329T144120Z
LAST-MODIFIED:20240507T183136Z
UID:10000086-1715148000-1715166000@www.ashlandy.org
SUMMARY:Pickle Ball
DESCRIPTION:
URL:https://www.ashlandy.org/event/pickle-ball-29/
LOCATION:Gymnasium- 1 court
CATEGORIES:Gymnasium
END:VEVENT
BEGIN:VEVENT
DTSTART;TZID=America/New_York:20240507T130000
DTEND;TZID=America/New_York:20240507T150000
DTSTAMP:20260420T130155
CREATED:20240329T144119Z
LAST-MODIFIED:20240507T183135Z
UID:10000085-1715086800-1715094000@www.ashlandy.org
SUMMARY:Pickleball
DESCRIPTION:
URL:https://www.ashlandy.org/event/pickleball-11/
LOCATION:Gymnasium- 1 court
CATEGORIES:Gymnasium
END:VEVENT
BEGIN:VEVENT
DTSTART;TZID=America/New_York:20240507T060000
DTEND;TZID=America/New_York:20240507T110000
DTSTAMP:20260420T130155
CREATED:20240329T144119Z
LAST-MODIFIED:20240506T181150Z
UID:10000083-1715061600-1715079600@www.ashlandy.org
SUMMARY:Pickle Ball
DESCRIPTION:
URL:https://www.ashlandy.org/event/pickle-ball-28/
LOCATION:Gymnasium- 1 court
CATEGORIES:Gymnasium
END:VEVENT
BEGIN:VEVENT
DTSTART;TZID=America/New_York:20240506T060000
DTEND;TZID=America/New_York:20240506T110000
DTSTAMP:20260420T130155
CREATED:20240329T144118Z
LAST-MODIFIED:20240505T164843Z
UID:10000082-1714975200-1714993200@www.ashlandy.org
SUMMARY:Pickle Ball
DESCRIPTION:
URL:https://www.ashlandy.org/event/pickle-ball-27/
LOCATION:Gymnasium- 1 court
CATEGORIES:Gymnasium
END:VEVENT
BEGIN:VEVENT
DTSTART;TZID=America/New_York:20240503T060000
DTEND;TZID=America/New_York:20240503T110000
DTSTAMP:20260420T130155
CREATED:20240329T144118Z
LAST-MODIFIED:20240503T124922Z
UID:10000080-1714716000-1714734000@www.ashlandy.org
SUMMARY:Pickle Ball
DESCRIPTION:
URL:https://www.ashlandy.org/event/pickle-ball-26/
LOCATION:Gymnasium- 1 court
CATEGORIES:Gymnasium
END:VEVENT
BEGIN:VEVENT
DTSTART;TZID=America/New_York:20240502T130000
DTEND;TZID=America/New_York:20240502T150000
DTSTAMP:20260420T130155
CREATED:20240329T144117Z
LAST-MODIFIED:20240422T065000Z
UID:10000077-1714654800-1714662000@www.ashlandy.org
SUMMARY:Pickleball
DESCRIPTION:
URL:https://www.ashlandy.org/event/pickleball-10/
LOCATION:Gymnasium- 1 court
CATEGORIES:Gymnasium
END:VEVENT
BEGIN:VEVENT
DTSTART;TZID=America/New_York:20240502T060000
DTEND;TZID=America/New_York:20240502T110000
DTSTAMP:20260420T130155
CREATED:20240329T144116Z
LAST-MODIFIED:20240422T064959Z
UID:10000075-1714629600-1714647600@www.ashlandy.org
SUMMARY:Pickle Ball
DESCRIPTION:
URL:https://www.ashlandy.org/event/pickle-ball-25/
LOCATION:Gymnasium- 1 court
CATEGORIES:Gymnasium
END:VEVENT
BEGIN:VEVENT
DTSTART;TZID=America/New_York:20240501T060000
DTEND;TZID=America/New_York:20240501T110000
DTSTAMP:20260420T130155
CREATED:20240329T144115Z
LAST-MODIFIED:20240422T064945Z
UID:10000072-1714543200-1714561200@www.ashlandy.org
SUMMARY:Pickle Ball
DESCRIPTION:
URL:https://www.ashlandy.org/event/pickle-ball-24/
LOCATION:Gymnasium- 1 court
CATEGORIES:Gymnasium
END:VEVENT
BEGIN:VEVENT
DTSTART;TZID=America/New_York:20240430T130000
DTEND;TZID=America/New_York:20240430T150000
DTSTAMP:20260420T130155
CREATED:20240329T144115Z
LAST-MODIFIED:20240422T064945Z
UID:10000071-1714482000-1714489200@www.ashlandy.org
SUMMARY:Pickleball
DESCRIPTION:
URL:https://www.ashlandy.org/event/pickleball-9/
LOCATION:Gymnasium- 1 court
CATEGORIES:Gymnasium
END:VEVENT
BEGIN:VEVENT
DTSTART;TZID=America/New_York:20240430T060000
DTEND;TZID=America/New_York:20240430T110000
DTSTAMP:20260420T130155
CREATED:20240329T144114Z
LAST-MODIFIED:20240422T064944Z
UID:10000070-1714456800-1714474800@www.ashlandy.org
SUMMARY:Pickle Ball
DESCRIPTION:
URL:https://www.ashlandy.org/event/pickle-ball-23/
LOCATION:Gymnasium- 1 court
CATEGORIES:Gymnasium
END:VEVENT
BEGIN:VEVENT
DTSTART;TZID=America/New_York:20240429T060000
DTEND;TZID=America/New_York:20240429T110000
DTSTAMP:20260420T130155
CREATED:20240329T144114Z
LAST-MODIFIED:20240422T064943Z
UID:10000068-1714370400-1714388400@www.ashlandy.org
SUMMARY:Pickle Ball
DESCRIPTION:
URL:https://www.ashlandy.org/event/pickle-ball-22/
LOCATION:Gymnasium- 1 court
CATEGORIES:Gymnasium
END:VEVENT
BEGIN:VEVENT
DTSTART;TZID=America/New_York:20240426T060000
DTEND;TZID=America/New_York:20240426T110000
DTSTAMP:20260420T130155
CREATED:20240329T144112Z
LAST-MODIFIED:20240422T064942Z
UID:10000065-1714111200-1714129200@www.ashlandy.org
SUMMARY:Pickle Ball
DESCRIPTION:
URL:https://www.ashlandy.org/event/pickle-ball-21/
LOCATION:Gymnasium- 1 court
CATEGORIES:Gymnasium
END:VEVENT
BEGIN:VEVENT
DTSTART;TZID=America/New_York:20240425T130000
DTEND;TZID=America/New_York:20240425T150000
DTSTAMP:20260420T130155
CREATED:20240329T144112Z
LAST-MODIFIED:20240422T064942Z
UID:10000063-1714050000-1714057200@www.ashlandy.org
SUMMARY:Pickleball
DESCRIPTION:
URL:https://www.ashlandy.org/event/pickleball-8/
LOCATION:Gymnasium- 1 court
CATEGORIES:Gymnasium
END:VEVENT
BEGIN:VEVENT
DTSTART;TZID=America/New_York:20240425T060000
DTEND;TZID=America/New_York:20240425T110000
DTSTAMP:20260420T130155
CREATED:20240329T144111Z
LAST-MODIFIED:20240422T064934Z
UID:10000062-1714024800-1714042800@www.ashlandy.org
SUMMARY:Pickle Ball
DESCRIPTION:
URL:https://www.ashlandy.org/event/pickle-ball-20/
LOCATION:Gymnasium- 1 court
CATEGORIES:Gymnasium
END:VEVENT
BEGIN:VEVENT
DTSTART;TZID=America/New_York:20240424T060000
DTEND;TZID=America/New_York:20240424T110000
DTSTAMP:20260420T130155
CREATED:20240329T144110Z
LAST-MODIFIED:20240422T064932Z
UID:10000058-1713938400-1713956400@www.ashlandy.org
SUMMARY:Pickle Ball
DESCRIPTION:
URL:https://www.ashlandy.org/event/pickle-ball-19/
LOCATION:Gymnasium- 1 court
CATEGORIES:Gymnasium
END:VEVENT
BEGIN:VEVENT
DTSTART;TZID=America/New_York:20240423T130000
DTEND;TZID=America/New_York:20240423T150000
DTSTAMP:20260420T130155
CREATED:20240329T144110Z
LAST-MODIFIED:20240422T064932Z
UID:10000057-1713877200-1713884400@www.ashlandy.org
SUMMARY:Pickleball
DESCRIPTION:
URL:https://www.ashlandy.org/event/pickleball-7/
LOCATION:Gymnasium- 1 court
CATEGORIES:Gymnasium
END:VEVENT
BEGIN:VEVENT
DTSTART;TZID=America/New_York:20240423T060000
DTEND;TZID=America/New_York:20240423T110000
DTSTAMP:20260420T130155
CREATED:20240329T144109Z
LAST-MODIFIED:20240422T064931Z
UID:10000055-1713852000-1713870000@www.ashlandy.org
SUMMARY:Pickle Ball
DESCRIPTION:
URL:https://www.ashlandy.org/event/pickle-ball-18/
LOCATION:Gymnasium- 1 court
CATEGORIES:Gymnasium
END:VEVENT
BEGIN:VEVENT
DTSTART;TZID=America/New_York:20240422T060000
DTEND;TZID=America/New_York:20240422T110000
DTSTAMP:20260420T130155
CREATED:20240329T144109Z
LAST-MODIFIED:20240422T064930Z
UID:10000054-1713765600-1713783600@www.ashlandy.org
SUMMARY:Pickle Ball
DESCRIPTION:
URL:https://www.ashlandy.org/event/pickle-ball-17/
LOCATION:Gymnasium- 1 court
CATEGORIES:Gymnasium
END:VEVENT
BEGIN:VEVENT
DTSTART;TZID=America/New_York:20240419T060000
DTEND;TZID=America/New_York:20240419T110000
DTSTAMP:20260420T130155
CREATED:20240329T144108Z
LAST-MODIFIED:20240418T135936Z
UID:10000051-1713506400-1713524400@www.ashlandy.org
SUMMARY:Pickle Ball
DESCRIPTION:
URL:https://www.ashlandy.org/event/pickle-ball-16/
LOCATION:Gymnasium- 1 court
CATEGORIES:Gymnasium
END:VEVENT
BEGIN:VEVENT
DTSTART;TZID=America/New_York:20240418T130000
DTEND;TZID=America/New_York:20240418T150000
DTSTAMP:20260420T130155
CREATED:20240329T144107Z
LAST-MODIFIED:20240418T135933Z
UID:10000049-1713445200-1713452400@www.ashlandy.org
SUMMARY:Pickleball
DESCRIPTION:
URL:https://www.ashlandy.org/event/pickleball-6/
LOCATION:Gymnasium- 1 court
CATEGORIES:Gymnasium
END:VEVENT
BEGIN:VEVENT
DTSTART;TZID=America/New_York:20240418T060000
DTEND;TZID=America/New_York:20240418T110000
DTSTAMP:20260420T130155
CREATED:20240329T144107Z
LAST-MODIFIED:20240418T135930Z
UID:10000048-1713420000-1713438000@www.ashlandy.org
SUMMARY:Pickle Ball
DESCRIPTION:
URL:https://www.ashlandy.org/event/pickle-ball-15/
LOCATION:Gymnasium- 1 court
CATEGORIES:Gymnasium
END:VEVENT
BEGIN:VEVENT
DTSTART;TZID=America/New_York:20240417T060000
DTEND;TZID=America/New_York:20240417T110000
DTSTAMP:20260420T130155
CREATED:20240329T144104Z
LAST-MODIFIED:20240417T071032Z
UID:10000044-1713333600-1713351600@www.ashlandy.org
SUMMARY:Pickle Ball
DESCRIPTION:
URL:https://www.ashlandy.org/event/pickle-ball-14/
LOCATION:Gymnasium- 1 court
CATEGORIES:Gymnasium
END:VEVENT
BEGIN:VEVENT
DTSTART;TZID=America/New_York:20240416T130000
DTEND;TZID=America/New_York:20240416T150000
DTSTAMP:20260420T130155
CREATED:20240329T144103Z
LAST-MODIFIED:20240416T065721Z
UID:10000043-1713272400-1713279600@www.ashlandy.org
SUMMARY:Pickleball
DESCRIPTION:
URL:https://www.ashlandy.org/event/pickleball-5/
LOCATION:Gymnasium- 1 court
CATEGORIES:Gymnasium
END:VEVENT
BEGIN:VEVENT
DTSTART;TZID=America/New_York:20240416T060000
DTEND;TZID=America/New_York:20240416T110000
DTSTAMP:20260420T130155
CREATED:20240329T144102Z
LAST-MODIFIED:20240416T065721Z
UID:10000041-1713247200-1713265200@www.ashlandy.org
SUMMARY:Pickle Ball
DESCRIPTION:
URL:https://www.ashlandy.org/event/pickle-ball-13/
LOCATION:Gymnasium- 1 court
CATEGORIES:Gymnasium
END:VEVENT
BEGIN:VEVENT
DTSTART;TZID=America/New_York:20240415T060000
DTEND;TZID=America/New_York:20240415T110000
DTSTAMP:20260420T130155
CREATED:20240329T144101Z
LAST-MODIFIED:20240414T170050Z
UID:10000040-1713160800-1713178800@www.ashlandy.org
SUMMARY:Pickle Ball
DESCRIPTION:
URL:https://www.ashlandy.org/event/pickle-ball-12/
LOCATION:Gymnasium- 1 court
CATEGORIES:Gymnasium
END:VEVENT
BEGIN:VEVENT
DTSTART;TZID=America/New_York:20240412T060000
DTEND;TZID=America/New_York:20240412T110000
DTSTAMP:20260420T130155
CREATED:20240329T144100Z
LAST-MODIFIED:20240412T065515Z
UID:10000038-1712901600-1712919600@www.ashlandy.org
SUMMARY:Pickle Ball
DESCRIPTION:
URL:https://www.ashlandy.org/event/pickle-ball-11/
LOCATION:Gymnasium- 1 court
CATEGORIES:Gymnasium
END:VEVENT
BEGIN:VEVENT
DTSTART;TZID=America/New_York:20240411T130000
DTEND;TZID=America/New_York:20240411T150000
DTSTAMP:20260420T130155
CREATED:20240329T144059Z
LAST-MODIFIED:20240411T030743Z
UID:10000035-1712840400-1712847600@www.ashlandy.org
SUMMARY:Pickleball
DESCRIPTION:
URL:https://www.ashlandy.org/event/pickleball-4/
LOCATION:Gymnasium- 1 court
CATEGORIES:Gymnasium
END:VEVENT
END:VCALENDAR