BEGIN:VCALENDAR
VERSION:2.0
PRODID:-//YMCA of Ashland, Ohio - ECPv6.5.0//NONSGML v1.0//EN
CALSCALE:GREGORIAN
METHOD:PUBLISH
X-ORIGINAL-URL:https://www.ashlandy.org
X-WR-CALDESC:Events for YMCA of Ashland, Ohio
REFRESH-INTERVAL;VALUE=DURATION:PT1H
X-Robots-Tag:noindex
X-PUBLISHED-TTL:PT1H
BEGIN:VTIMEZONE
TZID:America/New_York
BEGIN:DAYLIGHT
TZOFFSETFROM:-0500
TZOFFSETTO:-0400
TZNAME:EDT
DTSTART:20240310T070000
END:DAYLIGHT
BEGIN:STANDARD
TZOFFSETFROM:-0400
TZOFFSETTO:-0500
TZNAME:EST
DTSTART:20241103T060000
END:STANDARD
END:VTIMEZONE
BEGIN:VEVENT
DTSTART;TZID=America/New_York:20240404T130000
DTEND;TZID=America/New_York:20240404T150000
DTSTAMP:20260420T172243
CREATED:20240329T144053Z
LAST-MODIFIED:20240403T172344Z
UID:10000019-1712235600-1712242800@www.ashlandy.org
SUMMARY:Pickleball
DESCRIPTION:
URL:https://www.ashlandy.org/event/pickleball-2/
LOCATION:Gymnasium- 1 court
CATEGORIES:Gymnasium
END:VEVENT
BEGIN:VEVENT
DTSTART;TZID=America/New_York:20240404T060000
DTEND;TZID=America/New_York:20240404T110000
DTSTAMP:20260420T172243
CREATED:20240329T144053Z
LAST-MODIFIED:20240403T172343Z
UID:10000017-1712210400-1712228400@www.ashlandy.org
SUMMARY:Pickle Ball
DESCRIPTION:
URL:https://www.ashlandy.org/event/pickle-ball-5/
LOCATION:Gymnasium- 1 court
CATEGORIES:Gymnasium
END:VEVENT
BEGIN:VEVENT
DTSTART;TZID=America/New_York:20240403T060000
DTEND;TZID=America/New_York:20240403T110000
DTSTAMP:20260420T172243
CREATED:20240329T144049Z
LAST-MODIFIED:20240402T153725Z
UID:10000011-1712124000-1712142000@www.ashlandy.org
SUMMARY:Pickle Ball
DESCRIPTION:
URL:https://www.ashlandy.org/event/pickle-ball-4/
LOCATION:Gymnasium- 1 court
CATEGORIES:Gymnasium
END:VEVENT
BEGIN:VEVENT
DTSTART;TZID=America/New_York:20240402T130000
DTEND;TZID=America/New_York:20240402T150000
DTSTAMP:20260420T172243
CREATED:20240329T144047Z
LAST-MODIFIED:20240402T153721Z
UID:10000008-1712062800-1712070000@www.ashlandy.org
SUMMARY:Pickleball
DESCRIPTION:
URL:https://www.ashlandy.org/event/pickleball/
LOCATION:Gymnasium- 1 court
CATEGORIES:Gymnasium
END:VEVENT
BEGIN:VEVENT
DTSTART;TZID=America/New_York:20240402T060000
DTEND;TZID=America/New_York:20240402T110000
DTSTAMP:20260420T172243
CREATED:20240329T144046Z
LAST-MODIFIED:20240401T143911Z
UID:10000006-1712037600-1712055600@www.ashlandy.org
SUMMARY:Pickle Ball
DESCRIPTION:
URL:https://www.ashlandy.org/event/pickle-ball-3/
LOCATION:Gymnasium- 1 court
CATEGORIES:Gymnasium
END:VEVENT
BEGIN:VEVENT
DTSTART;TZID=America/New_York:20240401T060000
DTEND;TZID=America/New_York:20240401T110000
DTSTAMP:20260420T172243
CREATED:20240329T144045Z
LAST-MODIFIED:20240401T143911Z
UID:10000005-1711951200-1711969200@www.ashlandy.org
SUMMARY:Pickle Ball
DESCRIPTION:
URL:https://www.ashlandy.org/event/pickle-ball-2/
LOCATION:Gymnasium- 1 court
CATEGORIES:Gymnasium
END:VEVENT
BEGIN:VEVENT
DTSTART;TZID=America/New_York:20240329T060000
DTEND;TZID=America/New_York:20240329T110000
DTSTAMP:20260420T172243
CREATED:20240329T144043Z
LAST-MODIFIED:20240329T144045Z
UID:10000002-1711692000-1711710000@www.ashlandy.org
SUMMARY:Pickle Ball
DESCRIPTION:
URL:https://www.ashlandy.org/event/pickle-ball/
LOCATION:Gymnasium- 1 court
CATEGORIES:Gymnasium
END:VEVENT
END:VCALENDAR