BEGIN:VCALENDAR
VERSION:2.0
PRODID:-//YMCA of Ashland, Ohio - ECPv6.5.0//NONSGML v1.0//EN
CALSCALE:GREGORIAN
METHOD:PUBLISH
X-WR-CALNAME:YMCA of Ashland, Ohio
X-ORIGINAL-URL:https://www.ashlandy.org
X-WR-CALDESC:Events for YMCA of Ashland, Ohio
REFRESH-INTERVAL;VALUE=DURATION:PT1H
X-Robots-Tag:noindex
X-PUBLISHED-TTL:PT1H
BEGIN:VTIMEZONE
TZID:America/New_York
BEGIN:DAYLIGHT
TZOFFSETFROM:-0500
TZOFFSETTO:-0400
TZNAME:EDT
DTSTART:20250309T070000
END:DAYLIGHT
BEGIN:STANDARD
TZOFFSETFROM:-0400
TZOFFSETTO:-0500
TZNAME:EST
DTSTART:20251102T060000
END:STANDARD
END:VTIMEZONE
BEGIN:VEVENT
DTSTART;TZID=America/New_York:20250514T100000
DTEND;TZID=America/New_York:20250514T110000
DTSTAMP:20260420T163507
CREATED:20250318T114646Z
LAST-MODIFIED:20250513T143942Z
UID:10003276-1747216800-1747220400@www.ashlandy.org
SUMMARY:SilverSneakers Boom Mind
DESCRIPTION:Instructor: Louise  \nDescription: Fusion class designed to relax your body and mind. The focus is on core muscles\, lower-body strength\, and balance.
URL:https://www.ashlandy.org/event/silversneakers-boom-mind-60/
LOCATION:Multi-Purpose Room
CATEGORIES:Group Ex-Schedule
END:VEVENT
BEGIN:VEVENT
DTSTART;TZID=America/New_York:20250514T091500
DTEND;TZID=America/New_York:20250514T094500
DTSTAMP:20260420T163507
CREATED:20250318T114646Z
LAST-MODIFIED:20250513T143941Z
UID:10003275-1747214100-1747215900@www.ashlandy.org
SUMMARY:Dance Fitness
DESCRIPTION:Instructor: Shelly \nDescription: A fun Aerobic workout for all fitness levels. It provides the ultimate fat burn with different intensities to motivating music.
URL:https://www.ashlandy.org/event/dance-fitness-70/
LOCATION:Multi-Purpose Room
CATEGORIES:Group Ex-Schedule
END:VEVENT
BEGIN:VEVENT
DTSTART;TZID=America/New_York:20250513T100000
DTEND;TZID=America/New_York:20250513T110000
DTSTAMP:20260420T163507
CREATED:20250317T111809Z
LAST-MODIFIED:20250513T143939Z
UID:10003269-1747130400-1747134000@www.ashlandy.org
SUMMARY:SilverSneakers Circuit
DESCRIPTION:Instructor: Sherry \nClass Description: SilverSneakers Circuit offers standing low-impact moves that alternate with standing upper-body strength. The class can be adapted for all fitness levels.
URL:https://www.ashlandy.org/event/silversneakers-circuit-58/
LOCATION:Multi-Purpose Room
CATEGORIES:Group Ex-Schedule
END:VEVENT
BEGIN:VEVENT
DTSTART;TZID=America/New_York:20250512T173000
DTEND;TZID=America/New_York:20250512T183000
DTSTAMP:20260420T163507
CREATED:20250315T101800Z
LAST-MODIFIED:20250512T140937Z
UID:10003261-1747071000-1747074600@www.ashlandy.org
SUMMARY:Zumba
DESCRIPTION:Instructor: Erica  \nDescription: Each Dance/Zumba® class is designed to bring people together to sweat it on. We take the “work” out of workout\, by mixing low-intensity and high-intensity moves for an interval-style\, calorie-burning dance fitness party. Once the Latin and World rhythms take over\, you’ll see why Dance/Zumba classes are often called exercise in disguise. Super effective? Check. Super fun? Check.
URL:https://www.ashlandy.org/event/zumba-183/
LOCATION:Multi-Purpose Room
CATEGORIES:Group Ex-Schedule
END:VEVENT
BEGIN:VEVENT
DTSTART;TZID=America/New_York:20250512T100000
DTEND;TZID=America/New_York:20250512T110000
DTSTAMP:20260420T163507
CREATED:20250315T101758Z
LAST-MODIFIED:20250512T140937Z
UID:10003259-1747044000-1747047600@www.ashlandy.org
SUMMARY:SilverSneakers Yoga
DESCRIPTION:Instructor: Christy  \nClass Description: Move through a complete series of seated and standing yoga poses while you enjoy restorative breathing exercises that promote stress reduction and mental clarity.
URL:https://www.ashlandy.org/event/silversneakers-yoga-58/
LOCATION:Multi-Purpose Room
CATEGORIES:Group Ex-Schedule
END:VEVENT
BEGIN:VEVENT
DTSTART;TZID=America/New_York:20250512T091000
DTEND;TZID=America/New_York:20250512T094500
DTSTAMP:20260420T163507
CREATED:20250314T094752Z
LAST-MODIFIED:20250511T133937Z
UID:10003255-1747041000-1747043100@www.ashlandy.org
SUMMARY:Total Body Strength
DESCRIPTION:Instructor: ShellyDescription: Work all muscle groups with a variety of strengthening and conditioning exercises. This athletic-based sculpting class tones upper and lower body using resistance like hand weights\, body bars and your own body weight.
URL:https://www.ashlandy.org/event/total-body-strength-58/
LOCATION:Multi-Purpose Room
CATEGORIES:Group Ex-Schedule
END:VEVENT
BEGIN:VEVENT
DTSTART;TZID=America/New_York:20250510T071500
DTEND;TZID=America/New_York:20250510T084500
DTSTAMP:20260420T163507
CREATED:20250314T094749Z
LAST-MODIFIED:20250509T123940Z
UID:10003249-1746861300-1746866700@www.ashlandy.org
SUMMARY:Tai Chi
DESCRIPTION:Instructor: Haiyan Fillutzy
URL:https://www.ashlandy.org/event/tai-chi-78/
LOCATION:Multi-Purpose Room
CATEGORIES:Group Ex-Schedule
END:VEVENT
BEGIN:VEVENT
DTSTART;TZID=America/New_York:20250509T100000
DTEND;TZID=America/New_York:20250509T110000
DTSTAMP:20260420T163507
CREATED:20250313T091751Z
LAST-MODIFIED:20250509T123940Z
UID:10003245-1746784800-1746788400@www.ashlandy.org
SUMMARY:SilverSneakers Classic
DESCRIPTION:Instructor: Sherry \nDescription: Have fun and move to the music through a variety of exercises designed to increase muscular strength\, range of movement\, and activities for daily living. Hand-held weights\, elastic tubing with handles\, and a SilverSneakers ball are offered for resistance.
URL:https://www.ashlandy.org/event/silversneakers-classic-117/
LOCATION:Multi-Purpose Room
CATEGORIES:Group Ex-Schedule
END:VEVENT
BEGIN:VEVENT
DTSTART;TZID=America/New_York:20250508T100000
DTEND;TZID=America/New_York:20250508T110000
DTSTAMP:20260420T163507
CREATED:20250312T084733Z
LAST-MODIFIED:20250508T120941Z
UID:10003233-1746698400-1746702000@www.ashlandy.org
SUMMARY:SilverSneakers Classic
DESCRIPTION:Instructor: Hannah  \nClass Description: Have fun and move to the music through a variety of exercises designed to increase muscular strength\, range of movement\, and activities for daily living. Hand-held weights\, elastic tubing with handles\, and a SilverSneakers ball are offered for resistance.
URL:https://www.ashlandy.org/event/silversneakers-classic-116/
LOCATION:Multi-Purpose Room
CATEGORIES:Group Ex-Schedule
END:VEVENT
BEGIN:VEVENT
DTSTART;TZID=America/New_York:20250508T083000
DTEND;TZID=America/New_York:20250508T093000
DTSTAMP:20260420T163507
CREATED:20250312T084732Z
LAST-MODIFIED:20250508T120941Z
UID:10003231-1746693000-1746696600@www.ashlandy.org
SUMMARY:Zumba
DESCRIPTION:Instructor: Erica  \nDescription: Each Dance/Zumba® class is designed to bring people together to sweat it on. We take the “work” out of a workout\, by mixing low-intensity and high-intensity moves for an interval-style\, calorie-burning dance fitness party. Once the Latin and World rhythms take over\, you’ll see why Dance/Zumba classes are often called exercise in disguise. Super effective? Check. Super fun? Check.
URL:https://www.ashlandy.org/event/zumba-182/
LOCATION:Multi-Purpose Room
CATEGORIES:Group Ex-Schedule
END:VEVENT
BEGIN:VEVENT
DTSTART;TZID=America/New_York:20250507T171500
DTEND;TZID=America/New_York:20250507T181500
DTSTAMP:20260420T163507
CREATED:20250311T081757Z
LAST-MODIFIED:20250425T054107Z
UID:10003224-1746638100-1746641700@www.ashlandy.org
SUMMARY:Pilates
DESCRIPTION:Instructor: Chelsea Uselton
URL:https://www.ashlandy.org/event/pilates-9/
LOCATION:Multi-Purpose Room
CATEGORIES:Group Ex-Schedule
END:VEVENT
BEGIN:VEVENT
DTSTART;TZID=America/New_York:20250507T100000
DTEND;TZID=America/New_York:20250507T110000
DTSTAMP:20260420T163507
CREATED:20250311T081757Z
LAST-MODIFIED:20250507T113924Z
UID:10003223-1746612000-1746615600@www.ashlandy.org
SUMMARY:SilverSneakers Boom Mind
DESCRIPTION:Instructor: Louise  \nDescription: Fusion class designed to relax your body and mind. The focus is on core muscles\, lower-body strength\, and balance.
URL:https://www.ashlandy.org/event/silversneakers-boom-mind-59/
LOCATION:Multi-Purpose Room
CATEGORIES:Group Ex-Schedule
END:VEVENT
BEGIN:VEVENT
DTSTART;TZID=America/New_York:20250507T091500
DTEND;TZID=America/New_York:20250507T094500
DTSTAMP:20260420T163507
CREATED:20250311T081756Z
LAST-MODIFIED:20250507T113924Z
UID:10003222-1746609300-1746611100@www.ashlandy.org
SUMMARY:Dance Fitness
DESCRIPTION:Instructor: Shelly \nDescription: A fun Aerobic workout for all fitness levels. It provides the ultimate fat burn with different intensities to motivating music.
URL:https://www.ashlandy.org/event/dance-fitness-69/
LOCATION:Multi-Purpose Room
CATEGORIES:Group Ex-Schedule
END:VEVENT
BEGIN:VEVENT
DTSTART;TZID=America/New_York:20250506T100000
DTEND;TZID=America/New_York:20250506T110000
DTSTAMP:20260420T163507
CREATED:20250309T071757Z
LAST-MODIFIED:20250506T110912Z
UID:10003214-1746525600-1746529200@www.ashlandy.org
SUMMARY:SilverSneakers Circuit
DESCRIPTION:Instructor: Sherry \nClass Description: SilverSneakers Circuit offers standing low-impact moves that alternate with standing upper-body strength. The class can be adapted for all fitness levels.
URL:https://www.ashlandy.org/event/silversneakers-circuit-57/
LOCATION:Multi-Purpose Room
CATEGORIES:Group Ex-Schedule
END:VEVENT
BEGIN:VEVENT
DTSTART;TZID=America/New_York:20250505T173000
DTEND;TZID=America/New_York:20250505T183000
DTSTAMP:20260420T163507
CREATED:20250308T064731Z
LAST-MODIFIED:20250505T103913Z
UID:10003208-1746466200-1746469800@www.ashlandy.org
SUMMARY:Zumba
DESCRIPTION:Instructor: Erica  \nDescription: Each Dance/Zumba® class is designed to bring people together to sweat it on. We take the “work” out of workout\, by mixing low-intensity and high-intensity moves for an interval-style\, calorie-burning dance fitness party. Once the Latin and World rhythms take over\, you’ll see why Dance/Zumba classes are often called exercise in disguise. Super effective? Check. Super fun? Check.
URL:https://www.ashlandy.org/event/zumba-181/
LOCATION:Multi-Purpose Room
CATEGORIES:Group Ex-Schedule
END:VEVENT
BEGIN:VEVENT
DTSTART;TZID=America/New_York:20250505T100000
DTEND;TZID=America/New_York:20250505T110000
DTSTAMP:20260420T163507
CREATED:20250308T064730Z
LAST-MODIFIED:20250505T103912Z
UID:10003206-1746439200-1746442800@www.ashlandy.org
SUMMARY:SilverSneakers Yoga
DESCRIPTION:Instructor: Christy  \nClass Description: Move through a complete series of seated and standing yoga poses while you enjoy restorative breathing exercises that promote stress reduction and mental clarity.
URL:https://www.ashlandy.org/event/silversneakers-yoga-57/
LOCATION:Multi-Purpose Room
CATEGORIES:Group Ex-Schedule
END:VEVENT
BEGIN:VEVENT
DTSTART;TZID=America/New_York:20250505T091000
DTEND;TZID=America/New_York:20250505T094500
DTSTAMP:20260420T163507
CREATED:20250307T063054Z
LAST-MODIFIED:20250505T103911Z
UID:10003202-1746436200-1746438300@www.ashlandy.org
SUMMARY:Total Body Strength
DESCRIPTION:Instructor: ShellyDescription: Work all muscle groups with a variety of strengthening and conditioning exercises. This athletic-based sculpting class tones upper and lower body using resistance like hand weights\, body bars and your own body weight.
URL:https://www.ashlandy.org/event/total-body-strength-57/
LOCATION:Multi-Purpose Room
CATEGORIES:Group Ex-Schedule
END:VEVENT
BEGIN:VEVENT
DTSTART;TZID=America/New_York:20250503T071500
DTEND;TZID=America/New_York:20250503T084500
DTSTAMP:20260420T163507
CREATED:20250307T063050Z
LAST-MODIFIED:20250503T093936Z
UID:10003196-1746256500-1746261900@www.ashlandy.org
SUMMARY:Tai Chi
DESCRIPTION:Instructor: Haiyan Fillutzy
URL:https://www.ashlandy.org/event/tai-chi-76/
LOCATION:Multi-Purpose Room
CATEGORIES:Group Ex-Schedule
END:VEVENT
BEGIN:VEVENT
DTSTART;TZID=America/New_York:20250502T100000
DTEND;TZID=America/New_York:20250502T110000
DTSTAMP:20260420T163507
CREATED:20250306T061805Z
LAST-MODIFIED:20250502T090941Z
UID:10003192-1746180000-1746183600@www.ashlandy.org
SUMMARY:SilverSneakers Classic
DESCRIPTION:Instructor: Sherry \nDescription: Have fun and move to the music through a variety of exercises designed to increase muscular strength\, range of movement\, and activities for daily living. Hand-held weights\, elastic tubing with handles\, and a SilverSneakers ball are offered for resistance.
URL:https://www.ashlandy.org/event/silversneakers-classic-115/
LOCATION:Multi-Purpose Room
CATEGORIES:Group Ex-Schedule
END:VEVENT
BEGIN:VEVENT
DTSTART;TZID=America/New_York:20250501T100000
DTEND;TZID=America/New_York:20250501T110000
DTSTAMP:20260420T163507
CREATED:20250305T054755Z
LAST-MODIFIED:20250501T083938Z
UID:10003182-1746093600-1746097200@www.ashlandy.org
SUMMARY:SilverSneakers Classic
DESCRIPTION:Instructor: Hannah  \nClass Description: Have fun and move to the music through a variety of exercises designed to increase muscular strength\, range of movement\, and activities for daily living. Hand-held weights\, elastic tubing with handles\, and a SilverSneakers ball are offered for resistance.
URL:https://www.ashlandy.org/event/silversneakers-classic-114/
LOCATION:Multi-Purpose Room
CATEGORIES:Group Ex-Schedule
END:VEVENT
BEGIN:VEVENT
DTSTART;TZID=America/New_York:20250501T083000
DTEND;TZID=America/New_York:20250501T093000
DTSTAMP:20260420T163507
CREATED:20250305T054754Z
LAST-MODIFIED:20250501T083937Z
UID:10003180-1746088200-1746091800@www.ashlandy.org
SUMMARY:Zumba
DESCRIPTION:Instructor: Erica  \nDescription: Each Dance/Zumba® class is designed to bring people together to sweat it on. We take the “work” out of a workout\, by mixing low-intensity and high-intensity moves for an interval-style\, calorie-burning dance fitness party. Once the Latin and World rhythms take over\, you’ll see why Dance/Zumba classes are often called exercise in disguise. Super effective? Check. Super fun? Check.
URL:https://www.ashlandy.org/event/zumba-180/
LOCATION:Multi-Purpose Room
CATEGORIES:Group Ex-Schedule
END:VEVENT
BEGIN:VEVENT
DTSTART;TZID=America/New_York:20250430T171500
DTEND;TZID=America/New_York:20250430T181500
DTSTAMP:20260420T163507
CREATED:20250304T051826Z
LAST-MODIFIED:20250425T054012Z
UID:10003173-1746033300-1746036900@www.ashlandy.org
SUMMARY:Pilates
DESCRIPTION:Instructor: Chelsea Uselton
URL:https://www.ashlandy.org/event/pilates-8/
LOCATION:Multi-Purpose Room
CATEGORIES:Group Ex-Schedule
END:VEVENT
BEGIN:VEVENT
DTSTART;TZID=America/New_York:20250430T100000
DTEND;TZID=America/New_York:20250430T110000
DTSTAMP:20260420T163507
CREATED:20250304T051826Z
LAST-MODIFIED:20250430T080940Z
UID:10003172-1746007200-1746010800@www.ashlandy.org
SUMMARY:SilverSneakers Boom Mind
DESCRIPTION:Instructor: Louise  \nDescription: Fusion class designed to relax your body and mind. The focus is on core muscles\, lower-body strength\, and balance.
URL:https://www.ashlandy.org/event/silversneakers-boom-mind-58/
LOCATION:Multi-Purpose Room
CATEGORIES:Group Ex-Schedule
END:VEVENT
BEGIN:VEVENT
DTSTART;TZID=America/New_York:20250430T091500
DTEND;TZID=America/New_York:20250430T094500
DTSTAMP:20260420T163507
CREATED:20250304T051825Z
LAST-MODIFIED:20250430T080939Z
UID:10003171-1746004500-1746006300@www.ashlandy.org
SUMMARY:Dance Fitness
DESCRIPTION:Instructor: Shelly \nDescription: A fun Aerobic workout for all fitness levels. It provides the ultimate fat burn with different intensities to motivating music.
URL:https://www.ashlandy.org/event/dance-fitness-68/
LOCATION:Multi-Purpose Room
CATEGORIES:Group Ex-Schedule
END:VEVENT
BEGIN:VEVENT
DTSTART;TZID=America/New_York:20250429T100000
DTEND;TZID=America/New_York:20250429T110000
DTSTAMP:20260420T163507
CREATED:20250302T041735Z
LAST-MODIFIED:20250429T073939Z
UID:10003163-1745920800-1745924400@www.ashlandy.org
SUMMARY:SilverSneakers Circuit
DESCRIPTION:Instructor: Sherry \nClass Description: SilverSneakers Circuit offers standing low-impact moves that alternate with standing upper-body strength. The class can be adapted for all fitness levels.
URL:https://www.ashlandy.org/event/silversneakers-circuit-56/
LOCATION:Multi-Purpose Room
CATEGORIES:Group Ex-Schedule
END:VEVENT
BEGIN:VEVENT
DTSTART;TZID=America/New_York:20250428T173000
DTEND;TZID=America/New_York:20250428T183000
DTSTAMP:20260420T163507
CREATED:20250301T034753Z
LAST-MODIFIED:20250428T070939Z
UID:10003152-1745861400-1745865000@www.ashlandy.org
SUMMARY:Zumba
DESCRIPTION:Instructor: Erica  \nDescription: Each Dance/Zumba® class is designed to bring people together to sweat it on. We take the “work” out of workout\, by mixing low-intensity and high-intensity moves for an interval-style\, calorie-burning dance fitness party. Once the Latin and World rhythms take over\, you’ll see why Dance/Zumba classes are often called exercise in disguise. Super effective? Check. Super fun? Check.
URL:https://www.ashlandy.org/event/zumba-179/
LOCATION:Multi-Purpose Room
CATEGORIES:Group Ex-Schedule
END:VEVENT
BEGIN:VEVENT
DTSTART;TZID=America/New_York:20250428T100000
DTEND;TZID=America/New_York:20250428T110000
DTSTAMP:20260420T163507
CREATED:20250301T034751Z
LAST-MODIFIED:20250428T070937Z
UID:10003150-1745834400-1745838000@www.ashlandy.org
SUMMARY:SilverSneakers Yoga
DESCRIPTION:Instructor: Christy  \nClass Description: Move through a complete series of seated and standing yoga poses while you enjoy restorative breathing exercises that promote stress reduction and mental clarity.
URL:https://www.ashlandy.org/event/silversneakers-yoga-56/
LOCATION:Multi-Purpose Room
CATEGORIES:Group Ex-Schedule
END:VEVENT
BEGIN:VEVENT
DTSTART;TZID=America/New_York:20250428T091000
DTEND;TZID=America/New_York:20250428T094500
DTSTAMP:20260420T163507
CREATED:20250228T031755Z
LAST-MODIFIED:20250428T070939Z
UID:10003146-1745831400-1745833500@www.ashlandy.org
SUMMARY:Total Body Strength
DESCRIPTION:Instructor: ShellyDescription: Work all muscle groups with a variety of strengthening and conditioning exercises. This athletic-based sculpting class tones upper and lower body using resistance like hand weights\, body bars and your own body weight.
URL:https://www.ashlandy.org/event/total-body-strength-56/
LOCATION:Multi-Purpose Room
CATEGORIES:Group Ex-Schedule
END:VEVENT
BEGIN:VEVENT
DTSTART;TZID=America/New_York:20250426T071500
DTEND;TZID=America/New_York:20250426T084500
DTSTAMP:20260420T163507
CREATED:20250228T031752Z
LAST-MODIFIED:20250426T060940Z
UID:10003140-1745651700-1745657100@www.ashlandy.org
SUMMARY:Tai Chi
DESCRIPTION:Instructor: Haiyan Fillutzy
URL:https://www.ashlandy.org/event/tai-chi-74/
LOCATION:Multi-Purpose Room
CATEGORIES:Group Ex-Schedule
END:VEVENT
BEGIN:VEVENT
DTSTART;TZID=America/New_York:20250425T100000
DTEND;TZID=America/New_York:20250425T110000
DTSTAMP:20260420T163507
CREATED:20250227T024755Z
LAST-MODIFIED:20250425T053936Z
UID:10003136-1745575200-1745578800@www.ashlandy.org
SUMMARY:SilverSneakers Classic
DESCRIPTION:Instructor: Sherry \nDescription: Have fun and move to the music through a variety of exercises designed to increase muscular strength\, range of movement\, and activities for daily living. Hand-held weights\, elastic tubing with handles\, and a SilverSneakers ball are offered for resistance.
URL:https://www.ashlandy.org/event/silversneakers-classic-113/
LOCATION:Multi-Purpose Room
CATEGORIES:Group Ex-Schedule
END:VEVENT
END:VCALENDAR