BEGIN:VCALENDAR
VERSION:2.0
PRODID:-//YMCA of Ashland, Ohio - ECPv6.5.0//NONSGML v1.0//EN
CALSCALE:GREGORIAN
METHOD:PUBLISH
X-ORIGINAL-URL:https://www.ashlandy.org
X-WR-CALDESC:Events for YMCA of Ashland, Ohio
REFRESH-INTERVAL;VALUE=DURATION:PT1H
X-Robots-Tag:noindex
X-PUBLISHED-TTL:PT1H
BEGIN:VTIMEZONE
TZID:America/New_York
BEGIN:DAYLIGHT
TZOFFSETFROM:-0500
TZOFFSETTO:-0400
TZNAME:EDT
DTSTART:20240310T070000
END:DAYLIGHT
BEGIN:STANDARD
TZOFFSETFROM:-0400
TZOFFSETTO:-0500
TZNAME:EST
DTSTART:20241103T060000
END:STANDARD
END:VTIMEZONE
BEGIN:VEVENT
DTSTART;TZID=America/New_York:20240606T100000
DTEND;TZID=America/New_York:20240606T110000
DTSTAMP:20260424T120549
CREATED:20240404T195053Z
LAST-MODIFIED:20240605T200937Z
UID:10000629-1717668000-1717671600@www.ashlandy.org
SUMMARY:SilverSneakers Classic
DESCRIPTION:Instructor: Hannah  \nClass Description: Have fun and move to the music through a variety of exercises designed to increase muscular strength\, range of movement\, and activities for daily living. Hand-held weights\, elastic tubing with handles\, and a SilverSneakers ball are offered for resistance.
URL:https://www.ashlandy.org/event/silversneakers-classic-20/
LOCATION:Multi-Purpose Room
CATEGORIES:Group Ex-Schedule
END:VEVENT
BEGIN:VEVENT
DTSTART;TZID=America/New_York:20240606T083000
DTEND;TZID=America/New_York:20240606T093000
DTSTAMP:20260424T120549
CREATED:20240404T195053Z
LAST-MODIFIED:20240605T200937Z
UID:10000628-1717662600-1717666200@www.ashlandy.org
SUMMARY:Zumba
DESCRIPTION:Instructor: Erica  \nDescription: Each Dance/Zumba® class is designed to bring people together to sweat it on. We take the “work” out of a workout\, by mixing low-intensity and high-intensity moves for an interval-style\, calorie-burning dance fitness party. Once the Latin and World rhythms take over\, you’ll see why Dance/Zumba classes are often called exercise in disguise. Super effective? Check. Super fun? Check.
URL:https://www.ashlandy.org/event/zumba-20/
LOCATION:Multi-Purpose Room
CATEGORIES:Group Ex-Schedule
END:VEVENT
BEGIN:VEVENT
DTSTART;TZID=America/New_York:20240605T100000
DTEND;TZID=America/New_York:20240605T110000
DTSTAMP:20260424T120549
CREATED:20240404T195051Z
LAST-MODIFIED:20240604T193946Z
UID:10000623-1717581600-1717585200@www.ashlandy.org
SUMMARY:SilverSneakers Boom Mind
DESCRIPTION:Instructor: Louise  \nDescription: Fusion class designed to relax your body and mind. The focus is on core muscles\, lower-body strength\, and balance.
URL:https://www.ashlandy.org/event/silversneakers-boom-mind-11/
LOCATION:Multi-Purpose Room
CATEGORIES:Group Ex-Schedule
END:VEVENT
BEGIN:VEVENT
DTSTART;TZID=America/New_York:20240605T091000
DTEND;TZID=America/New_York:20240605T094500
DTSTAMP:20260424T120549
CREATED:20240403T122401Z
LAST-MODIFIED:20240604T193945Z
UID:10000615-1717578600-1717580700@www.ashlandy.org
SUMMARY:Dance Fitness
DESCRIPTION:Instructor: Shelly \nDescription: A fun Aerobic workout for all fitness levels. It provides the ultimate fat burn with different intensities to motivating music.
URL:https://www.ashlandy.org/event/dance-fitness-11/
LOCATION:Multi-Purpose Room
CATEGORIES:Group Ex-Schedule
END:VEVENT
BEGIN:VEVENT
DTSTART;TZID=America/New_York:20240605T083000
DTEND;TZID=America/New_York:20240605T091500
DTSTAMP:20260424T120549
CREATED:20240404T195051Z
LAST-MODIFIED:20240507T160751Z
UID:10000624-1717576200-1717578900@www.ashlandy.org
SUMMARY:Circuit Training
DESCRIPTION:Instructor: Jennifer  \nDescription: Circuit training is a workout that involves rotating through various exercises targeting different parts of the body. Focusing on different muscle groups in a short amount of time is an effective exercise that can be incorporated into a healthy lifestyle. Come try it out!
URL:https://www.ashlandy.org/event/circuit-training-11/
LOCATION:Multi-Purpose Room
CATEGORIES:Group Ex-Schedule
END:VEVENT
BEGIN:VEVENT
DTSTART;TZID=America/New_York:20240604T173000
DTEND;TZID=America/New_York:20240604T183000
DTSTAMP:20260424T120549
CREATED:20240403T122400Z
LAST-MODIFIED:20240507T160750Z
UID:10000612-1717522200-1717525800@www.ashlandy.org
SUMMARY:Zumba Toning
DESCRIPTION:Instructor: Erica \nDescription: Follow the same party-inspired principles of an original Zumba class\, but with a little added resistance to help tone and sculpt the body. In a Zumba Toning class you’ll use very lightweight maraca-style shaker hand weights called Zumba toning sticks.
URL:https://www.ashlandy.org/event/zumba-toning-9/
LOCATION:Multi-Purpose Room
CATEGORIES:Group Ex-Schedule
END:VEVENT
BEGIN:VEVENT
DTSTART;TZID=America/New_York:20240604T100000
DTEND;TZID=America/New_York:20240604T110000
DTSTAMP:20260424T120549
CREATED:20240403T122400Z
LAST-MODIFIED:20240603T190441Z
UID:10000610-1717495200-1717498800@www.ashlandy.org
SUMMARY:SilverSneakers Circuit
DESCRIPTION:Instructor: Sherry \nClass Description: SilverSneakers Circuit offers standing low-impact moves that alternate with standing upper-body strength. The class can be adapted for all fitness levels.
URL:https://www.ashlandy.org/event/silversneakers-circuit-9/
LOCATION:Multi-Purpose Room
CATEGORIES:Group Ex-Schedule
END:VEVENT
BEGIN:VEVENT
DTSTART;TZID=America/New_York:20240603T173000
DTEND;TZID=America/New_York:20240603T183000
DTSTAMP:20260424T120549
CREATED:20240403T122358Z
LAST-MODIFIED:20240603T190439Z
UID:10000604-1717435800-1717439400@www.ashlandy.org
SUMMARY:Zumba
DESCRIPTION:Instructor: Erica  \nDescription: Each Dance/Zumba® class is designed to bring people together to sweat it on. We take the “work” out of workout\, by mixing low-intensity and high-intensity moves for an interval-style\, calorie-burning dance fitness party. Once the Latin and World rhythms take over\, you’ll see why Dance/Zumba classes are often called exercise in disguise. Super effective? Check. Super fun? Check.
URL:https://www.ashlandy.org/event/zumba-19/
LOCATION:Multi-Purpose Room
CATEGORIES:Group Ex-Schedule
END:VEVENT
BEGIN:VEVENT
DTSTART;TZID=America/New_York:20240603T100000
DTEND;TZID=America/New_York:20240603T110000
DTSTAMP:20260424T120549
CREATED:20240403T122357Z
LAST-MODIFIED:20240602T065236Z
UID:10000603-1717408800-1717412400@www.ashlandy.org
SUMMARY:SilverSneakers Yoga
DESCRIPTION:Instructor: Christy  \nClass Description: Move through a complete series of seated and standing yoga poses while you enjoy restorative breathing exercises that promote stress reduction and mental clarity.
URL:https://www.ashlandy.org/event/silversneakers-yoga-9/
LOCATION:Multi-Purpose Room
CATEGORIES:Group Ex-Schedule
END:VEVENT
BEGIN:VEVENT
DTSTART;TZID=America/New_York:20240603T091000
DTEND;TZID=America/New_York:20240603T094500
DTSTAMP:20260424T120549
CREATED:20240403T122357Z
LAST-MODIFIED:20240602T065236Z
UID:10000602-1717405800-1717407900@www.ashlandy.org
SUMMARY:Total Body Strength
DESCRIPTION:Instructor: ShellyDescription: Work all muscle groups with a variety of strengthening and conditioning exercises. This athletic-based sculpting class tones upper and lower body using resistance like hand weights\, body bars and your own body weight.
URL:https://www.ashlandy.org/event/total-body-strength-9/
LOCATION:Multi-Purpose Room
CATEGORIES:Group Ex-Schedule
END:VEVENT
BEGIN:VEVENT
DTSTART;TZID=America/New_York:20240601T090000
DTEND;TZID=America/New_York:20240601T100000
DTSTAMP:20260424T120549
CREATED:20240403T122356Z
LAST-MODIFIED:20240531T210644Z
UID:10000599-1717232400-1717236000@www.ashlandy.org
SUMMARY:YOGA
DESCRIPTION:Instructor: Louise  \nDescription: This class incorporates yoga postures\, gentle movement sequences\, breath work\, supported silent meditation\, and guided relaxation to support increased awareness and mindfulness of the breath and body\, and quieting of the nervous system.
URL:https://www.ashlandy.org/event/yoga-9/
LOCATION:Multi-Purpose Room
CATEGORIES:Group Ex-Schedule
END:VEVENT
BEGIN:VEVENT
DTSTART;TZID=America/New_York:20240531T100000
DTEND;TZID=America/New_York:20240531T110000
DTSTAMP:20260424T120549
CREATED:20240403T122353Z
LAST-MODIFIED:20240530T065200Z
UID:10000595-1717149600-1717153200@www.ashlandy.org
SUMMARY:SilverSneakers Classic
DESCRIPTION:Instructor: Sherry \nDescription: Have fun and move to the music through a variety of exercises designed to increase muscular strength\, range of movement\, and activities for daily living. Hand-held weights\, elastic tubing with handles\, and a SilverSneakers ball are offered for resistance.
URL:https://www.ashlandy.org/event/silversneakers-classic-19/
LOCATION:Multi-Purpose Room
CATEGORIES:Group Ex-Schedule
END:VEVENT
BEGIN:VEVENT
DTSTART;TZID=America/New_York:20240530T100000
DTEND;TZID=America/New_York:20240530T110000
DTSTAMP:20260424T120549
CREATED:20240403T122348Z
LAST-MODIFIED:20240530T065158Z
UID:10000589-1717063200-1717066800@www.ashlandy.org
SUMMARY:SilverSneakers Classic
DESCRIPTION:Instructor: Hannah  \nClass Description: Have fun and move to the music through a variety of exercises designed to increase muscular strength\, range of movement\, and activities for daily living. Hand-held weights\, elastic tubing with handles\, and a SilverSneakers ball are offered for resistance.
URL:https://www.ashlandy.org/event/silversneakers-classic-18/
LOCATION:Multi-Purpose Room
CATEGORIES:Group Ex-Schedule
END:VEVENT
BEGIN:VEVENT
DTSTART;TZID=America/New_York:20240530T083000
DTEND;TZID=America/New_York:20240530T093000
DTSTAMP:20260424T120549
CREATED:20240403T122350Z
LAST-MODIFIED:20240530T065158Z
UID:10000591-1717057800-1717061400@www.ashlandy.org
SUMMARY:Zumba
DESCRIPTION:Instructor: Erica  \nDescription: Each Dance/Zumba® class is designed to bring people together to sweat it on. We take the “work” out of a workout\, by mixing low-intensity and high-intensity moves for an interval-style\, calorie-burning dance fitness party. Once the Latin and World rhythms take over\, you’ll see why Dance/Zumba classes are often called exercise in disguise. Super effective? Check. Super fun? Check.
URL:https://www.ashlandy.org/event/zumba-18/
LOCATION:Multi-Purpose Room
CATEGORIES:Group Ex-Schedule
END:VEVENT
BEGIN:VEVENT
DTSTART;TZID=America/New_York:20240529T100000
DTEND;TZID=America/New_York:20240529T110000
DTSTAMP:20260424T120549
CREATED:20240403T122347Z
LAST-MODIFIED:20240528T123611Z
UID:10000586-1716976800-1716980400@www.ashlandy.org
SUMMARY:SilverSneakers Boom Mind
DESCRIPTION:Instructor: Louise  \nDescription: Fusion class designed to relax your body and mind. The focus is on core muscles\, lower-body strength\, and balance.
URL:https://www.ashlandy.org/event/silversneakers-boom-mind-10/
LOCATION:Multi-Purpose Room
CATEGORIES:Group Ex-Schedule
END:VEVENT
BEGIN:VEVENT
DTSTART;TZID=America/New_York:20240529T091000
DTEND;TZID=America/New_York:20240529T094500
DTSTAMP:20260424T120549
CREATED:20240403T122347Z
LAST-MODIFIED:20240528T123611Z
UID:10000585-1716973800-1716975900@www.ashlandy.org
SUMMARY:Dance Fitness
DESCRIPTION:Instructor: Shelly \nDescription: A fun Aerobic workout for all fitness levels. It provides the ultimate fat burn with different intensities to motivating music.
URL:https://www.ashlandy.org/event/dance-fitness-10/
LOCATION:Multi-Purpose Room
CATEGORIES:Group Ex-Schedule
END:VEVENT
BEGIN:VEVENT
DTSTART;TZID=America/New_York:20240529T083000
DTEND;TZID=America/New_York:20240529T091500
DTSTAMP:20260424T120549
CREATED:20240403T122346Z
LAST-MODIFIED:20240507T160657Z
UID:10000583-1716971400-1716974100@www.ashlandy.org
SUMMARY:Circuit Training
DESCRIPTION:Instructor: Jennifer  \nDescription: Circuit training is a workout that involves rotating through various exercises targeting different parts of the body. Focusing on different muscle groups in a short amount of time is an effective exercise that can be incorporated into a healthy lifestyle. Come try it out!
URL:https://www.ashlandy.org/event/circuit-training-10/
LOCATION:Multi-Purpose Room
CATEGORIES:Group Ex-Schedule
END:VEVENT
BEGIN:VEVENT
DTSTART;TZID=America/New_York:20240528T173000
DTEND;TZID=America/New_York:20240528T183000
DTSTAMP:20260424T120549
CREATED:20240403T122346Z
LAST-MODIFIED:20240507T160654Z
UID:10000581-1716917400-1716921000@www.ashlandy.org
SUMMARY:Zumba Toning
DESCRIPTION:Instructor: Erica \nDescription: Follow the same party-inspired principles of an original Zumba class\, but with a little added resistance to help tone and sculpt the body. In a Zumba Toning class you’ll use very lightweight maraca-style shaker hand weights called Zumba toning sticks.
URL:https://www.ashlandy.org/event/zumba-toning-8/
LOCATION:Multi-Purpose Room
CATEGORIES:Group Ex-Schedule
END:VEVENT
BEGIN:VEVENT
DTSTART;TZID=America/New_York:20240528T100000
DTEND;TZID=America/New_York:20240528T110000
DTSTAMP:20260424T120549
CREATED:20240403T122344Z
LAST-MODIFIED:20240528T123609Z
UID:10000574-1716890400-1716894000@www.ashlandy.org
SUMMARY:SilverSneakers Circuit
DESCRIPTION:Instructor: Sherry \nClass Description: SilverSneakers Circuit offers standing low-impact moves that alternate with standing upper-body strength. The class can be adapted for all fitness levels.
URL:https://www.ashlandy.org/event/silversneakers-circuit-8/
LOCATION:Multi-Purpose Room
CATEGORIES:Group Ex-Schedule
END:VEVENT
BEGIN:VEVENT
DTSTART;TZID=America/New_York:20240527T173000
DTEND;TZID=America/New_York:20240527T183000
DTSTAMP:20260424T120549
CREATED:20240403T122343Z
LAST-MODIFIED:20240527T064955Z
UID:10000571-1716831000-1716834600@www.ashlandy.org
SUMMARY:Zumba
DESCRIPTION:Instructor: Erica  \nDescription: Each Dance/Zumba® class is designed to bring people together to sweat it on. We take the “work” out of workout\, by mixing low-intensity and high-intensity moves for an interval-style\, calorie-burning dance fitness party. Once the Latin and World rhythms take over\, you’ll see why Dance/Zumba classes are often called exercise in disguise. Super effective? Check. Super fun? Check.
URL:https://www.ashlandy.org/event/zumba-17/
LOCATION:Multi-Purpose Room
CATEGORIES:Group Ex-Schedule
END:VEVENT
BEGIN:VEVENT
DTSTART;TZID=America/New_York:20240527T100000
DTEND;TZID=America/New_York:20240527T110000
DTSTAMP:20260424T120549
CREATED:20240403T122342Z
LAST-MODIFIED:20240527T064955Z
UID:10000570-1716804000-1716807600@www.ashlandy.org
SUMMARY:SilverSneakers Yoga
DESCRIPTION:Instructor: Christy  \nClass Description: Move through a complete series of seated and standing yoga poses while you enjoy restorative breathing exercises that promote stress reduction and mental clarity.
URL:https://www.ashlandy.org/event/silversneakers-yoga-8/
LOCATION:Multi-Purpose Room
CATEGORIES:Group Ex-Schedule
END:VEVENT
BEGIN:VEVENT
DTSTART;TZID=America/New_York:20240527T091000
DTEND;TZID=America/New_York:20240527T094500
DTSTAMP:20260424T120549
CREATED:20240403T122342Z
LAST-MODIFIED:20240527T064954Z
UID:10000569-1716801000-1716803100@www.ashlandy.org
SUMMARY:Total Body Strength
DESCRIPTION:Instructor: ShellyDescription: Work all muscle groups with a variety of strengthening and conditioning exercises. This athletic-based sculpting class tones upper and lower body using resistance like hand weights\, body bars and your own body weight.
URL:https://www.ashlandy.org/event/total-body-strength-8/
LOCATION:Multi-Purpose Room
CATEGORIES:Group Ex-Schedule
END:VEVENT
BEGIN:VEVENT
DTSTART;TZID=America/New_York:20240525T090000
DTEND;TZID=America/New_York:20240525T100000
DTSTAMP:20260424T120549
CREATED:20240403T122340Z
LAST-MODIFIED:20240525T065225Z
UID:10000566-1716627600-1716631200@www.ashlandy.org
SUMMARY:YOGA
DESCRIPTION:Instructor: Louise  \nDescription: This class incorporates yoga postures\, gentle movement sequences\, breath work\, supported silent meditation\, and guided relaxation to support increased awareness and mindfulness of the breath and body\, and quieting of the nervous system.
URL:https://www.ashlandy.org/event/yoga-8/
LOCATION:Multi-Purpose Room
CATEGORIES:Group Ex-Schedule
END:VEVENT
BEGIN:VEVENT
DTSTART;TZID=America/New_York:20240524T100000
DTEND;TZID=America/New_York:20240524T110000
DTSTAMP:20260424T120549
CREATED:20240403T122336Z
LAST-MODIFIED:20240523T183857Z
UID:10000560-1716544800-1716548400@www.ashlandy.org
SUMMARY:SilverSneakers Classic
DESCRIPTION:Instructor: Sherry \nDescription: Have fun and move to the music through a variety of exercises designed to increase muscular strength\, range of movement\, and activities for daily living. Hand-held weights\, elastic tubing with handles\, and a SilverSneakers ball are offered for resistance.
URL:https://www.ashlandy.org/event/silversneakers-classic-17/
LOCATION:Multi-Purpose Room
CATEGORIES:Group Ex-Schedule
END:VEVENT
BEGIN:VEVENT
DTSTART;TZID=America/New_York:20240523T100000
DTEND;TZID=America/New_York:20240523T110000
DTSTAMP:20260424T120549
CREATED:20240403T122335Z
LAST-MODIFIED:20240522T174534Z
UID:10000557-1716458400-1716462000@www.ashlandy.org
SUMMARY:SilverSneakers Classic
DESCRIPTION:Instructor: Hannah  \nClass Description: Have fun and move to the music through a variety of exercises designed to increase muscular strength\, range of movement\, and activities for daily living. Hand-held weights\, elastic tubing with handles\, and a SilverSneakers ball are offered for resistance.
URL:https://www.ashlandy.org/event/silversneakers-classic-16/
LOCATION:Multi-Purpose Room
CATEGORIES:Group Ex-Schedule
END:VEVENT
BEGIN:VEVENT
DTSTART;TZID=America/New_York:20240523T083000
DTEND;TZID=America/New_York:20240523T093000
DTSTAMP:20260424T120549
CREATED:20240403T122335Z
LAST-MODIFIED:20240522T174533Z
UID:10000556-1716453000-1716456600@www.ashlandy.org
SUMMARY:Zumba
DESCRIPTION:Instructor: Erica  \nDescription: Each Dance/Zumba® class is designed to bring people together to sweat it on. We take the “work” out of a workout\, by mixing low-intensity and high-intensity moves for an interval-style\, calorie-burning dance fitness party. Once the Latin and World rhythms take over\, you’ll see why Dance/Zumba classes are often called exercise in disguise. Super effective? Check. Super fun? Check.
URL:https://www.ashlandy.org/event/zumba-16/
LOCATION:Multi-Purpose Room
CATEGORIES:Group Ex-Schedule
END:VEVENT
BEGIN:VEVENT
DTSTART;TZID=America/New_York:20240522T100000
DTEND;TZID=America/New_York:20240522T110000
DTSTAMP:20260424T120549
CREATED:20240403T122333Z
LAST-MODIFIED:20240521T172345Z
UID:10000552-1716372000-1716375600@www.ashlandy.org
SUMMARY:SilverSneakers Boom Mind
DESCRIPTION:Instructor: Louise  \nDescription: Fusion class designed to relax your body and mind. The focus is on core muscles\, lower-body strength\, and balance.
URL:https://www.ashlandy.org/event/silversneakers-boom-mind-9/
LOCATION:Multi-Purpose Room
CATEGORIES:Group Ex-Schedule
END:VEVENT
BEGIN:VEVENT
DTSTART;TZID=America/New_York:20240522T091000
DTEND;TZID=America/New_York:20240522T094500
DTSTAMP:20260424T120549
CREATED:20240403T122333Z
LAST-MODIFIED:20240521T172344Z
UID:10000551-1716369000-1716371100@www.ashlandy.org
SUMMARY:Dance Fitness
DESCRIPTION:Instructor: Shelly \nDescription: A fun Aerobic workout for all fitness levels. It provides the ultimate fat burn with different intensities to motivating music.
URL:https://www.ashlandy.org/event/dance-fitness-9/
LOCATION:Multi-Purpose Room
CATEGORIES:Group Ex-Schedule
END:VEVENT
BEGIN:VEVENT
DTSTART;TZID=America/New_York:20240522T083000
DTEND;TZID=America/New_York:20240522T091500
DTSTAMP:20260424T120549
CREATED:20240403T122332Z
LAST-MODIFIED:20240507T160607Z
UID:10000550-1716366600-1716369300@www.ashlandy.org
SUMMARY:Circuit Training
DESCRIPTION:Instructor: Jennifer  \nDescription: Circuit training is a workout that involves rotating through various exercises targeting different parts of the body. Focusing on different muscle groups in a short amount of time is an effective exercise that can be incorporated into a healthy lifestyle. Come try it out!
URL:https://www.ashlandy.org/event/circuit-training-9/
LOCATION:Multi-Purpose Room
CATEGORIES:Group Ex-Schedule
END:VEVENT
BEGIN:VEVENT
DTSTART;TZID=America/New_York:20240521T173000
DTEND;TZID=America/New_York:20240521T183000
DTSTAMP:20260424T120549
CREATED:20240403T122331Z
LAST-MODIFIED:20240507T160553Z
UID:10000546-1716312600-1716316200@www.ashlandy.org
SUMMARY:Zumba Toning
DESCRIPTION:Instructor: Erica \nDescription: Follow the same party-inspired principles of an original Zumba class\, but with a little added resistance to help tone and sculpt the body. In a Zumba Toning class you’ll use very lightweight maraca-style shaker hand weights called Zumba toning sticks.
URL:https://www.ashlandy.org/event/zumba-toning-7/
LOCATION:Multi-Purpose Room
CATEGORIES:Group Ex-Schedule
END:VEVENT
END:VCALENDAR