BEGIN:VCALENDAR
VERSION:2.0
PRODID:-//YMCA of Ashland, Ohio - ECPv6.5.0//NONSGML v1.0//EN
CALSCALE:GREGORIAN
METHOD:PUBLISH
X-WR-CALNAME:YMCA of Ashland, Ohio
X-ORIGINAL-URL:https://www.ashlandy.org
X-WR-CALDESC:Events for YMCA of Ashland, Ohio
REFRESH-INTERVAL;VALUE=DURATION:PT1H
X-Robots-Tag:noindex
X-PUBLISHED-TTL:PT1H
BEGIN:VTIMEZONE
TZID:America/New_York
BEGIN:DAYLIGHT
TZOFFSETFROM:-0500
TZOFFSETTO:-0400
TZNAME:EDT
DTSTART:20240310T070000
END:DAYLIGHT
BEGIN:STANDARD
TZOFFSETFROM:-0400
TZOFFSETTO:-0500
TZNAME:EST
DTSTART:20241103T060000
END:STANDARD
END:VTIMEZONE
BEGIN:VEVENT
DTSTART;TZID=America/New_York:20240418T100000
DTEND;TZID=America/New_York:20240418T110000
DTSTAMP:20260424T232507
CREATED:20240403T122219Z
LAST-MODIFIED:20240418T140742Z
UID:10000392-1713434400-1713438000@www.ashlandy.org
SUMMARY:SilverSneakers Classic
DESCRIPTION:Instructor: Hannah  \nClass Description: Have fun and move to the music through a variety of exercises designed to increase muscular strength\, range of movement\, and activities for daily living. Hand-held weights\, elastic tubing with handles\, and a SilverSneakers ball are offered for resistance.
URL:https://www.ashlandy.org/event/silversneakers-classic-6/
LOCATION:Multi-Purpose Room
CATEGORIES:Group Ex-Schedule
END:VEVENT
BEGIN:VEVENT
DTSTART;TZID=America/New_York:20240418T083000
DTEND;TZID=America/New_York:20240418T093000
DTSTAMP:20260424T232507
CREATED:20240403T122219Z
LAST-MODIFIED:20240417T071603Z
UID:10000391-1713429000-1713432600@www.ashlandy.org
SUMMARY:Zumba
DESCRIPTION:Instructor: Erica  \nDescription: Each Dance/Zumba® class is designed to bring people together to sweat it on. We take the “work” out of a workout\, by mixing low-intensity and high-intensity moves for an interval-style\, calorie-burning dance fitness party. Once the Latin and World rhythms take over\, you’ll see why Dance/Zumba classes are often called exercise in disguise. Super effective? Check. Super fun? Check.
URL:https://www.ashlandy.org/event/zumba-6/
LOCATION:Multi-Purpose Room
CATEGORIES:Group Ex-Schedule
END:VEVENT
BEGIN:VEVENT
DTSTART;TZID=America/New_York:20240417T100000
DTEND;TZID=America/New_York:20240417T110000
DTSTAMP:20260424T232507
CREATED:20240403T122218Z
LAST-MODIFIED:20240417T071600Z
UID:10000388-1713348000-1713351600@www.ashlandy.org
SUMMARY:SilverSneakers Boom Mind
DESCRIPTION:Instructor: Louise  \nDescription: Fusion class designed to relax your body and mind. The focus is on core muscles\, lower-body strength\, and balance.
URL:https://www.ashlandy.org/event/silversneakers-boom-mind-4/
LOCATION:Multi-Purpose Room
CATEGORIES:Group Ex-Schedule
END:VEVENT
BEGIN:VEVENT
DTSTART;TZID=America/New_York:20240417T091000
DTEND;TZID=America/New_York:20240417T094500
DTSTAMP:20260424T232507
CREATED:20240403T122217Z
LAST-MODIFIED:20240417T071559Z
UID:10000387-1713345000-1713347100@www.ashlandy.org
SUMMARY:Dance Fitness
DESCRIPTION:Instructor: Shelly \nDescription: A fun Aerobic workout for all fitness levels. It provides the ultimate fat burn with different intensities to motivating music.
URL:https://www.ashlandy.org/event/dance-fitness-4/
LOCATION:Multi-Purpose Room
CATEGORIES:Group Ex-Schedule
END:VEVENT
BEGIN:VEVENT
DTSTART;TZID=America/New_York:20240417T083000
DTEND;TZID=America/New_York:20240417T091500
DTSTAMP:20260424T232507
CREATED:20240403T122216Z
LAST-MODIFIED:20240417T071556Z
UID:10000384-1713342600-1713345300@www.ashlandy.org
SUMMARY:Circuit Training
DESCRIPTION:Instructor: Jennifer  \nDescription: Circuit training is a workout that involves rotating through various exercises targeting different parts of the body. Focusing on different muscle groups in a short amount of time is an effective exercise that can be incorporated into a healthy lifestyle. Come try it out!
URL:https://www.ashlandy.org/event/circuit-training-4/
LOCATION:Multi-Purpose Room
CATEGORIES:Group Ex-Schedule
END:VEVENT
BEGIN:VEVENT
DTSTART;TZID=America/New_York:20240416T173000
DTEND;TZID=America/New_York:20240416T183000
DTSTAMP:20260424T232507
CREATED:20240403T122215Z
LAST-MODIFIED:20240416T065158Z
UID:10000381-1713288600-1713292200@www.ashlandy.org
SUMMARY:Zumba Toning
DESCRIPTION:Instructor: Erica \nDescription: Follow the same party-inspired principles of an original Zumba class\, but with a little added resistance to help tone and sculpt the body. In a Zumba Toning class you’ll use very lightweight maraca-style shaker hand weights called Zumba toning sticks.
URL:https://www.ashlandy.org/event/zumba-toning-2/
LOCATION:Multi-Purpose Room
CATEGORIES:Group Ex-Schedule
END:VEVENT
BEGIN:VEVENT
DTSTART;TZID=America/New_York:20240416T100000
DTEND;TZID=America/New_York:20240416T110000
DTSTAMP:20260424T232507
CREATED:20240403T122214Z
LAST-MODIFIED:20240416T065157Z
UID:10000378-1713261600-1713265200@www.ashlandy.org
SUMMARY:SilverSneakers Circuit
DESCRIPTION:Instructor: Sherry \nClass Description: SilverSneakers Circuit offers standing low-impact moves that alternate with standing upper-body strength. The class can be adapted for all fitness levels.
URL:https://www.ashlandy.org/event/silversneakers-circuit-2/
LOCATION:Multi-Purpose Room
CATEGORIES:Group Ex-Schedule
END:VEVENT
BEGIN:VEVENT
DTSTART;TZID=America/New_York:20240415T173000
DTEND;TZID=America/New_York:20240415T183000
DTSTAMP:20260424T232507
CREATED:20240403T122211Z
LAST-MODIFIED:20240414T165639Z
UID:10000373-1713202200-1713205800@www.ashlandy.org
SUMMARY:Zumba
DESCRIPTION:Instructor: Erica  \nDescription: Each Dance/Zumba® class is designed to bring people together to sweat it on. We take the “work” out of workout\, by mixing low-intensity and high-intensity moves for an interval-style\, calorie-burning dance fitness party. Once the Latin and World rhythms take over\, you’ll see why Dance/Zumba classes are often called exercise in disguise. Super effective? Check. Super fun? Check.
URL:https://www.ashlandy.org/event/zumba-5/
LOCATION:Multi-Purpose Room
CATEGORIES:Group Ex-Schedule
END:VEVENT
BEGIN:VEVENT
DTSTART;TZID=America/New_York:20240415T100000
DTEND;TZID=America/New_York:20240415T110000
DTSTAMP:20260424T232507
CREATED:20240403T122210Z
LAST-MODIFIED:20240414T165638Z
UID:10000372-1713175200-1713178800@www.ashlandy.org
SUMMARY:SilverSneakers Yoga
DESCRIPTION:Instructor: Christy  \nClass Description: Move through a complete series of seated and standing yoga poses while you enjoy restorative breathing exercises that promote stress reduction and mental clarity.
URL:https://www.ashlandy.org/event/silversneakers-yoga-2/
LOCATION:Multi-Purpose Room
CATEGORIES:Group Ex-Schedule
END:VEVENT
BEGIN:VEVENT
DTSTART;TZID=America/New_York:20240415T091000
DTEND;TZID=America/New_York:20240415T094500
DTSTAMP:20260424T232507
CREATED:20240403T122209Z
LAST-MODIFIED:20240414T165638Z
UID:10000371-1713172200-1713174300@www.ashlandy.org
SUMMARY:Total Body Strength
DESCRIPTION:Instructor: ShellyDescription: Work all muscle groups with a variety of strengthening and conditioning exercises. This athletic-based sculpting class tones upper and lower body using resistance like hand weights\, body bars and your own body weight.
URL:https://www.ashlandy.org/event/total-body-strength-2/
LOCATION:Multi-Purpose Room
CATEGORIES:Group Ex-Schedule
END:VEVENT
BEGIN:VEVENT
DTSTART;TZID=America/New_York:20240413T090000
DTEND;TZID=America/New_York:20240413T100000
DTSTAMP:20260424T232507
CREATED:20240403T122205Z
LAST-MODIFIED:20240412T155552Z
UID:10000367-1712998800-1713002400@www.ashlandy.org
SUMMARY:YOGA
DESCRIPTION:Instructor: Louise  \nDescription: This class incorporates yoga postures\, gentle movement sequences\, breath work\, supported silent meditation\, and guided relaxation to support increased awareness and mindfulness of the breath and body\, and quieting of the nervous system.
URL:https://www.ashlandy.org/event/yoga-2/
LOCATION:Multi-Purpose Room
CATEGORIES:Group Ex-Schedule
END:VEVENT
BEGIN:VEVENT
DTSTART;TZID=America/New_York:20240412T100000
DTEND;TZID=America/New_York:20240412T110000
DTSTAMP:20260424T232507
CREATED:20240403T122159Z
LAST-MODIFIED:20240412T065518Z
UID:10000364-1712916000-1712919600@www.ashlandy.org
SUMMARY:SilverSneakers Classic
DESCRIPTION:Instructor: Sherry \nDescription: Have fun and move to the music through a variety of exercises designed to increase muscular strength\, range of movement\, and activities for daily living. Hand-held weights\, elastic tubing with handles\, and a SilverSneakers ball are offered for resistance.
URL:https://www.ashlandy.org/event/silversneakers-classic-5/
LOCATION:Multi-Purpose Room
CATEGORIES:Group Ex-Schedule
END:VEVENT
BEGIN:VEVENT
DTSTART;TZID=America/New_York:20240411T100000
DTEND;TZID=America/New_York:20240411T110000
DTSTAMP:20260424T232507
CREATED:20240403T122155Z
LAST-MODIFIED:20240411T030206Z
UID:10000359-1712829600-1712833200@www.ashlandy.org
SUMMARY:SilverSneakers Classic
DESCRIPTION:Instructor: Hannah  \nClass Description: Have fun and move to the music through a variety of exercises designed to increase muscular strength\, range of movement\, and activities for daily living. Hand-held weights\, elastic tubing with handles\, and a SilverSneakers ball are offered for resistance.
URL:https://www.ashlandy.org/event/silversneakers-classic-4/
LOCATION:Multi-Purpose Room
CATEGORIES:Group Ex-Schedule
END:VEVENT
BEGIN:VEVENT
DTSTART;TZID=America/New_York:20240411T083000
DTEND;TZID=America/New_York:20240411T093000
DTSTAMP:20260424T232507
CREATED:20240403T122155Z
LAST-MODIFIED:20240411T030205Z
UID:10000358-1712824200-1712827800@www.ashlandy.org
SUMMARY:Zumba
DESCRIPTION:Instructor: Erica  \nDescription: Each Dance/Zumba® class is designed to bring people together to sweat it on. We take the “work” out of a workout\, by mixing low-intensity and high-intensity moves for an interval-style\, calorie-burning dance fitness party. Once the Latin and World rhythms take over\, you’ll see why Dance/Zumba classes are often called exercise in disguise. Super effective? Check. Super fun? Check.
URL:https://www.ashlandy.org/event/zumba-4/
LOCATION:Multi-Purpose Room
CATEGORIES:Group Ex-Schedule
END:VEVENT
BEGIN:VEVENT
DTSTART;TZID=America/New_York:20240410T100000
DTEND;TZID=America/New_York:20240410T110000
DTSTAMP:20260424T232507
CREATED:20240403T122153Z
LAST-MODIFIED:20240409T172742Z
UID:10000354-1712743200-1712746800@www.ashlandy.org
SUMMARY:SilverSneakers Boom Mind
DESCRIPTION:Instructor: Louise  \nDescription: Fusion class designed to relax your body and mind. The focus is on core muscles\, lower-body strength\, and balance.
URL:https://www.ashlandy.org/event/silversneakers-boom-mind-3/
LOCATION:Multi-Purpose Room
CATEGORIES:Group Ex-Schedule
END:VEVENT
BEGIN:VEVENT
DTSTART;TZID=America/New_York:20240410T091000
DTEND;TZID=America/New_York:20240410T094500
DTSTAMP:20260424T232507
CREATED:20240403T122153Z
LAST-MODIFIED:20240409T172742Z
UID:10000353-1712740200-1712742300@www.ashlandy.org
SUMMARY:Dance Fitness
DESCRIPTION:Instructor: Shelly \nDescription: A fun Aerobic workout for all fitness levels. It provides the ultimate fat burn with different intensities to motivating music.
URL:https://www.ashlandy.org/event/dance-fitness-3/
LOCATION:Multi-Purpose Room
CATEGORIES:Group Ex-Schedule
END:VEVENT
BEGIN:VEVENT
DTSTART;TZID=America/New_York:20240410T083000
DTEND;TZID=America/New_York:20240410T091500
DTSTAMP:20260424T232507
CREATED:20240403T122152Z
LAST-MODIFIED:20240409T172740Z
UID:10000351-1712737800-1712740500@www.ashlandy.org
SUMMARY:Circuit Training
DESCRIPTION:Instructor: Jennifer  \nDescription: Circuit training is a workout that involves rotating through various exercises targeting different parts of the body. Focusing on different muscle groups in a short amount of time is an effective exercise that can be incorporated into a healthy lifestyle. Come try it out!
URL:https://www.ashlandy.org/event/circuit-training-3/
LOCATION:Multi-Purpose Room
CATEGORIES:Group Ex-Schedule
END:VEVENT
BEGIN:VEVENT
DTSTART;TZID=America/New_York:20240409T173000
DTEND;TZID=America/New_York:20240409T183000
DTSTAMP:20260424T232507
CREATED:20240403T122152Z
LAST-MODIFIED:20240409T172740Z
UID:10000350-1712683800-1712687400@www.ashlandy.org
SUMMARY:Zumba Toning
DESCRIPTION:Instructor: Erica \nDescription: Follow the same party-inspired principles of an original Zumba class\, but with a little added resistance to help tone and sculpt the body. In a Zumba Toning class you’ll use very lightweight maraca-style shaker hand weights called Zumba toning sticks.
URL:https://www.ashlandy.org/event/zumba-toning/
LOCATION:Multi-Purpose Room
CATEGORIES:Group Ex-Schedule
END:VEVENT
BEGIN:VEVENT
DTSTART;TZID=America/New_York:20240409T100000
DTEND;TZID=America/New_York:20240409T110000
DTSTAMP:20260424T232507
CREATED:20240403T122150Z
LAST-MODIFIED:20240408T071004Z
UID:10000344-1712656800-1712660400@www.ashlandy.org
SUMMARY:SilverSneakers Circuit
DESCRIPTION:Instructor: Sherry \nClass Description: SilverSneakers Circuit offers standing low-impact moves that alternate with standing upper-body strength. The class can be adapted for all fitness levels.
URL:https://www.ashlandy.org/event/silversneakers-circuit/
LOCATION:Multi-Purpose Room
CATEGORIES:Group Ex-Schedule
END:VEVENT
BEGIN:VEVENT
DTSTART;TZID=America/New_York:20240408T173000
DTEND;TZID=America/New_York:20240408T183000
DTSTAMP:20260424T232507
CREATED:20240403T122149Z
LAST-MODIFIED:20240408T070947Z
UID:10000341-1712597400-1712601000@www.ashlandy.org
SUMMARY:Zumba
DESCRIPTION:Instructor: Erica  \nDescription: Each Dance/Zumba® class is designed to bring people together to sweat it on. We take the “work” out of workout\, by mixing low-intensity and high-intensity moves for an interval-style\, calorie-burning dance fitness party. Once the Latin and World rhythms take over\, you’ll see why Dance/Zumba classes are often called exercise in disguise. Super effective? Check. Super fun? Check.
URL:https://www.ashlandy.org/event/zumba-3/
LOCATION:Multi-Purpose Room
CATEGORIES:Group Ex-Schedule
END:VEVENT
BEGIN:VEVENT
DTSTART;TZID=America/New_York:20240408T100000
DTEND;TZID=America/New_York:20240408T110000
DTSTAMP:20260424T232507
CREATED:20240403T122148Z
LAST-MODIFIED:20240408T070945Z
UID:10000339-1712570400-1712574000@www.ashlandy.org
SUMMARY:SilverSneakers Yoga
DESCRIPTION:Instructor: Christy  \nClass Description: Move through a complete series of seated and standing yoga poses while you enjoy restorative breathing exercises that promote stress reduction and mental clarity.
URL:https://www.ashlandy.org/event/silversneakers-yoga/
LOCATION:Multi-Purpose Room
CATEGORIES:Group Ex-Schedule
END:VEVENT
BEGIN:VEVENT
DTSTART;TZID=America/New_York:20240408T091000
DTEND;TZID=America/New_York:20240408T094500
DTSTAMP:20260424T232507
CREATED:20240403T122148Z
LAST-MODIFIED:20240408T070945Z
UID:10000338-1712567400-1712569500@www.ashlandy.org
SUMMARY:Total Body Strength
DESCRIPTION:Instructor: ShellyDescription: Work all muscle groups with a variety of strengthening and conditioning exercises. This athletic-based sculpting class tones upper and lower body using resistance like hand weights\, body bars and your own body weight.
URL:https://www.ashlandy.org/event/total-body-strength/
LOCATION:Multi-Purpose Room
CATEGORIES:Group Ex-Schedule
END:VEVENT
BEGIN:VEVENT
DTSTART;TZID=America/New_York:20240406T090000
DTEND;TZID=America/New_York:20240406T100000
DTSTAMP:20260424T232507
CREATED:20240403T122147Z
LAST-MODIFIED:20240406T065418Z
UID:10000335-1712394000-1712397600@www.ashlandy.org
SUMMARY:YOGA
DESCRIPTION:Instructor: Louise  \nDescription: This class incorporates yoga postures\, gentle movement sequences\, breath work\, supported silent meditation\, and guided relaxation to support increased awareness and mindfulness of the breath and body\, and quieting of the nervous system.
URL:https://www.ashlandy.org/event/yoga/
LOCATION:Multi-Purpose Room
CATEGORIES:Group Ex-Schedule
END:VEVENT
BEGIN:VEVENT
DTSTART;TZID=America/New_York:20240405T100000
DTEND;TZID=America/New_York:20240405T110000
DTSTAMP:20260424T232507
CREATED:20240403T122146Z
LAST-MODIFIED:20240404T194832Z
UID:10000332-1712311200-1712314800@www.ashlandy.org
SUMMARY:SilverSneakers Classic
DESCRIPTION:Instructor: Sherry \nDescription: Have fun and move to the music through a variety of exercises designed to increase muscular strength\, range of movement\, and activities for daily living. Hand-held weights\, elastic tubing with handles\, and a SilverSneakers ball are offered for resistance.
URL:https://www.ashlandy.org/event/silversneakers-classic-3/
LOCATION:Multi-Purpose Room
CATEGORIES:Group Ex-Schedule
END:VEVENT
BEGIN:VEVENT
DTSTART;TZID=America/New_York:20240404T100000
DTEND;TZID=America/New_York:20240404T110000
DTSTAMP:20260424T232507
CREATED:20240403T122144Z
LAST-MODIFIED:20240403T122144Z
UID:10000317-1712224800-1712228400@www.ashlandy.org
SUMMARY:SilverSneakers Classic
DESCRIPTION:Instructor: Hannah  \nClass Description: Have fun and move to the music through a variety of exercises designed to increase muscular strength\, range of movement\, and activities for daily living. Hand-held weights\, elastic tubing with handles\, and a SilverSneakers ball are offered for resistance.
URL:https://www.ashlandy.org/event/silversneakers-classic/
LOCATION:Multi-Purpose Room
CATEGORIES:Group Ex-Schedule
END:VEVENT
BEGIN:VEVENT
DTSTART;TZID=America/New_York:20240404T100000
DTEND;TZID=America/New_York:20240404T110000
DTSTAMP:20260424T232507
CREATED:20240403T122144Z
LAST-MODIFIED:20240403T122144Z
UID:10000327-1712224800-1712228400@www.ashlandy.org
SUMMARY:SilverSneakers Classic
DESCRIPTION:Instructor: Hannah  \nClass Description: Have fun and move to the music through a variety of exercises designed to increase muscular strength\, range of movement\, and activities for daily living. Hand-held weights\, elastic tubing with handles\, and a SilverSneakers ball are offered for resistance.
URL:https://www.ashlandy.org/event/silversneakers-classic-2/
LOCATION:Multi-Purpose Room
CATEGORIES:Group Ex-Schedule
END:VEVENT
BEGIN:VEVENT
DTSTART;TZID=America/New_York:20240404T083000
DTEND;TZID=America/New_York:20240404T093000
DTSTAMP:20260424T232507
CREATED:20240403T122144Z
LAST-MODIFIED:20240403T122144Z
UID:10000315-1712219400-1712223000@www.ashlandy.org
SUMMARY:Zumba
DESCRIPTION:Instructor: Erica  \nDescription: Each Dance/Zumba® class is designed to bring people together to sweat it on. We take the “work” out of a workout\, by mixing low-intensity and high-intensity moves for an interval-style\, calorie-burning dance fitness party. Once the Latin and World rhythms take over\, you’ll see why Dance/Zumba classes are often called exercise in disguise. Super effective? Check. Super fun? Check.
URL:https://www.ashlandy.org/event/zumba/
LOCATION:Multi-Purpose Room
CATEGORIES:Group Ex-Schedule
END:VEVENT
BEGIN:VEVENT
DTSTART;TZID=America/New_York:20240404T083000
DTEND;TZID=America/New_York:20240404T093000
DTSTAMP:20260424T232507
CREATED:20240403T122144Z
LAST-MODIFIED:20240403T122144Z
UID:10000325-1712219400-1712223000@www.ashlandy.org
SUMMARY:Zumba
DESCRIPTION:Instructor: Erica  \nDescription: Each Dance/Zumba® class is designed to bring people together to sweat it on. We take the “work” out of a workout\, by mixing low-intensity and high-intensity moves for an interval-style\, calorie-burning dance fitness party. Once the Latin and World rhythms take over\, you’ll see why Dance/Zumba classes are often called exercise in disguise. Super effective? Check. Super fun? Check.
URL:https://www.ashlandy.org/event/zumba-2/
LOCATION:Multi-Purpose Room
CATEGORIES:Group Ex-Schedule
END:VEVENT
BEGIN:VEVENT
DTSTART;TZID=America/New_York:20240403T100000
DTEND;TZID=America/New_York:20240403T110000
DTSTAMP:20260424T232507
CREATED:20240403T122143Z
LAST-MODIFIED:20240403T122143Z
UID:10000312-1712138400-1712142000@www.ashlandy.org
SUMMARY:SilverSneakers Boom Mind
DESCRIPTION:Instructor: Louise  \nDescription: Fusion class designed to relax your body and mind. The focus is on core muscles\, lower-body strength\, and balance.
URL:https://www.ashlandy.org/event/silversneakers-boom-mind/
LOCATION:Multi-Purpose Room
CATEGORIES:Group Ex-Schedule
END:VEVENT
BEGIN:VEVENT
DTSTART;TZID=America/New_York:20240403T100000
DTEND;TZID=America/New_York:20240403T110000
DTSTAMP:20260424T232507
CREATED:20240403T122143Z
LAST-MODIFIED:20240403T122143Z
UID:10000322-1712138400-1712142000@www.ashlandy.org
SUMMARY:SilverSneakers Boom Mind
DESCRIPTION:Instructor: Louise  \nDescription: Fusion class designed to relax your body and mind. The focus is on core muscles\, lower-body strength\, and balance.
URL:https://www.ashlandy.org/event/silversneakers-boom-mind-2/
LOCATION:Multi-Purpose Room
CATEGORIES:Group Ex-Schedule
END:VEVENT
END:VCALENDAR